BEGIN:VCALENDAR
VERSION:2.0
PRODID:-//Be MAD! Magazín pro hostesky &amp; modelky - ECPv6.6.0.2//NONSGML v1.0//EN
CALSCALE:GREGORIAN
METHOD:PUBLISH
X-ORIGINAL-URL:https://bemad.cz
X-WR-CALDESC:Akce na Be MAD! Magazín pro hostesky &amp; modelky
REFRESH-INTERVAL;VALUE=DURATION:PT1H
X-Robots-Tag:noindex
X-PUBLISHED-TTL:PT1H
BEGIN:VTIMEZONE
TZID:Europe/Paris
BEGIN:DAYLIGHT
TZOFFSETFROM:+0100
TZOFFSETTO:+0200
TZNAME:CEST
DTSTART:20180325T010000
END:DAYLIGHT
BEGIN:STANDARD
TZOFFSETFROM:+0200
TZOFFSETTO:+0100
TZNAME:CET
DTSTART:20181028T010000
END:STANDARD
END:VTIMEZONE
BEGIN:VEVENT
DTSTART;TZID=Europe/Paris:20181014T120000
DTEND;TZID=Europe/Paris:20181014T153000
DTSTAMP:20260426T032409
CREATED:20181004T120314Z
LAST-MODIFIED:20181004T120402Z
UID:4800-1539518400-1539531000@bemad.cz
SUMMARY:Brigáda: 3 krásné hostesky BRATISLAVA - setkání s fotbalisty
DESCRIPTION:Společnost České modelky s.r.o. hledá 3 komunikativní hostesky v Bratislave na pobočke AAA Auto – Stretnutie s futbalistami národného tímu SK \nKdy? 14.10.2018 \nČas? 12:00-15:20 \nKde? v Bratislave na pobočke AAA Auto – Panónska 39 \nNáplň práce?  Rozdávání letáčků\, dárečků\, balónků\, welcome drinky apod. \nPožadavky? pekné \, usmievavé a komunikatívne hostesky – budú v kontakte aj s deťmi \nHonorář ? 5\,5 €/hod. čistého \n V případě zájmu zašlete svou fotografii a svůj telefon na email  produkce@ceskemodelky.cz a do předmětu uveďte „Hosteska AAA BRATISLAVA “ \n \n 
URL:https://bemad.cz/event/brigada-3-krasne-hostesky-bratislava-setkani-s-fotbalisty/
LOCATION:Česká republika
CATEGORIES:Brigády
ATTACH;FMTTYPE=image/jpeg:https://bemad.cz/wp-content/uploads/2017/09/aaa-showroom.jpg
ORGANIZER;CN="%C4%8Cesk%C3%A9 modelky s.r.o.":MAILTO:produkce@ceskemodelky.cz
END:VEVENT
BEGIN:VEVENT
DTSTART;TZID=Europe/Paris:20180723T150000
DTEND;TZID=Europe/Paris:20180731T190000
DTSTAMP:20260426T032409
CREATED:20180717T115157Z
LAST-MODIFIED:20180717T115157Z
UID:4625-1532358000-1533063600@bemad.cz
SUMMARY:Brigáda: Hosteska OC Futurum Kolín - AAA
DESCRIPTION:Společnost České modelky s.r.o. nabízí brigádu pro 1 hostesku – OC Futurum Kolín \nKdy? 23.-31.7.2018\n \nKde? OC Futurum Kolín  \nČas? 15:00-19:00\n\nNáplň práce? Rozdávání letáčků\, balónků\, vyplňování kontaktů do soutěže o auto na víkend – pro AAA Auto \nHonorář? 110 Kč/hod. \nPožadavky? Milé\, komunikativní slečny\n\nV případě zájmu prosím pošlete svou foto a telefon a na email produkce@ceskemodelky.cz a do předmětu emailu napište „Hosteska AAA Kolín“ . \n 
URL:https://bemad.cz/event/brigada-hosteska-oc-futurum-kolin-aaa/
LOCATION:Česká republika
CATEGORIES:Brigády
ATTACH;FMTTYPE=image/jpeg:https://bemad.cz/wp-content/uploads/2018/07/aaakolin.jpg
ORGANIZER;CN="%C4%8Cesk%C3%A9 modelky s.r.o.":MAILTO:produkce@ceskemodelky.cz
END:VEVENT
END:VCALENDAR