BEGIN:VCALENDAR
VERSION:2.0
PRODID:-//Be MAD! Magazín pro hostesky &amp; modelky - ECPv6.6.0.2//NONSGML v1.0//EN
CALSCALE:GREGORIAN
METHOD:PUBLISH
X-WR-CALNAME:Be MAD! Magazín pro hostesky &amp; modelky
X-ORIGINAL-URL:https://bemad.cz
X-WR-CALDESC:Akce na Be MAD! Magazín pro hostesky &amp; modelky
REFRESH-INTERVAL;VALUE=DURATION:PT1H
X-Robots-Tag:noindex
X-PUBLISHED-TTL:PT1H
BEGIN:VTIMEZONE
TZID:Europe/Paris
BEGIN:DAYLIGHT
TZOFFSETFROM:+0100
TZOFFSETTO:+0200
TZNAME:CEST
DTSTART:20170326T010000
END:DAYLIGHT
BEGIN:STANDARD
TZOFFSETFROM:+0200
TZOFFSETTO:+0100
TZNAME:CET
DTSTART:20171029T010000
END:STANDARD
BEGIN:DAYLIGHT
TZOFFSETFROM:+0100
TZOFFSETTO:+0200
TZNAME:CEST
DTSTART:20180325T010000
END:DAYLIGHT
BEGIN:STANDARD
TZOFFSETFROM:+0200
TZOFFSETTO:+0100
TZNAME:CET
DTSTART:20181028T010000
END:STANDARD
END:VTIMEZONE
BEGIN:VEVENT
DTSTART;TZID=Europe/Paris:20180512T140000
DTEND;TZID=Europe/Paris:20180512T170000
DTSTAMP:20260426T045345
CREATED:20180427T073435Z
LAST-MODIFIED:20180427T073435Z
UID:4429-1526133600-1526144400@bemad.cz
SUMMARY:Brigáda: 2 promotéři Praha
DESCRIPTION:Společnost České modelky s.r.o. nabízí brigádu pro 2 promotéry do OC Novodvorská Plaza \nKde? Novodvorská Plaza Praha\n\nKdy? 12.5.2018 \nČas? 14:00-17:00 \nNáplň práce?  Registrace/vyplňování dotazníku \nPožadavky?  Výška min 175 cm\, sportovní postava\, příjemný vzhled i vystupování \nOdměna? 130\,- Kč /hod.\nV případě zájmu prosím pošlete svou foto (obličej + celá postava) a telefon a na email produkce@ceskemodelky.cz a do předmětu emailu napište „Promotér Plaza„. \n 
URL:https://bemad.cz/event/brigada-2-promoteri-praha/
LOCATION:Česká republika
CATEGORIES:Brigády
ATTACH;FMTTYPE=image/jpeg:https://bemad.cz/wp-content/uploads/2018/04/obchodni_centrum_novodvorsk.jpg
ORGANIZER;CN="%C4%8Cesk%C3%A9 modelky s.r.o.":MAILTO:produkce@ceskemodelky.cz
END:VEVENT
BEGIN:VEVENT
DTSTART;VALUE=DATE:20180326
DTEND;VALUE=DATE:20180329
DTSTAMP:20260426T045345
CREATED:20180320T140718Z
LAST-MODIFIED:20180406T112016Z
UID:4242-1522022400-1522281599@bemad.cz
SUMMARY:Brigáda: Hostesky na Velikonoční akci - IGY České Budějovice
DESCRIPTION:Společnost České modelky s.r.o. hledá na Velikonoční akci pro děti v OC IGY hostesky a promotéry pro obsluhu dětských stanovišť \nKdy? 26.3.-28.3.2018 \nČas? 12:00-17:00 \nKde? IGY Centrum České Budějovice \nNáplň práce? Obsluha stanovišť dětské stezky \nPožadavky? Komunikativní\, samostatná\, spolehlivá\, kladný vztah k dětem (práce s dětmi)\, organizačně schopná \nHonorář ? 110 Kč/hod. čistého \n V případě zájmu zašlete životopis\,míry a fotografie na email  produkce@ceskemodelky.cz a do předmětu uveďte „Hosteska IGY“ \n \n 
URL:https://bemad.cz/event/brigada-hostesky-na-velikonocni-akci-igy-ceske-budejovice/
LOCATION:Česká republika
CATEGORIES:Brigády
ATTACH;FMTTYPE=image/png:https://bemad.cz/wp-content/uploads/2018/03/2018-1126-0014-igy_centrum-banner-hp-1031x479.png
ORGANIZER;CN="%C4%8Cesk%C3%A9 modelky s.r.o.":MAILTO:produkce@ceskemodelky.cz
END:VEVENT
BEGIN:VEVENT
DTSTART;VALUE=DATE:20180323
DTEND;VALUE=DATE:20180325
DTSTAMP:20260426T045345
CREATED:20180322T084945Z
LAST-MODIFIED:20180406T112029Z
UID:4251-1521763200-1521935999@bemad.cz
SUMMARY:Brigáda: Hostesky na Velikonoční akci - OSTRAVA Futurum
DESCRIPTION:Společnost České modelky s.r.o. hledá na Velikonoční akci pro děti hostesky na obsluhu dětských stanovišť \nKdy? 23.3.-24.3.2018 \nČas? 13:00-17:00 \nKde? OC Futurum Ostrava \nNáplň práce? Workshopy s dětmi – malování vajíček\, pletení pomlázek \nPožadavky? Komunikativní\, samostatná\, spolehlivá\, kladný vztah k dětem (práce s dětmi)\, organizačně schopná \nHonorář ? 110 Kč/hod. čistého \n V případě zájmu zašlete životopis s fotografií na email  produkce@ceskemodelky.cz a do předmětu uveďte „Hosteska OVA Velikonoce“ \n \n 
URL:https://bemad.cz/event/brigada-hostesky-na-velikonocni-akci-ostrava-futurum/
LOCATION:Česká republika
CATEGORIES:Brigády
ATTACH;FMTTYPE=image/jpeg:https://bemad.cz/wp-content/uploads/2018/03/49_1.jpg
ORGANIZER;CN="%C4%8Cesk%C3%A9 modelky s.r.o.":MAILTO:produkce@ceskemodelky.cz
END:VEVENT
BEGIN:VEVENT
DTSTART;TZID=Europe/Paris:20180214T130000
DTEND;TZID=Europe/Paris:20180214T190000
DTSTAMP:20260426T045345
CREATED:20180201T100133Z
LAST-MODIFIED:20180201T100336Z
UID:4079-1518613200-1518634800@bemad.cz
SUMMARY:Brigáda: Hosteska PRAHA OC Novodvorská Plaza
DESCRIPTION:Společnost České modelky s.r.o. nabízí brigádu pro hostesky na Valentýna v OC Novodvorská Plaza \nKde? OC Novodvorská Plaza  \nKdy? 14.2.2018 13:00-19:00 \nCo? obsluha fotokoutku \nPožadavky: komunikativní\, příjemný vzhled i vystupování\, velikost S-M\, výška min.168 cm \nOdměna? 110 Kč/hod. \nV případě zájmu prosím pošlete svou foto a životopis\, výšku a konfekční velikost a na email produkce@ceskemodelky.cz a do předmětu emailu napište „Hosteska Valentýn Plaza“ \n  \n \n  \n  \n 
URL:https://bemad.cz/event/brigada-hosteska-praha-oc-novodvorska-plaza/
LOCATION:Česká republika
CATEGORIES:Brigády
ATTACH;FMTTYPE=image/jpeg:https://bemad.cz/wp-content/uploads/2018/02/u-ijte-si-den-sv-valent-na-ve-m-stech-zamilovan-ch-202.jpeg
ORGANIZER;CN="%C4%8Cesk%C3%A9 modelky s.r.o.":MAILTO:produkce@ceskemodelky.cz
END:VEVENT
BEGIN:VEVENT
DTSTART;TZID=Europe/Paris:20180213T130000
DTEND;TZID=Europe/Paris:20180213T180000
DTSTAMP:20260426T045345
CREATED:20180201T101751Z
LAST-MODIFIED:20180201T101751Z
UID:4084-1518526800-1518544800@bemad.cz
SUMMARY:Brigáda: Hosteska & promotér - Valentýnská akce Hradec Králové
DESCRIPTION:Společnost České modelky s.r.o. nabízí brigádu pro hostesky & promotéra na Valentýnskou akci v OC v Hradci Králové \nKde? Hradec Králové \nKdy? 13.2.2018 13:00-18:00 \nCo? rozdávání valentýnských dárků \nPožadavky: komunikativní příjemná k dětem\, příjemný vzhled i vystupování\, velikost S-M\, výška min.168 cm \nOdměna? 110 Kč/hod. \nV případě zájmu prosím pošlete svou foto a životopis\, výšku a konfekční velikost a na email produkce@ceskemodelky.cz a do předmětu emailu napište „Hosteska/promotér Valentýn Hradec“ \n \n  \n 
URL:https://bemad.cz/event/brigada-hosteska-promoter-valentynska-akce-hradec-kralove/
LOCATION:Česká republika
CATEGORIES:Brigády
ATTACH;FMTTYPE=image/jpeg:https://bemad.cz/wp-content/uploads/2018/02/valentýn.jpg
ORGANIZER;CN="%C4%8Cesk%C3%A9 modelky s.r.o.":MAILTO:produkce@ceskemodelky.cz
END:VEVENT
BEGIN:VEVENT
DTSTART;VALUE=DATE:20180211
DTEND;VALUE=DATE:20180212
DTSTAMP:20260426T045345
CREATED:20180201T095554Z
LAST-MODIFIED:20180201T095554Z
UID:4071-1518307200-1518393599@bemad.cz
SUMMARY:Brigáda: Hosteska & promotér na Zamilované neděli - OC Forum Liberec
DESCRIPTION:Společnost České modelky s.r.o. nabízí brigádu pro hostesky & promotéra na Zamilovanou neděli v OC Fórum Liberec \nKde? OC Fórum Liberec \nKdy? 11.2.2018 9:00-17:00 \n \nCo? obsluha fotokoutku \nPožadavky: komunikativní příjemná k dětem\, příjemný vzhled i vystupování\, velikost S-M\, výška min.168 cm \nOdměna? 110 Kč/hod. \nV případě zájmu prosím pošlete svou foto a životopis\, výšku a konfekční velikost a na email produkce@ceskemodelky.cz a do předmětu emailu napište „Hosteska/promotér Valentýn Liberec“ \n  \n  \n 
URL:https://bemad.cz/event/brigada-hosteska-promoter-na-zamilovane-nedeli-oc-forum-liberec/
LOCATION:Česká republika
CATEGORIES:Brigády
ATTACH;FMTTYPE=image/jpeg:https://bemad.cz/wp-content/uploads/2018/02/forum-liberec.jpg
ORGANIZER;CN="%C4%8Cesk%C3%A9 modelky s.r.o.":MAILTO:produkce@ceskemodelky.cz
END:VEVENT
BEGIN:VEVENT
DTSTART;TZID=Europe/Paris:20171205T140000
DTEND;TZID=Europe/Paris:20171205T190000
DTSTAMP:20260426T045345
CREATED:20171123T102352Z
LAST-MODIFIED:20171123T102352Z
UID:3943-1512482400-1512500400@bemad.cz
SUMMARY:BRIGÁDA: MIKULÁŠSKÁ NADÍLKA OC GALERIE Teplice
DESCRIPTION:Společnost České modelky s.r.o. nabízí brigádu pro hostesky & promotéry na Mikulášskou nadílku v OC Galerie Teplice \n \nKde? OC Galerie Teplice \nKdy? 5.12.2017  14.00-19.00 \nCo? workshopy s dětmi\, mikulášská nadílka\, obsluha stanovišť \nPožadavky: komunikativní příjemná k dětem\, příjemný vzhled i vystupování\, velikost S-M\, výška min.168 cm\n \nOdměna? 100 Kč/hod. \nV případě zájmu prosím pošlete svou foto a životopis\, výšku a konfekční velikost a na email produkce@ceskemodelky.cz a do předmětu emailu napište „Hosteska/promotér Mikulášská nadílka Teplice“ \n \n\n \nÚterý\, 5. prosince 2017 od 17.00 do 19.00 hodin\n \n\n\nslavnostní příjezd Mikuláše s anděly na náměstí Svobody koňským spřežením\nprojížďky pro děti a rodiče v kočáře okolo náměstí\nzábavný moderovaný program na pódiu před OC\npekelná brána a nebeská váha\, lucifer s paní luciferovou\, hrátky s čertem\, čertovská škola tance
URL:https://bemad.cz/event/brigada-mikulasska-nadilka-oc-galerie-teplice/
LOCATION:Česká republika
CATEGORIES:Brigády
ATTACH;FMTTYPE=image/jpeg:https://bemad.cz/wp-content/uploads/2017/11/Untitled-1.jpg
ORGANIZER;CN="%C4%8Cesk%C3%A9 modelky s.r.o.":MAILTO:produkce@ceskemodelky.cz
END:VEVENT
BEGIN:VEVENT
DTSTART;TZID=Europe/Paris:20171205T140000
DTEND;TZID=Europe/Paris:20171205T190000
DTSTAMP:20260426T045345
CREATED:20171123T102221Z
LAST-MODIFIED:20171123T102221Z
UID:3939-1512482400-1512500400@bemad.cz
SUMMARY:BRIGÁDA: MIKULÁŠSKÁ NADÍLKA OC Galerie Fénix PRAHA
DESCRIPTION:Společnost České modelky s.r.o. nabízí brigádu pro hostesky & promotéry na Mikulášskou nadílku v OC Fénix Praha \n \nKde? OC Galerie Fénix Praha \nKdy? 5.12.2017  14.00-19.00 \nCo? workshopy s dětmi\, mikulášská nadílka\, obsluha stanovišť \nPožadavky: komunikativní příjemná k dětem\, příjemný vzhled i vystupování\, velikost S-M\, výška min.168 cm\n \nOdměna? 100 Kč/hod. \nV případě zájmu prosím pošlete svou foto a životopis\, výšku a konfekční velikost a na email produkce@ceskemodelky.cz a do předmětu emailu napište „Hosteska/promotér Mikulášská nadílka Fénix“ \n \nV pondělí 5. prosince od 14 hodin čeká na všechny návštěvníky Fénixův Mikuláš. \nMikulášské překvapení pro děti a vánoční nadílka pro dospělé!\n \nNečekejte\, až Mikuláš\, anděl a čert přijdou v pondělí 5. prosince večer k vám domů. Přijďte do Fénixu a užijeme si Mikulášskou nadílku společně:).\nOd 14 do 19 hodin budeme ve Fénixu nadělovat dárky pro děti i dospělé!\n \nPro děti máme připravené zábavné aktivity\, za které získají razítko na speciální kartičku. Děti určitě nadchne malování na obličej\, výroba korálkových dekorací\, kreativní kreslení a výroba čertovských masek. Jakmile budou děti mít 3 razítka\, dostanou dáreček přímo od Mikuláše! \nNa vás dospělé čekají certifikáty a opravdu zajímavé slevy do různých obchodů\, kde jistě najdete inspiraci na vánoční dárky. Nechte se zlákat například 35% slevou v prodejně Yves Rocher a dalšími výhodnými nabídkami.
URL:https://bemad.cz/event/brigada-mikulasska-nadilka-oc-galerie-fenix-praha/
LOCATION:Česká republika
CATEGORIES:Brigády
ATTACH;FMTTYPE=image/jpeg:https://bemad.cz/wp-content/uploads/2017/11/v168136_fenix-mikulas.jpg
ORGANIZER;CN="%C4%8Cesk%C3%A9 modelky s.r.o.":MAILTO:produkce@ceskemodelky.cz
END:VEVENT
BEGIN:VEVENT
DTSTART;TZID=Europe/Paris:20171205T140000
DTEND;TZID=Europe/Paris:20171205T190000
DTSTAMP:20260426T045345
CREATED:20171123T101800Z
LAST-MODIFIED:20171123T101800Z
UID:3932-1512482400-1512500400@bemad.cz
SUMMARY:Brigáda: Mikulášská nadílka OC Novodvorská Plaza Praha
DESCRIPTION:Společnost České modelky s.r.o. nabízí brigádu pro hostesky & promotéry na Mikulášskou nadílku v OC Novodvorská Plaza Praha \n \nKde? OC Novodvorská Plaza Praha \nKdy? 5.12.2017  14.00-19.00 \nCo? workshopy s dětmi\, mikulášská nadílka\, obsluha stanovišť \nPožadavky: komunikativní příjemná k dětem\, příjemný vzhled i vystupování\, velikost S-M\, výška min.168 cm\n \nOdměna? 100 Kč/hod. \nV případě zájmu prosím pošlete svou foto a životopis\, výšku a konfekční velikost a na email produkce@ceskemodelky.cz a do předmětu emailu napište „Hosteska/promotér Mikulášská nadílka Plaza“ \n \n 
URL:https://bemad.cz/event/brigada-mikulasska-nadilka-oc-novodvorska-plaza-praha/
LOCATION:Česká republika
CATEGORIES:Brigády
ATTACH;FMTTYPE=image/jpeg:https://bemad.cz/wp-content/uploads/2017/11/mikul-sk-nad-lka-5-prosince-16-00-19-00-370.jpeg
ORGANIZER;CN="%C4%8Cesk%C3%A9 modelky s.r.o.":MAILTO:produkce@ceskemodelky.cz
END:VEVENT
BEGIN:VEVENT
DTSTART;VALUE=DATE:20171117
DTEND;VALUE=DATE:20171118
DTSTAMP:20260426T045345
CREATED:20171114T122159Z
LAST-MODIFIED:20171114T122159Z
UID:3892-1510876800-1510963199@bemad.cz
SUMMARY:Brigáda: 2 hostesky na exkluzivní vánoční akci v OC pivovar Děčín
DESCRIPTION:Společnost České modelky s.r.o. hledá 2 hostesky na exkluzivní vánoční akci v OC Pivovar Děčín \n Kdy? 17.12.2017\n Kde? OC pivovar Děčín \nA. Specifikace činnosti: Živý stůl – rozdávání punče (viz. náhledový obrázek)\nČas: 15.00 – 18.00 (+ příchod 13.00)\nPožadavky: typ modelka\, výška min 175 cm\, štíhlá postava\, příjemný obličej\, komunikativnost\nHonorář: 100 Kč/hod. \nB. Specifikace činnosti: Živá socha – Anděl (viz. náhledový obrázek)\nčas: 15.00 – 18.00 ( + příchod 12.00)\nPožadavky: typ tanečnice\, výška min 165 cm\, štíhlá postava\, taneční zkušenosti\nHonorář: 780\,- Kč (130 Kč/hod) \n V případě zájmu zašlete svou fotografii a svůj telefon na email produkce@ceskemodelky.cz a do předmětu uveďte „Hosteska Děčín – A nebo B“ \nKlientovi budeme posílat hostesky k výběru. Vybraným hosteskám se ozveme. 
URL:https://bemad.cz/event/brigada-2-hostesky-na-exkluzivni-vanocni-akci-v-oc-pivovar-decin/
LOCATION:Česká republika
CATEGORIES:Brigády
ATTACH;FMTTYPE=image/jpeg:https://bemad.cz/wp-content/uploads/2017/11/pivovar-děčín.jpg
ORGANIZER;CN="%C4%8Cesk%C3%A9 modelky s.r.o.":MAILTO:produkce@ceskemodelky.cz
END:VEVENT
BEGIN:VEVENT
DTSTART;TZID=Europe/Paris:20171110T150000
DTEND;TZID=Europe/Paris:20171110T220000
DTSTAMP:20260426T045345
CREATED:20171102T105402Z
LAST-MODIFIED:20171102T105707Z
UID:3811-1510326000-1510351200@bemad.cz
SUMMARY:Brigáda: Hostesky Mladá Boleslav
DESCRIPTION:Společnost České modelky s.r.o. nabízí brigádu pro hostesky na oslavu 10 let výročí OC Bondy\n \nKde? OC Bondy Mladá Boleslav \nKdy? 10.11.2017  15.00-22.00 \nCo? obsluha workshopu s dětmi (2 hostesky) + 3 krásné hostesky na welcome drinky apod. \nPožadavky: komunikativní příjemná k dětem\, příjemný vzhled i vystupování\, velikost S-M\, výška min.168 cm\n \nOdměna? 100 Kč/hod. \nV případě zájmu prosím pošlete svou foto a životopis (nebo alespoň telefon) a na email produkce@ceskemodelky.cz a do předmětu emailu napište „Hosteska Mladá Boleslav“ \n \n 
URL:https://bemad.cz/event/brigada-hostesky-mlada-boleslav/
LOCATION:Česká republika
CATEGORIES:Brigády
ATTACH;FMTTYPE=image/jpeg:https://bemad.cz/wp-content/uploads/2017/11/bondy.jpg
ORGANIZER;CN="%C4%8Cesk%C3%A9 modelky s.r.o.":MAILTO:produkce@ceskemodelky.cz
END:VEVENT
BEGIN:VEVENT
DTSTART;TZID=Europe/Paris:20171029T130000
DTEND;TZID=Europe/Paris:20171029T183000
DTSTAMP:20260426T045345
CREATED:20171023T141138Z
LAST-MODIFIED:20171023T141138Z
UID:3744-1509282000-1509301800@bemad.cz
SUMMARY:Brigáda: 2 hostesky na Halloweenskou akci Praha
DESCRIPTION:Společnost České modelky s.r.o. nabízí brigádu pro 2 hostesky na Mexický Halloween\n \nKde? OC Novodvorská Praha \nKdy? 29.10.2017 13:00-18:30 \nCo? workshopy s dětmi \nPožadavky: komunikativní příjemná k dětem\, příjemný vzhled i vystupování\, velikost S-M\, výška min.168 cm\n \nOdměna? 100 Kč/hod. \nV případě zájmu prosím pošlete svou foto a životopis (nebo alespoň telefon) a na email produkce@ceskemodelky.cz a do předmětu emailu napište „Hosteska Haloween Plaza“ \n 
URL:https://bemad.cz/event/brigada-2-hostesky-na-halloweenskou-akci-praha/
LOCATION:Česká republika
CATEGORIES:Brigády
ATTACH;FMTTYPE=image/jpeg:https://bemad.cz/wp-content/uploads/2017/10/mexick-halloween-29-jna-od-15-00-661.jpeg
ORGANIZER;CN="%C4%8Cesk%C3%A9 modelky s.r.o.":MAILTO:produkce@ceskemodelky.cz
END:VEVENT
END:VCALENDAR