BEGIN:VCALENDAR
VERSION:2.0
PRODID:-//Be MAD! Magazín pro hostesky &amp; modelky - ECPv6.6.0.2//NONSGML v1.0//EN
CALSCALE:GREGORIAN
METHOD:PUBLISH
X-ORIGINAL-URL:https://bemad.cz
X-WR-CALDESC:Akce na Be MAD! Magazín pro hostesky &amp; modelky
REFRESH-INTERVAL;VALUE=DURATION:PT1H
X-Robots-Tag:noindex
X-PUBLISHED-TTL:PT1H
BEGIN:VTIMEZONE
TZID:Europe/Paris
BEGIN:DAYLIGHT
TZOFFSETFROM:+0100
TZOFFSETTO:+0200
TZNAME:CEST
DTSTART:20170326T010000
END:DAYLIGHT
BEGIN:STANDARD
TZOFFSETFROM:+0200
TZOFFSETTO:+0100
TZNAME:CET
DTSTART:20171029T010000
END:STANDARD
END:VTIMEZONE
BEGIN:VEVENT
DTSTART;TZID=Europe/Paris:20171231T180000
DTEND;TZID=Europe/Paris:20171231T235900
DTSTAMP:20260426T034228
CREATED:20171005T090110Z
LAST-MODIFIED:20171005T092346Z
UID:3558-1514743200-1514764740@bemad.cz
SUMMARY:Brigáda: Hosteska - asiatka na Silvestra 2017
DESCRIPTION:Společnost České modelky s.r.o. nabízí\, jako již 3. rokem\,  brigádu pro 2 hostesky ASIATKY v Praze \n \nKde? Restaurace Asiant Temple \nKdy? 31.12.2017 18:00-24:00 \nCo? Výpomoc se Silvestrovskou akcí – vítání hostů\, welcome drinky\, guestlist \nOdměna? 150 Kč/hod. \nV případě zájmu prosím pošlete svou foto a telefon a na email produkce@ceskemodelky.cz a do předmětu emailu napište „Hosteska Asian Temple“ \n  \n 
URL:https://bemad.cz/event/brigada-hosteska-asiatka-na-silvestra-2017/
LOCATION:Asian Temple\, Bílkova 11\, Praha\, Česká republika
CATEGORIES:Brigády
ATTACH;FMTTYPE=image/jpeg:https://bemad.cz/wp-content/uploads/2017/10/asiantemple.jpg
ORGANIZER;CN="%C4%8Cesk%C3%A9 modelky s.r.o.":MAILTO:produkce@ceskemodelky.cz
END:VEVENT
END:VCALENDAR