BEGIN:VCALENDAR
VERSION:2.0
PRODID:-//Be MAD! Magazín pro hostesky &amp; modelky - ECPv6.6.0.2//NONSGML v1.0//EN
CALSCALE:GREGORIAN
METHOD:PUBLISH
X-WR-CALNAME:Be MAD! Magazín pro hostesky &amp; modelky
X-ORIGINAL-URL:https://bemad.cz
X-WR-CALDESC:Akce na Be MAD! Magazín pro hostesky &amp; modelky
REFRESH-INTERVAL;VALUE=DURATION:PT1H
X-Robots-Tag:noindex
X-PUBLISHED-TTL:PT1H
BEGIN:VTIMEZONE
TZID:Europe/Paris
BEGIN:DAYLIGHT
TZOFFSETFROM:+0100
TZOFFSETTO:+0200
TZNAME:CEST
DTSTART:20170326T010000
END:DAYLIGHT
BEGIN:STANDARD
TZOFFSETFROM:+0200
TZOFFSETTO:+0100
TZNAME:CET
DTSTART:20171029T010000
END:STANDARD
END:VTIMEZONE
BEGIN:VEVENT
DTSTART;TZID=Europe/Paris:20171211T120000
DTEND;TZID=Europe/Paris:20171214T180000
DTSTAMP:20260426T034632
CREATED:20171124T171245Z
LAST-MODIFIED:20171124T171245Z
UID:3955-1512993600-1513274400@bemad.cz
SUMMARY:Brigáda: Hosteska OC Futurum Kolín
DESCRIPTION:Společnost České modelky s.r.o.  nabízí brigádu pro hostesku z Kolína \nKdy? 11.-14.12.2017 12:00-18:00 \nKde? OC Futurum Kolín*\n*uvnitř OC \nCo? Rozdávání letáčků pro AAA Auto\, vyplňování kontaktů do soutěže o auto na víkend\, informování o pobočce \nOdměna? 100 Kč/hod. \nV případě zájmu prosím pošlete svou foto a telefon a na email produkce@ceskemodelky.cz a do předmětu emailu napište „Hosteska AAA Kolín“ \nProsím\, pouze slečny z daného města\, nezajišťujeme ani ubytování\, ani dopravu – ani jej neproplácíme. Děkujeme za pochopení.
URL:https://bemad.cz/event/brigada-hosteska-oc-futurum-kolin/
LOCATION:Česká republika
CATEGORIES:Brigády
ATTACH;FMTTYPE=image/jpeg:https://bemad.cz/wp-content/uploads/2017/09/aaa-showroom.jpg
ORGANIZER;CN="%C4%8Cesk%C3%A9 modelky s.r.o.":MAILTO:produkce@ceskemodelky.cz
END:VEVENT
END:VCALENDAR