BEGIN:VCALENDAR
VERSION:2.0
PRODID:-//Be MAD! Magazín pro hostesky &amp; modelky - ECPv6.6.0.2//NONSGML v1.0//EN
CALSCALE:GREGORIAN
METHOD:PUBLISH
X-WR-CALNAME:Be MAD! Magazín pro hostesky &amp; modelky
X-ORIGINAL-URL:https://bemad.cz
X-WR-CALDESC:Akce na Be MAD! Magazín pro hostesky &amp; modelky
REFRESH-INTERVAL;VALUE=DURATION:PT1H
X-Robots-Tag:noindex
X-PUBLISHED-TTL:PT1H
BEGIN:VTIMEZONE
TZID:Europe/Paris
BEGIN:DAYLIGHT
TZOFFSETFROM:+0100
TZOFFSETTO:+0200
TZNAME:CEST
DTSTART:20170326T010000
END:DAYLIGHT
BEGIN:STANDARD
TZOFFSETFROM:+0200
TZOFFSETTO:+0100
TZNAME:CET
DTSTART:20171029T010000
END:STANDARD
BEGIN:DAYLIGHT
TZOFFSETFROM:+0100
TZOFFSETTO:+0200
TZNAME:CEST
DTSTART:20180325T010000
END:DAYLIGHT
BEGIN:STANDARD
TZOFFSETFROM:+0200
TZOFFSETTO:+0100
TZNAME:CET
DTSTART:20181028T010000
END:STANDARD
END:VTIMEZONE
BEGIN:VEVENT
DTSTART;TZID=Europe/Paris:20180922T073000
DTEND;TZID=Europe/Paris:20180922T170000
DTSTAMP:20260426T001639
CREATED:20180918T161409Z
LAST-MODIFIED:20180920T191302Z
UID:4763-1537601400-1537635600@bemad.cz
SUMMARY:Brigáda: Hosteska či promotér s autem a PP - BRNO
DESCRIPTION:Společnost České modelky s.r.o. nabízí brigádu pro hostesku či promotéra na OCHUTNÁVKU pečiva v Brně  \nKdy? 22.9.2018\nČas? 7:30- 17:00\nKde?  Velká hala Univerzitního kampusu\, Kamenice 753/5\, Brno – Bohunice\nCo? Nabízení ochutnávky pečiva Penam\nOdměna? 110 Kč/hod. čistého + 500\,- Kč za dopravu stánku po akci zpět do Rosic\nPožadavky? Sympatické\, milé\, komunikativní hostesky či promotéři s POTRAVINÁŘSKÝM PRŮKAZEM \nV případě zájmu prosím pošlete svou foto a telefon a na email produkce@ceskemodelky.cz a do předmětu emailu napište „Hosteska/promotér Penam Brno“. \n  \n \n  \n \n  \n  \n 
URL:https://bemad.cz/event/brigada-hosteska-ci-promoter-s-pp-brno/
LOCATION:Česká republika
CATEGORIES:Brigády
ATTACH;FMTTYPE=image/jpeg:https://bemad.cz/wp-content/uploads/2018/09/02.jpg
ORGANIZER;CN="%C4%8Cesk%C3%A9 modelky s.r.o.":MAILTO:produkce@ceskemodelky.cz
END:VEVENT
BEGIN:VEVENT
DTSTART;TZID=Europe/Paris:20180727T103000
DTEND;TZID=Europe/Paris:20180727T200000
DTSTAMP:20260426T001639
CREATED:20180722T124444Z
LAST-MODIFIED:20180722T124444Z
UID:4638-1532687400-1532721600@bemad.cz
SUMMARY:Brigáda: Hostesky na rozdávání letáčků - celá ČR
DESCRIPTION:Společnost České modelky s.r.o. nabízí brigádu pro hostesku v níže uvedených městech pro BURGER KING  \nKdy? 27.7.2018 \nČas? 10:30-20:00 \nKde? \nOC Palladium Praha – 2 hostesky \nOC Galerie Teplice – 2 hostesky \nOC Harfa Praha – 2 hostesky \nOC Letňany Praha – 2 hostesky \nOC Metropole Zličín Praha – 2 hostesky \nCentral Kladno – 1 hosteska \nPlzeň Plaza – 2 hostesky \nOC Fórum Nová Karolína – 2 hostesky \nOlomouc Galerie Šantovka – 2 hostesky \nFreeport Hatě – 2 hostesky \nOC Olympia Brno  – 1 hosteska \nCo? Rozdávání letáčků \nOdměna? 110 Kč/hod. \nV případě zájmu prosím pošlete svou foto a telefon a na email produkce@ceskemodelky.cz a do předmětu emailu napište „Hosteska BK + město“ \n  \n \n 
URL:https://bemad.cz/event/brigada-hostesky-na-rozdavani-letacku-cela-cr-2/
LOCATION:Česká republika
CATEGORIES:Brigády
ATTACH;FMTTYPE=image/jpeg:https://bemad.cz/wp-content/uploads/2018/06/bk-čr.jpg
ORGANIZER;CN="%C4%8Cesk%C3%A9 modelky s.r.o.":MAILTO:produkce@ceskemodelky.cz
END:VEVENT
BEGIN:VEVENT
DTSTART;VALUE=DATE:20180727
DTEND;VALUE=DATE:20180916
DTSTAMP:20260426T001639
CREATED:20180627T192110Z
LAST-MODIFIED:20180627T192110Z
UID:4589-1532649600-1537055999@bemad.cz
SUMMARY:Brigáda: Hostesky na akce "Pijte s mírou"
DESCRIPTION:Společnost České modelky s.r.o. nabízí brigádu pro 2 hostesky na akce „Pijte s mírou“  \n\n\nBenátská noc (Liberec) pátek 27.7.\nVizovické Trnkobraní (Vizovice) 17.-18.8 (bude patrně sobota)\nDOD Starobrno (Brno) sobota 8.9.\nSlavnosti piva Krušovice (Krušovice) sobota 15.9.\n\n\nNáplň práce? Projekt pijte s mírou (letáčky\, rozdávání dárků\, měření alkoholtesterem) \nHonorář? 110 Kč/hod. \nPožadavky? Milé\, komunikativní slečny\n\nV případě zájmu prosím pošlete svou foto a telefon a na email produkce@ceskemodelky.cz a do předmětu emailu napište „Hosteska Pijte s mírou + město“ . \n 
URL:https://bemad.cz/event/brigada-hostesky-na-akce-pijte-s-mirou/
LOCATION:Česká republika
CATEGORIES:Brigády
ATTACH;FMTTYPE=image/jpeg:https://bemad.cz/wp-content/uploads/2018/06/pijte-s-mirou.jpg
ORGANIZER;CN="%C4%8Cesk%C3%A9 modelky s.r.o.":MAILTO:produkce@ceskemodelky.cz
END:VEVENT
BEGIN:VEVENT
DTSTART;TZID=Europe/Paris:20180608T090000
DTEND;TZID=Europe/Paris:20180609T170000
DTSTAMP:20260426T001639
CREATED:20180530T130436Z
LAST-MODIFIED:20180530T130436Z
UID:4531-1528448400-1528563600@bemad.cz
SUMMARY:Brigáda: Hosteska na lékařský kongres BVV Brno
DESCRIPTION:Společnost České modelky s.r.o. hledá komunikativní hostesku: \nKdy? 8.-9.6.2018 \nČas? 9:00-17:00 \nKde? BVV Brno \nNáplň práce? Zvaní lékařů na stánek a rozdávání rekl. materiálů a dárků. \nHonorář ? 120 Kč/hod. čistého \nPožadavky? Komunikativní\, nejlépe se zrzavými vlasy a vyšší postavy \n V případě zájmu zašlete svou fotografii a svůj telefon na email  produkce@ceskemodelky.cz a do předmětu uveďte „Hosteska BVV kongres“ \n  \n \n 
URL:https://bemad.cz/event/brigada-hosteska-na-lekarsky-kongres-bvv-brno/
LOCATION:Česká republika
CATEGORIES:Brigády
ATTACH;FMTTYPE=image/jpeg:https://bemad.cz/wp-content/uploads/2018/05/Untitled-1.jpg
ORGANIZER;CN="%C4%8Cesk%C3%A9 modelky s.r.o.":MAILTO:produkce@ceskemodelky.cz
END:VEVENT
BEGIN:VEVENT
DTSTART;TZID=Europe/Paris:20180529T080000
DTEND;TZID=Europe/Paris:20180529T110000
DTSTAMP:20260426T001639
CREATED:20180524T121242Z
LAST-MODIFIED:20180524T121242Z
UID:4507-1527580800-1527591600@bemad.cz
SUMMARY:Brigáda: 1 hosteska FC Zbrojovka Brno
DESCRIPTION:Společnost České modelky s.r.o. nabízí brigádu pro 1 hostesku: \nTermín? 29.5.2018  \nČas? 8:00-11:00 \nMísto? Stadion FC Zbrojovka Brno  \nNáplň práce? Rozdávání letáčků a promo dárečků\, vyplňování kontaktů do soutěže o auto na víkend – akce se konají venku \n\nOdměna? 130\,- Kč /hod. \nV případě zájmu prosím pošlete svou foto a telefon a na email produkce@ceskemodelky.cz a do předmětu emailu napište „Hosteska FC Zbrojovka Brno“ . \nPráce je na dohodu\, výplata do 10 dnů na účet.
URL:https://bemad.cz/event/brigada-1-hosteska-fc-zbrojovka-brno/
LOCATION:Česká republika
CATEGORIES:Brigády
ATTACH;FMTTYPE=image/jpeg:https://bemad.cz/wp-content/uploads/2018/05/zbrojovka-brno.jpg
ORGANIZER;CN="%C4%8Cesk%C3%A9 modelky s.r.o.":MAILTO:produkce@ceskemodelky.cz
END:VEVENT
BEGIN:VEVENT
DTSTART;TZID=Europe/Paris:20180504T090000
DTEND;TZID=Europe/Paris:20180504T190000
DTSTAMP:20260426T001639
CREATED:20180426T080015Z
LAST-MODIFIED:20180426T080041Z
UID:4410-1525424400-1525460400@bemad.cz
SUMMARY:Brigáda: TOP hosteska k luxusním vozům na golfový turnaj - BRNO
DESCRIPTION:Společnost České modelky s.r.o. nabízí brigádu pro hostesky na golfový turnaj pro Mototechnu \nKde? Golf resort Kaskáda BRNO\n\n \nKdy? 4.5.2018 \nČas? 9:00-19:00 \nNáplň práce?  Pózování u luxusních vozů \nPožadavky? Vzhled modelky ! Nejlépe 175 cm +\, konfekce 36 \nOdměna? 150\,- Kč /hod.\nV případě zájmu prosím pošlete svou foto (obličej + celá postava) a telefon a na email produkce@ceskemodelky.cz a do předmětu emailu napište „Hosteska VIP Brno„. \nFotografie přihlášených budeme posílat klientovi na výběr! \n  \n 
URL:https://bemad.cz/event/brigada-top-hosteska-k-luxusnim-vozum-na-golfovy-turnaj-brno/
LOCATION:Česká republika
CATEGORIES:Brigády
ATTACH;FMTTYPE=image/jpeg:https://bemad.cz/wp-content/uploads/2018/04/dark-lamborghini-in-the-nat.jpg
ORGANIZER;CN="%C4%8Cesk%C3%A9 modelky s.r.o.":MAILTO:produkce@ceskemodelky.cz
END:VEVENT
BEGIN:VEVENT
DTSTART;TZID=Europe/Paris:20180427T090000
DTEND;TZID=Europe/Paris:20180429T170000
DTSTAMP:20260426T001639
CREATED:20180425T075207Z
LAST-MODIFIED:20180425T075207Z
UID:4404-1524819600-1525021200@bemad.cz
SUMMARY:BRIGÁDA: HOSTESKA PRO AAA Auto BRNO
DESCRIPTION:Společnost České modelky s.r.o. nabízí brigádu pro hostesku z Brna \nKde? Globus – Brno Ivanovice \nKdy? 27.4.-29.4.2018 \nČas? 9:00-17:00 \nNáplň práce? Rozdávání letáčků a reklamních předmětů AAA Auto\, vyplňování kontaktů do soutěže o auto na víkend \nOdměna? 120\,- Kč /hod. \n\nV případě zájmu prosím pošlete svou foto a telefon a na email produkce@ceskemodelky.cz a do předmětu emailu napište „Hosteska AAA Brno„. \n  \n 
URL:https://bemad.cz/event/brigada-hosteska-pro-aaa-auto-brno/
LOCATION:Česká republika
CATEGORIES:Brigády
ATTACH;FMTTYPE=image/jpeg:https://bemad.cz/wp-content/uploads/2018/04/aaa.jpg
ORGANIZER;CN="%C4%8Cesk%C3%A9 modelky s.r.o.":MAILTO:produkce@ceskemodelky.cz
END:VEVENT
BEGIN:VEVENT
DTSTART;TZID=Europe/Paris:20180331T100000
DTEND;TZID=Europe/Paris:20180401T180000
DTSTAMP:20260426T001639
CREATED:20180326T175259Z
LAST-MODIFIED:20180406T111947Z
UID:4270-1522490400-1522605600@bemad.cz
SUMMARY:Brigáda: Hosteska pro Praha & Brno
DESCRIPTION:Společnost České modelky s.r.o. nabízí brigádu pro hostesky z Prahy a Brna \nKde? Pobočky AAA Auto v Praze & Brně \nKdy? 31.3.-1.4.2018 \nČas? 10:00-18:00 \nNáplň práce? Rozdávání letáčků a reklamních předmětů AAA Auto\, vyplňování kontaktů do soutěže o auto na víkend \nOdměna? 110\,- Kč /hod. \n\nV případě zájmu prosím pošlete svou foto a telefon a na email produkce@ceskemodelky.cz a do předmětu emailu napište „Hosteska AAA Praha nebo Brno„. \n  \n 
URL:https://bemad.cz/event/brigada-hosteska-pro-praha-brno/
CATEGORIES:Brigády
ATTACH;FMTTYPE=image/jpeg:https://bemad.cz/wp-content/uploads/2018/03/aaa.jpg
ORGANIZER;CN="%C4%8Cesk%C3%A9 modelky s.r.o.":MAILTO:produkce@ceskemodelky.cz
END:VEVENT
BEGIN:VEVENT
DTSTART;VALUE=DATE:20180308
DTEND;VALUE=DATE:20180312
DTSTAMP:20260426T001639
CREATED:20180306T135720Z
LAST-MODIFIED:20180306T152013Z
UID:4195-1520467200-1520812799@bemad.cz
SUMMARY:Brigáda: Hosteska MOTOSALON BRNO 2018
DESCRIPTION:Společnost České modelky s.r.o. nabízí brigádu pro 2 HOSTESKY V BRNĚ\nKdy? 8.3.-11.3. 2018\nČas? 2 hostesky na den 8.a 9.3.2018 od 10:00 do 18:00 hod.\, 1 x hosteska na den 10.a 11.3.2018 od 10:00 do 16:00 hod.\nKde? Motosalon BRNO – BVV BRNO\nPožadavky? Spolehlivost\, sympatický vzhled.\nNáplň práce? výpomoc na stánku Kentoya Motors\nOdměna? 120 Kč/hod. \nV případě zájmu prosím pošlete svou foto a telefon na email produkce@ceskemodelky.cz a do předmětu emailu napište „Hosteska MOTOSALON 2018“
URL:https://bemad.cz/event/brigada-hosteska-motosalon-brno-2018/
LOCATION:Česká republika
CATEGORIES:Brigády
ATTACH;FMTTYPE=image/jpeg:https://bemad.cz/wp-content/uploads/2018/03/motosalon-vandraci-01.jpg
ORGANIZER;CN="%C4%8Cesk%C3%A9 modelky s.r.o.":MAILTO:produkce@ceskemodelky.cz
END:VEVENT
BEGIN:VEVENT
DTSTART;VALUE=DATE:20180307
DTEND;VALUE=DATE:20180321
DTSTAMP:20260426T001639
CREATED:20180303T110019Z
LAST-MODIFIED:20180310T111950Z
UID:4179-1520380800-1521590399@bemad.cz
SUMMARY:Brigáda: Hosteska/promotér na ochutnávku - s autem BRNO
DESCRIPTION:Společnost České modelky s.r.o. nabízí brigádu pro hostesku či promotéra s autem Brno \nKdy? 15.3.\, 16.3.\, 17.3.2018\, v čase na 6 hod/den – není nutné brát všechny termíny\, čas si můžete zvolit dle otevírací doby jaký vám vyhovuje \nCo? Nabízení ochutnávky pečiva \nOdměna? 120 Kč/hod. + příspěvek na dopravu! \nPožadavky? Sympatické\, milé\, komunikativní hostesky či promotéři s POTRAVINÁŘSKÝM PRŮKAZEM a autem (pečivo\, stánek) \nPROMO MATERIÁL je nutné si vyzvednou vždy na některé z prodejen. \nV případě zájmu prosím pošlete svou foto a telefon a na email produkce@ceskemodelky.cz a do předmětu emailu napište „Hosteska/promotér Penam BRNO“ – uveďte i termín\, čas a místo\, které Vám vyhovuje. \nKde? prodejny Billa\, ENAPO\, Brněnka a Rosa Market \n\nSeznam míst brigády na výběr: \nBILLA 8896\, Náměstí Svobody 9/702\, Brno – 7:00-22:00 – OBSAZENO \nBILLA 8610\, Okružní 33\, Brno-Lesná – 7:00-22:00 \nBILLA 8606\, Žarošická 30\, Brno – 7:00-22:00 \nPotraviny u Sedláčků\, 1. máje 612\, Zastávka – Čt + Pá : 5:30-18:00\, So: 6:00-13:00 \nPRAMEN-BRNĚNKA\, Purkynova Brno – Čt+Pá : 7:00-20:00\, So 7:00-18:00 – OBSAZENO \nRAPO BRNO\, s.r.o.\, Ryšánkova 10\, Brno – Čt+Pá 6:00-18:00\, So: 6:00-11:00 \nRAPO BRNO\, s.r.o.\, Merhautova 51\, Brno – Čt+Pá: 6:30-18:30\, So 6:30-11:30 \nRAPO BRNO\, s.r.o.\, Čápkova 17\, Brno – Čt+Pá 7:00-19:00\, So: 7:00-12:00 \nRAPO BRNO\, s.r.o.\, Slovinská 1\, Brno – Čt+Pá 6:00-19:00\, So 7:00-12:00 \nBILLA 8835\, Sedláčkova 4\, Brno – 7:00-22:00 \nBILLA 8836\, Makovského nám. 2\, Brno Žabovřesky – 7:00-22:00 – OBSAZENO \nBILLA 8601\, Stránského 28\, Brno – 7:00-21:00 \nENAPO potraviny č.217\, Ketkovice 214\, Ivančice – Čt+Pá 7:00-17:00\, So Zavřeno \nBILLA 8605\, Křídlovická 34\, Brno – 7:00-20:00 \nENAPO potraviny č.248\, Nám.Republiky 976\, Oslavany – Čt + Pá : 5:30-18:00\, So: 6:00-13:00 \nNapište nám i o jaké termíny byste měl/a zájem.
URL:https://bemad.cz/event/brigada-hosteskapromoter-na-ochutnavku-s-autem-brno/
LOCATION:Česká republika
CATEGORIES:Brigády
ATTACH;FMTTYPE=image/jpeg:https://bemad.cz/wp-content/uploads/2017/12/billa.jpg
ORGANIZER;CN="%C4%8Cesk%C3%A9 modelky s.r.o.":MAILTO:produkce@ceskemodelky.cz
END:VEVENT
BEGIN:VEVENT
DTSTART;TZID=Europe/Paris:20180215T080000
DTEND;TZID=Europe/Paris:20180215T140000
DTSTAMP:20260426T001639
CREATED:20180208T080022Z
LAST-MODIFIED:20180213T082154Z
UID:4137-1518681600-1518703200@bemad.cz
SUMMARY:Brigáda: Hosteska na ochutnávku BRNO
DESCRIPTION:Společnost České modelky s.r.o. nabízí brigádu pro hostesku či promotéra s autem BRNO \nKdy? 15.2.2018 8:00-14:00 \nKde? Brno\, Fakulta Chemie VUT\, Purkyňova 464/118 \nCo? Nabízení ochutnávky pečiva \nOdměna? 110 Kč/hod. \nPožadavky? Sympatické\, milé\, komunikativní hostesky s POTRAVINÁŘSKÝM PRŮKAZEM \nV případě zájmu prosím pošlete svou foto a telefon a na email produkce@ceskemodelky.cz a do předmětu emailu napište „Hosteska Penam BRNO“. \n 
URL:https://bemad.cz/event/brigada-hosteska-na-ochutnavku-brno/
LOCATION:Česká republika
CATEGORIES:Brigády
ATTACH;FMTTYPE=image/jpeg:https://bemad.cz/wp-content/uploads/2018/02/brno.jpg
ORGANIZER;CN="%C4%8Cesk%C3%A9 modelky s.r.o.":MAILTO:produkce@ceskemodelky.cz
END:VEVENT
BEGIN:VEVENT
DTSTART;TZID=Europe/Paris:20171214T150000
DTEND;TZID=Europe/Paris:20171214T150000
DTSTAMP:20260426T001639
CREATED:20171206T143036Z
LAST-MODIFIED:20171206T143311Z
UID:3992-1513263600-1513263600@bemad.cz
SUMMARY:Brigáda: 3 hostesky na Vánoční večírek Brno
DESCRIPTION:Společnost České modelky s.r.o. hledá 3 hostesky na Vánoční večírek Penam \n Kdy? 14.12.2017 \n Čas? 2 hostesky 15:00 – 24:00\, 1 hosteska 17:00 – max. 3:00 \n Kde? Brno – Semilasso – kulturní centrum – Palackého tř. 832/126\, 612 00 – Královo Pole \n Náplň práce? Vítání hostů\, welcome drinky\, šatna\, rozdávání dárků při odchodu\n \n Honorář ? 120 Kč/hod. čistého\n \n Dress code? vlastní černé koktejlky\, lodičky ?\n \n V případě zájmu zašlete svou fotografii a svůj telefon na email produkce@ceskemodelky.cz a do předmětu uveďte „Hosteska Penam večírek“ \nKlientovi budeme posílat hostesky k výběru. Vybraným hosteskám se ozveme. 
URL:https://bemad.cz/event/brigada-3-hostesky-na-vanocni-vecirek-brno/
LOCATION:Česká republika
CATEGORIES:Brigády
ATTACH;FMTTYPE=image/png:https://bemad.cz/wp-content/uploads/2017/12/christmasparty2.png
ORGANIZER;CN="%C4%8Cesk%C3%A9 modelky s.r.o.":MAILTO:produkce@ceskemodelky.cz
END:VEVENT
BEGIN:VEVENT
DTSTART;TZID=Europe/Paris:20171208T130000
DTEND;TZID=Europe/Paris:20171208T180000
DTSTAMP:20260426T001639
CREATED:20171205T101813Z
LAST-MODIFIED:20171205T102207Z
UID:3985-1512738000-1512756000@bemad.cz
SUMMARY:Brigáda: Hosteska/promotér na ochutnávky pečiva BRNO
DESCRIPTION:Společnost České modelky s.r.o. nabízí brigádu pro hostesku či promotéra na OCHUTNÁVKU pečiva – Brno \nKdy? 8.12.2017\nČas? 13:00 – 18:00\nKde?  Billa – Markovského BRNO\nCo? Nabízení ochutnávky pečiva Penam\nOdměna? 110 Kč/hod. čistého\nPožadavky? Sympatické\, milé\, komunikativní hostesky či promotéři s POTRAVINÁŘSKÝM PRŮKAZEM \nV případě zájmu prosím pošlete svou foto a telefon a na email produkce@ceskemodelky.cz a do předmětu emailu napište „Hosteska/promotér Penam BRNO“. \n  \n \n  \n \n  \n  \n 
URL:https://bemad.cz/event/brigada-hosteskapromoter-na-ochutnavky-peciva-brno/
LOCATION:Česká republika
CATEGORIES:Brigády
ATTACH;FMTTYPE=image/jpeg:https://bemad.cz/wp-content/uploads/2017/12/billa.jpg
ORGANIZER;CN="%C4%8Cesk%C3%A9 modelky s.r.o.":MAILTO:produkce@ceskemodelky.cz
END:VEVENT
BEGIN:VEVENT
DTSTART;TZID=Europe/Paris:20171204T100000
DTEND;TZID=Europe/Paris:20171204T180000
DTSTAMP:20260426T001639
CREATED:20171101T095137Z
LAST-MODIFIED:20171102T190214Z
UID:3801-1512381600-1512410400@bemad.cz
SUMMARY:Brigáda: Anděl & Čert & Mikuláš na pobočky AAA Auto Praha & Brno & Ostrava
DESCRIPTION:Společnost České modelky s.r.o. nabízí brigádu pro hostesky Anděl & Čert & Mikuláš na pobočky AAA Auto Praha & Brno & Ostrava\n \nKde? pobočky AAA Auto Praha & Brno & Ostrava \nKdy? 4.12.2017  10.00-18.00 \nCo? rozdávání sladkostí \nPožadavky: komunikativní příjemná k dětem\, příjemný vzhled i vystupování\, velikost S-M\, výška min.168 cm\n \nOdměna? 110 Kč/hod. \nV případě zájmu prosím pošlete svou foto a životopis (nebo alespoň telefon) a na email produkce@ceskemodelky.cz a do předmětu emailu napište „Hosteska AAA  Anděl/Čert/Mikuláš+ město“ \nPokud máte vlastní kostým\, zašlete nám jeho fotografii\, můžeme Vám nabídnout i proplacení půjčovného.  \n \n 
URL:https://bemad.cz/event/brigada-andel-cert-mikulas-na-pobocky-aaa-auto-praha-brno-ostrava/
LOCATION:Česká republika
CATEGORIES:Brigády
ATTACH;FMTTYPE=image/jpeg:https://bemad.cz/wp-content/uploads/2017/11/aaa-mikulas.jpg
ORGANIZER;CN="%C4%8Cesk%C3%A9 modelky s.r.o.":MAILTO:produkce@ceskemodelky.cz
END:VEVENT
BEGIN:VEVENT
DTSTART;TZID=Europe/Paris:20171111T080000
DTEND;TZID=Europe/Paris:20171111T170000
DTSTAMP:20260426T001639
CREATED:20171107T120001Z
LAST-MODIFIED:20171107T120001Z
UID:3839-1510387200-1510419600@bemad.cz
SUMMARY:Brigáda: Hosteska/promotér Brno
DESCRIPTION:Společnost České modelky s.r.o. nabízí brigádu pro hostesku či promotéra na OCHUTNÁVKU pečiva na akci Body in ACTION 4 \nKdy? 11.11.2017\nČas? 8:00 – 17:00\nKde? Brno budova VFU Palackého tř. 1/3\nCo? Nabízení ochutnávky FIT pečiva\nOdměna? 110 Kč/hod. čistého\nPožadavky? Sympatické\, milé\, komunikativní hostesky či promotéři s POTRAVINÁŘSKÝM PRŮKAZEM \nPo akci je třeba vrátit stánek do pekárny v Rosicích – proplacené cestovné 250 Kč (celkem 11\,5 km z VFU do Rosic) \nPekárna Rosice: \n \nV případě zájmu prosím pošlete svou foto a telefon a na email produkce@ceskemodelky.cz a do předmětu emailu napište „Hosteska/promotér Penam Brno“ \n \n  \n \n  \n  \n 
URL:https://bemad.cz/event/brigada-hosteskapromoter-brno/
LOCATION:Česká republika
CATEGORIES:Brigády
ATTACH;FMTTYPE=image/jpeg:https://bemad.cz/wp-content/uploads/2017/11/fit-den.jpg
ORGANIZER;CN="%C4%8Cesk%C3%A9 modelky s.r.o.":MAILTO:produkce@ceskemodelky.cz
END:VEVENT
BEGIN:VEVENT
DTSTART;TZID=Europe/Paris:20171108T093000
DTEND;TZID=Europe/Paris:20171108T180000
DTSTAMP:20260426T001639
CREATED:20171104T212723Z
LAST-MODIFIED:20171104T215053Z
UID:3818-1510133400-1510164000@bemad.cz
SUMMARY:Brigáda: Hosteska/promotér ochutnávky pečiva Albert Šlapanice
DESCRIPTION:Společnost České modelky s.r.o. nabízí brigádu pro hostesku či promotéra na OCHUTNÁVKU pečiva – Albert Šlapanice \nKdy? 8.11.2017\nČas? 9:30 – 18:00\nKde? Albert Šlapanice – Nádražní 115\nCo? Nabízení ochutnávky pečiva\nOdměna? 110 Kč/hod. čistého\nPožadavky? Sympatické\, milé\, komunikativní hostesky či promotéři s POTRAVINÁŘSKÝM PRŮKAZEM \nV případě zájmu prosím pošlete svou foto a telefon a na email produkce@ceskemodelky.cz a do předmětu emailu napište „Hosteska/promotér Penam Šlapanice“ \n \n  \n \n  \n  \n 
URL:https://bemad.cz/event/brigada-hosteskapromoter-ochutnavky-peciva-albert-slapanice/
LOCATION:Česká republika
CATEGORIES:Brigády
ATTACH;FMTTYPE=image/jpeg:https://bemad.cz/wp-content/uploads/2017/09/swing.jpg
ORGANIZER;CN="%C4%8Cesk%C3%A9 modelky s.r.o.":MAILTO:produkce@ceskemodelky.cz
END:VEVENT
BEGIN:VEVENT
DTSTART;TZID=Europe/Paris:20171030T130000
DTEND;TZID=Europe/Paris:20171031T180000
DTSTAMP:20260426T001639
CREATED:20171020T174231Z
LAST-MODIFIED:20171020T174357Z
UID:3730-1509368400-1509472800@bemad.cz
SUMMARY:Brigáda: Hosteska na Dýňobraní BRNO
DESCRIPTION:Společnost České modelky s.r.o. nabízí brigádu pro 2 hostesky na Dýňobraní v Brně \n \nKde? OC Campus Square Brno \nKdy? 30.-31.10.2017  13.00-18.00 \nCo? obsluha workshopu dlabaní dýní\, obsluha dýňového baru a podobně \nPožadavky: komunikativní příjemná k dětem\, příjemný vzhled i vystupování\, velikost S-M\, výška min.168 cm\n \nOdměna? 100 Kč/hod. \nV případě zájmu prosím pošlete svou foto a životopis (nebo alespoň telefon) a na email produkce@ceskemodelky.cz a do předmětu emailu napište „Hosteska Dýňobraní“ \n 
URL:https://bemad.cz/event/brigada-hosteska-na-dynobrani-brno/
LOCATION:Česká republika
CATEGORIES:Brigády
ATTACH;FMTTYPE=image/jpeg:https://bemad.cz/wp-content/uploads/2017/10/CAMPUS_Dynobrani_web_1100x47722.jpg
ORGANIZER;CN="%C4%8Cesk%C3%A9 modelky s.r.o.":MAILTO:produkce@ceskemodelky.cz
END:VEVENT
BEGIN:VEVENT
DTSTART;TZID=Europe/Paris:20171028T090000
DTEND;TZID=Europe/Paris:20171028T170000
DTSTAMP:20260426T001639
CREATED:20171017T112046Z
LAST-MODIFIED:20180406T112051Z
UID:3698-1509181200-1509210000@bemad.cz
SUMMARY:Brigáda: Hosteska Praha & Brno & Ostrava & Olomouc & Plzeň Den otevřených dveří  AAA Auto
DESCRIPTION:Společnost České modelky s.r.o. nabízí brigádu pro hostesky Praha & Brno & Ostrava & Olomouc & Plzeň\nKdy? 28.10.2017 \nČas? 9:00-17:00 \nKde? Showroomy AAA AUTO – akce bude probíhat venku\, mezi auty\, ale je zde zázemí v teple showroomu. Od klienta dostanete teplé fleecové bundy. \nNáplň práce? Rozdávání balónků\,  vyplňování kontaktů do soutěže o auto\, rozdávání letáčků atd. \nHonorář? 100 Kč/hod. čistého – práce na dohodu\, honorář zasíláme na účet \nV případě zájmu prosím pošlete svou foto a telefon a na email produkce@ceskemodelky.cz a do předmětu emailu napište „Hosteska AAA + město“ . \nPraha \n \nBrno\n \nOstrava\n \nPlzeň\n \nOlomouc
URL:https://bemad.cz/event/brigada-hosteska-praha-brno-ostrava-olomouc-plzen-den-otevrenych-dveri-aaa-auto/
LOCATION:Česká republika
CATEGORIES:Brigády
ATTACH;FMTTYPE=image/jpeg:https://bemad.cz/wp-content/uploads/2017/10/aaa-dod.jpg
ORGANIZER;CN="%C4%8Cesk%C3%A9 modelky s.r.o.":MAILTO:produkce@ceskemodelky.cz
END:VEVENT
BEGIN:VEVENT
DTSTART;TZID=Europe/Paris:20170928T090000
DTEND;TZID=Europe/Paris:20170928T190000
DTSTAMP:20260426T001639
CREATED:20170920T194931Z
LAST-MODIFIED:20170920T194931Z
UID:3426-1506589200-1506625200@bemad.cz
SUMMARY:Brigáda: Hosteska Praha & Brno & Ostrava Den otevřených dveří  AAA Auto
DESCRIPTION:Společnost České modelky s.r.o. nabízí brigádu pro hostesky Praha & Brno & Ostrava\nKdy? 28.9.2017 \nČas? 9:00-19:00 \nKde? Showroomy AAA AUTO – akce bude probíhat venku\, mezi auty\, ale je zde zázemí v teple showroomu. Od klienta dostanete teplé fleecové bundy. \nNáplň práce? Rozdávání balónků\,  vyplňování kontaktů do soutěže o auto\, rozdávání letáčků atd. \nHonorář? 100 Kč/hod. čistého – práce na dohodu\, honorář zasíláme na účet \nV případě zájmu prosím pošlete svou foto a telefon a na email produkce@ceskemodelky.cz a do předmětu emailu napište „Hosteska AAA Praha\, Brno nebo Ostrava“ . \nPraha \n \nBrno\n \nOstrava
URL:https://bemad.cz/event/brigada-hosteska-praha-brno-ostrava-den-otevrenych-dveri-aaa-auto/
CATEGORIES:Brigády
ATTACH;FMTTYPE=image/jpeg:https://bemad.cz/wp-content/uploads/2017/09/aaa-showroom.jpg
ORGANIZER;CN="%C4%8Cesk%C3%A9 modelky s.r.o.":MAILTO:produkce@ceskemodelky.cz
END:VEVENT
END:VCALENDAR