BEGIN:VCALENDAR
VERSION:2.0
PRODID:-//Be MAD! Magazín pro hostesky &amp; modelky - ECPv6.6.0.2//NONSGML v1.0//EN
CALSCALE:GREGORIAN
METHOD:PUBLISH
X-ORIGINAL-URL:https://bemad.cz
X-WR-CALDESC:Akce na Be MAD! Magazín pro hostesky &amp; modelky
REFRESH-INTERVAL;VALUE=DURATION:PT1H
X-Robots-Tag:noindex
X-PUBLISHED-TTL:PT1H
BEGIN:VTIMEZONE
TZID:Europe/Paris
BEGIN:DAYLIGHT
TZOFFSETFROM:+0100
TZOFFSETTO:+0200
TZNAME:CEST
DTSTART:20180325T010000
END:DAYLIGHT
BEGIN:STANDARD
TZOFFSETFROM:+0200
TZOFFSETTO:+0100
TZNAME:CET
DTSTART:20181028T010000
END:STANDARD
END:VTIMEZONE
BEGIN:VEVENT
DTSTART;TZID=Europe/Paris:20180609T120000
DTEND;TZID=Europe/Paris:20180609T170000
DTSTAMP:20260425T223055
CREATED:20180605T113801Z
LAST-MODIFIED:20180605T113801Z
UID:4544-1528545600-1528563600@bemad.cz
SUMMARY:Brigáda: 1 hosteska na dětský den v Otrokovicích
DESCRIPTION:Společnost České modelky s.r.o. nabízí brigádu pro 1 hostesky v Otrokovicích – Den dětí OTROKOVICE \nKdy? 9.6.2018\n \nKde? Sady Radovánky Otrokovice Zlín  \nČas? 12:00-17:00\n\nNáplň práce? Rozdávání letáčků\, balónků\, vyplňování kontaktů do soutěže o auto na víkend – pro AAA Auto \nHonorář? 110 Kč/hod. \nPožadavky? Milé a komunikativní slečny\n\nV případě zájmu prosím pošlete svou foto a telefon a na email produkce@ceskemodelky.cz a do předmětu emailu napište „Hosteska AAA Otrokovice“ . \n 
URL:https://bemad.cz/event/brigada-1-hosteska-na-detsky-den-v-otrokovicich/
LOCATION:Česká republika
CATEGORIES:Brigády
ATTACH;FMTTYPE=image/jpeg:https://bemad.cz/wp-content/uploads/2018/06/Untitled-12-e1528198560335.jpg
ORGANIZER;CN="%C4%8Cesk%C3%A9 modelky s.r.o.":MAILTO:produkce@ceskemodelky.cz
END:VEVENT
END:VCALENDAR