BEGIN:VCALENDAR
VERSION:2.0
PRODID:-//Be MAD! Magazín pro hostesky &amp; modelky - ECPv6.6.0.2//NONSGML v1.0//EN
CALSCALE:GREGORIAN
METHOD:PUBLISH
X-ORIGINAL-URL:https://bemad.cz
X-WR-CALDESC:Akce na Be MAD! Magazín pro hostesky &amp; modelky
REFRESH-INTERVAL;VALUE=DURATION:PT1H
X-Robots-Tag:noindex
X-PUBLISHED-TTL:PT1H
BEGIN:VTIMEZONE
TZID:Europe/Paris
BEGIN:DAYLIGHT
TZOFFSETFROM:+0100
TZOFFSETTO:+0200
TZNAME:CEST
DTSTART:20180325T010000
END:DAYLIGHT
BEGIN:STANDARD
TZOFFSETFROM:+0200
TZOFFSETTO:+0100
TZNAME:CET
DTSTART:20181028T010000
END:STANDARD
END:VTIMEZONE
BEGIN:VEVENT
DTSTART;VALUE=DATE:20180204
DTEND;VALUE=DATE:20180205
DTSTAMP:20260426T020603
CREATED:20180202T081120Z
LAST-MODIFIED:20180202T081120Z
UID:4095-1517702400-1517788799@bemad.cz
SUMMARY:Brigáda: PLUS SIZE modelky na focení prádla
DESCRIPTION:Společnost České modelky s.r.o. nabízí brigádu pro PLUS SIZE MODELKY \nKde? Focení proběhne v Hradci Králové – fotograf Matěj Sládek \nKdy? Termín focení je na dohodě. \nPožadavky?  Věk  35-45\, větší poprsí\, pevná a souměrná postava\, jemnější rysy. \nNáplň práce? Focení prádla (pro starší věkovou kategorii) do web katalogu \nHonorář? 1500\,- / focení \nV případě zájmu prosím pošlete svou foto v prádle a telefon a na email produkce@ceskemodelky.cz a do předmětu emailu napište „Modelka plus size – prádlo“. \n  \n  \n \n  \n  \n 
URL:https://bemad.cz/event/brigada-plus-size-modelky-na-foceni-pradla/
LOCATION:Česká republika
CATEGORIES:Brigády
ATTACH;FMTTYPE=image/jpeg:https://bemad.cz/wp-content/uploads/2018/02/pkussize.jpg
ORGANIZER;CN="%C4%8Cesk%C3%A9 modelky s.r.o.":MAILTO:produkce@ceskemodelky.cz
END:VEVENT
END:VCALENDAR