BEGIN:VCALENDAR
VERSION:2.0
PRODID:-//Be MAD! Magazín pro hostesky &amp; modelky - ECPv6.6.0.2//NONSGML v1.0//EN
CALSCALE:GREGORIAN
METHOD:PUBLISH
X-WR-CALNAME:Be MAD! Magazín pro hostesky &amp; modelky
X-ORIGINAL-URL:https://bemad.cz
X-WR-CALDESC:Akce na Be MAD! Magazín pro hostesky &amp; modelky
REFRESH-INTERVAL;VALUE=DURATION:PT1H
X-Robots-Tag:noindex
X-PUBLISHED-TTL:PT1H
BEGIN:VTIMEZONE
TZID:Europe/Paris
BEGIN:DAYLIGHT
TZOFFSETFROM:+0100
TZOFFSETTO:+0200
TZNAME:CEST
DTSTART:20170326T010000
END:DAYLIGHT
BEGIN:STANDARD
TZOFFSETFROM:+0200
TZOFFSETTO:+0100
TZNAME:CET
DTSTART:20171029T010000
END:STANDARD
END:VTIMEZONE
BEGIN:VEVENT
DTSTART;TZID=Europe/Paris:20171011T120000
DTEND;TZID=Europe/Paris:20171011T190000
DTSTAMP:20260426T034631
CREATED:20170915T122240Z
LAST-MODIFIED:20170915T122529Z
UID:3318-1507723200-1507748400@bemad.cz
SUMMARY:Fototesty: Ateliérové fotografie již za 599\,- Kč
DESCRIPTION:Společnost České modelky s.r.o. připravila pro velký zájem další\, v pořadí již 51.\, fototesty nejen pro začínající modelky a modely ale i pro hostesky.  \n\nNevíte jaké fotografie zasílat do agentur\, když žádáte o brigádu? Nechte si nafotit profesionální foto prezentaci. \n\nDne 11.10.2017 bude probíhat nafocení fototestů\, na které Vás tímto srdečně zveme. V Praze v našem fotoateliéru s Vámi nafotíme 80 ks ateliérových fotografií s profesionálním makeupem\, které vám všechny nahrajeme na váš USB disk. \nTermín? 11.10.2017\, 20 min\, v rozmezí 12:00 – 19:00 hod. \nKde? Fotoateliér\, Bělohorská 15\, Praha 6 \nS sebou? Boty na podpatku (lodičky)\, oblečení – ideální jsou pastelové barvy oblečení a barevné (můžete volit několik modelů oblečení – reprezentativní\, fashion\, glamour\, nebo např. plavky. Nezapomeňte ani na doplňky) a USB flash disk na nahrání kompletně všech nafocených fotografií. \n\n„Kvalitní fotografie jsou důležité pro Vaši prezentaci.“ \n\nRealizace: fotograf Martin Frajt\nVizáž\, styl: Mary Kay\nProdukce: Michaela Alexandra Drtinová \nCena 599 Kč (dotovaná cena pro registrované ženy a dívky na www.ceskemodelky.cz nebo na www.plussizemodelky.cz) \nCena 1200 Kč (cena pro nezaregistrované) \n\nV ceně je zahrnuta práce fotografa\, vizážistky\, produkční\, 80 výsledných fotografií\, režie pronájem fotoateliéru\, materiál. \nObjednat se můžete „on-line zde“\, telefonicky nebo SMS na čísle: 775 574 340 nebo na e-mailové adrese: fototesty@profesionalni.info – do objednávky prosím napište čas\, který vám vyhovuje \nKapacita fotoateliéru je omezená. \nFotografie z fototestů\, které již proběhly naleznete zde. \nAdresa fotoateliéru:
URL:https://bemad.cz/event/fototesty-atelierove-fotografie-jiz-za-599-kc/
LOCATION:Ateliér České modelky s.r.o.\, Bělohorská 15\, Praha\, Praha\, 16000\, Česká republika
ATTACH;FMTTYPE=image/jpeg:https://bemad.cz/wp-content/uploads/2017/09/fototesty.jpg
ORGANIZER;CN="%C4%8Cesk%C3%A9 modelky s.r.o.":MAILTO:produkce@ceskemodelky.cz
END:VEVENT
END:VCALENDAR