BEGIN:VCALENDAR
VERSION:2.0
PRODID:-//Be MAD! Magazín pro hostesky &amp; modelky - ECPv6.6.0.2//NONSGML v1.0//EN
CALSCALE:GREGORIAN
METHOD:PUBLISH
X-WR-CALNAME:Be MAD! Magazín pro hostesky &amp; modelky
X-ORIGINAL-URL:https://bemad.cz
X-WR-CALDESC:Akce na Be MAD! Magazín pro hostesky &amp; modelky
REFRESH-INTERVAL;VALUE=DURATION:PT1H
X-Robots-Tag:noindex
X-PUBLISHED-TTL:PT1H
BEGIN:VTIMEZONE
TZID:Europe/Paris
BEGIN:DAYLIGHT
TZOFFSETFROM:+0100
TZOFFSETTO:+0200
TZNAME:CEST
DTSTART:20170326T010000
END:DAYLIGHT
BEGIN:STANDARD
TZOFFSETFROM:+0200
TZOFFSETTO:+0100
TZNAME:CET
DTSTART:20171029T010000
END:STANDARD
BEGIN:DAYLIGHT
TZOFFSETFROM:+0100
TZOFFSETTO:+0200
TZNAME:CEST
DTSTART:20180325T010000
END:DAYLIGHT
BEGIN:STANDARD
TZOFFSETFROM:+0200
TZOFFSETTO:+0100
TZNAME:CET
DTSTART:20181028T010000
END:STANDARD
END:VTIMEZONE
BEGIN:VEVENT
DTSTART;VALUE=DATE:20181029
DTEND;VALUE=DATE:20181031
DTSTAMP:20260426T031139
CREATED:20181025T170038Z
LAST-MODIFIED:20181025T170457Z
UID:4848-1540771200-1540943999@bemad.cz
SUMMARY:Brigáda: Hosteska PRAHA\, PLZEŇ\, HATĚ\, TEPLICE
DESCRIPTION:Společnost České modelky s.r.o. nabízí brigádu pro hostesku v PRAZE\, PLZNI\, TEPLICÍCH a na HATÍCH pro BURGER KING\n\n\n \n\n\nKdy? \n\n\n29.10. 2018 – 11:00-19:00 na následujících lokacích: \n\n\n\nOC Plzeň Plaza\, \nOC Letňany Praha\, \nOC Harfa Praha\, \nOC Palladium Praha\, \nFreeport Hatě\, \nOC Metropole Zličín Praha\, \nOC Galerie Teplice\n\n\n\n \n\n\n30.10.2018 – 11:00-15:00 na následujících lokacích: \n\n\n\n\nOC Letňany Praha\, \nOC Harfa Praha\, \nOC Palladium Praha\, \nFreeport Hatě\, \nOC Metropole Zličín Praha\, \nOC Galerie Teplice\n\n\n\n\n \n\n\nCo? Rozdávání letáčků\n\n\n \n\n\nOdměna? 110 Kč/hod.\n\n\n \n\n\nV případě zájmu prosím pošlete svou foto a telefon a na email produkce@ceskemodelky.cz a do předmětu emailu napište „Hosteska BK – lokace” + termín\, o který máte zájem!
URL:https://bemad.cz/event/4848/
LOCATION:Česká republika
CATEGORIES:Brigády
ATTACH;FMTTYPE=image/jpeg:https://bemad.cz/wp-content/uploads/2018/09/bk-čr.jpg
ORGANIZER;CN="%C4%8Cesk%C3%A9 modelky s.r.o.":MAILTO:produkce@ceskemodelky.cz
END:VEVENT
BEGIN:VEVENT
DTSTART;TZID=Europe/Paris:20180921T103000
DTEND;TZID=Europe/Paris:20180928T200000
DTSTAMP:20260426T031139
CREATED:20180910T180502Z
LAST-MODIFIED:20180910T180502Z
UID:4741-1537525800-1538164800@bemad.cz
SUMMARY:Brigáda: 2 hostesky FreePort Hatě
DESCRIPTION:Společnost České modelky s.r.o. nabízí brigádu pro hostesku v níže uvedených městech pro BURGER KING  \nKdy? 21.9.2018 & 28.9.2018 \nČas? 10:30-20:00 \nKde? Freeport Hatě – 2 hostesky \nCo? Rozdávání letáčků \nOdměna? 110 Kč/hod. \nV případě zájmu prosím pošlete svou foto a telefon a na email produkce@ceskemodelky.cz a do předmětu emailu napište „Hosteska BK Hatě“ \n  \n \n 
URL:https://bemad.cz/event/brigada-2-hostesky-freeport-hate/
LOCATION:Česká republika
CATEGORIES:Brigády
ATTACH;FMTTYPE=image/jpeg:https://bemad.cz/wp-content/uploads/2018/09/hate.jpg
ORGANIZER;CN="%C4%8Cesk%C3%A9 modelky s.r.o.":MAILTO:produkce@ceskemodelky.cz
END:VEVENT
BEGIN:VEVENT
DTSTART;VALUE=DATE:20180914
DTEND;VALUE=DATE:20180929
DTSTAMP:20260426T031139
CREATED:20180912T085437Z
LAST-MODIFIED:20180912T085437Z
UID:4757-1536883200-1538179199@bemad.cz
SUMMARY:Brigáda: Hosteska rozdávání letáčků - PRAHA\, OLOMOUC\, HATĚ
DESCRIPTION:Společnost České modelky s.r.o. nabízí brigádu pro hostesku v PRAZE\, Hatích A OLOMOUCI pro BURGER KING  \nKdy & Kde? \n14.9. 10:00 – 20:00 \nOlomouc – 2x\nLetňany – 1x\nZličín – 2x \n15.9. 16:00-21:00 \nZličín 1x \n16.9.2018 10:00-21:00 \nOC Metropole Zličín 1x \n27.9. 10:00 – 20:00 \nOlomouc – 2x\nPalladium – 2x\nLetňany – 1x\nZličín – 2x \n28.9. 10:30 – 20:00 \nFreeport Hatě 2x \nCo? Rozdávání letáčků \nOdměna? 110 Kč/hod. \nV případě zájmu prosím pošlete svou foto a telefon a na email produkce@ceskemodelky.cz a do předmětu emailu napište „Hosteska BK + město + termín“ \n  \n \n 
URL:https://bemad.cz/event/brigada-hosteska-rozdavani-letacku-praha-olomouc-hate/
LOCATION:Česká republika
CATEGORIES:Brigády
ATTACH;FMTTYPE=image/jpeg:https://bemad.cz/wp-content/uploads/2018/06/bk-čr.jpg
ORGANIZER;CN="%C4%8Cesk%C3%A9 modelky s.r.o.":MAILTO:produkce@ceskemodelky.cz
END:VEVENT
BEGIN:VEVENT
DTSTART;TZID=Europe/Paris:20180710T103000
DTEND;TZID=Europe/Paris:20180710T200000
DTSTAMP:20260426T031139
CREATED:20180627T200102Z
LAST-MODIFIED:20180628T111148Z
UID:4596-1531218600-1531252800@bemad.cz
SUMMARY:Brigáda: Hostesky na rozdávání letáčků - celá ČR
DESCRIPTION:Společnost České modelky s.r.o. nabízí brigádu pro hostesku v níže uvedených městech pro BURGER KING  \nKdy? 10.7.2018 \nČas? 10:30-20:00 \nKde? \n          OC Palladium Praha – 2 hostesky \n  \nOC Galerie Teplice – 2 hostesky \n  \nOC Harfa Praha – 2 hostesky \n  \nOC Letňany Praha – 2 hostesky \n  \nOC Metropole Zličín Praha – 2 hostesky \n  \nCentral Kladno – 1 hosteska \n  \nPlzeň Plaza – 2 hostesky \n  \nOC Fórum Nová Karolína – 2 hostesky \n  \nOlomouc Galerie Šantovka – 2 hostesky \nFreeport Hatě – 2 hostesky \nCo? Rozdávání letáčků \nOdměna? 110 Kč/hod. \nV případě zájmu prosím pošlete svou foto a telefon a na email produkce@ceskemodelky.cz a do předmětu emailu napište „Hosteska BK + město“ \n  \n \n 
URL:https://bemad.cz/event/brigada-hostesky-na-rozdavani-letacku-cela-cr/
LOCATION:Česká republika
CATEGORIES:Brigády
ATTACH;FMTTYPE=image/jpeg:https://bemad.cz/wp-content/uploads/2018/06/bk-čr.jpg
ORGANIZER;CN="%C4%8Cesk%C3%A9 modelky s.r.o.":MAILTO:produkce@ceskemodelky.cz
END:VEVENT
BEGIN:VEVENT
DTSTART;TZID=Europe/Paris:20171130T153000
DTEND;TZID=Europe/Paris:20171130T203000
DTSTAMP:20260426T031139
CREATED:20171106T140244Z
LAST-MODIFIED:20171106T140244Z
UID:3830-1512055800-1512073800@bemad.cz
SUMMARY:Brigáda: Hostesky na otevíračku Burger King - Freeport Hatě
DESCRIPTION:Společnost České modelky s.r.o. hledá 2 hostesky na otevíračku Burger King \n Kdy? 30.11.2017 \n Čas? 15:30-20:30 \n Kde? OC Freeport Hatě \n Náplň práce? Vítání hostů\, welcome drinky\, sampling burgerů\n \n Honorář ? 130 Kč/hod. čistého\n \n Dress code? Černé legíny a lodičky ?\n \n V případě zájmu zašlete svou fotografii a svůj telefon na email produkce@ceskemodelky.cz a do předmětu uveďte „Hosteska BK Hatě“ \nKlientovi budeme posílat hostesky k výběru. Vybraným hosteskám se ozveme. 
URL:https://bemad.cz/event/brigada-hostesky-na-oteviracku-burger-king-freeport-hate/
LOCATION:Česká republika
CATEGORIES:Brigády
ATTACH;FMTTYPE=image/jpeg:https://bemad.cz/wp-content/uploads/2017/11/hate.jpg
ORGANIZER;CN="%C4%8Cesk%C3%A9 modelky s.r.o.":MAILTO:produkce@ceskemodelky.cz
END:VEVENT
END:VCALENDAR