BEGIN:VCALENDAR
VERSION:2.0
PRODID:-//Be MAD! Magazín pro hostesky &amp; modelky - ECPv6.6.0.2//NONSGML v1.0//EN
CALSCALE:GREGORIAN
METHOD:PUBLISH
X-WR-CALNAME:Be MAD! Magazín pro hostesky &amp; modelky
X-ORIGINAL-URL:https://bemad.cz
X-WR-CALDESC:Akce na Be MAD! Magazín pro hostesky &amp; modelky
REFRESH-INTERVAL;VALUE=DURATION:PT1H
X-Robots-Tag:noindex
X-PUBLISHED-TTL:PT1H
BEGIN:VTIMEZONE
TZID:Europe/Paris
BEGIN:DAYLIGHT
TZOFFSETFROM:+0100
TZOFFSETTO:+0200
TZNAME:CEST
DTSTART:20170326T010000
END:DAYLIGHT
BEGIN:STANDARD
TZOFFSETFROM:+0200
TZOFFSETTO:+0100
TZNAME:CET
DTSTART:20171029T010000
END:STANDARD
END:VTIMEZONE
BEGIN:VEVENT
DTSTART;TZID=Europe/Paris:20171019T160000
DTEND;TZID=Europe/Paris:20171019T220000
DTSTAMP:20260426T031256
CREATED:20171017T080716Z
LAST-MODIFIED:20171017T111558Z
UID:3682-1508428800-1508450400@bemad.cz
SUMMARY:Hosteska na GALAVEČER ČESKÝ GOODWILL 2017 
DESCRIPTION:  \n \n  \n  \nSpolečnost České modelky s.r.o. nabízí brigádu pro 2 hostesky z PRAHY na akci GALAVEČER ČESKÝ GOODWILL 2017 \n \nKde?  Kongresové centrum ČNB\, Senovážné náměstí 30\, 110 00 Praha 1 \nKdy? 19.10.2017 16:00-22:00 \nCo? Jedná o oslovování hostů na podpisové listiny určené pro finanční dary pro náš nadační fond MA MA Foundation. Hostům bude tato možnost řečena během galavečera kdy bude prezentován nadační fond. (www.mamafoundation.cz\, www.plnmeprani.cz) \nDress code? Vlastní černé koktejlky + vlastní černé lodičky/baleríny \nOdměna? 120 Kč/hod. čistého – výplata na účet do 14 dnů! \nPožadavky? Milé\, sympatické slečny\, reprezentativní vystupování. \nV případě zájmu prosím pošlete svou foto\, konfekční velikost\, výšku a telefon a na email produkce@ceskemodelky.cz a do předmětu emailu napište „Hosteska MAMA Praha“ \n  \n  \n\n \n\nO AKCI:\nGALAVEČER ČESKÝ GOODWILL 2017  „pouze pro zvané hosty“\n5. výročí ocenění pro firmy\, kterých si lidé váží\, spojené s předáváním ocenění Český Goodwill 2017. Galavečer spojený s koncertem Hudby Hradní stráže a PČR se koná\n19. října 2017 od 17 hodin v Kongresovém centru České národní banky.\n16:30 – 16:50 příchod hostů a welcome drink\n17:00 – 18:00 galakoncert Hudby Hradní stráže a Policie ČR\n18:30 – 20:00 slavnostní předávání ocenění Český Goodwill 2017\n20:00 – 22:00 společenské setkání a občerstvení regionálními specialitami
URL:https://bemad.cz/event/hosteska-na-galavecer-cesky-goodwill-2017/
LOCATION:Česká republika
CATEGORIES:Brigády
ATTACH;FMTTYPE=image/jpeg:https://bemad.cz/wp-content/uploads/2017/10/mama.jpg
ORGANIZER;CN="%C4%8Cesk%C3%A9 modelky s.r.o.":MAILTO:produkce@ceskemodelky.cz
END:VEVENT
END:VCALENDAR