BEGIN:VCALENDAR
VERSION:2.0
PRODID:-//Be MAD! Magazín pro hostesky &amp; modelky - ECPv6.6.0.2//NONSGML v1.0//EN
CALSCALE:GREGORIAN
METHOD:PUBLISH
X-ORIGINAL-URL:https://bemad.cz
X-WR-CALDESC:Akce na Be MAD! Magazín pro hostesky &amp; modelky
REFRESH-INTERVAL;VALUE=DURATION:PT1H
X-Robots-Tag:noindex
X-PUBLISHED-TTL:PT1H
BEGIN:VTIMEZONE
TZID:Europe/Paris
BEGIN:DAYLIGHT
TZOFFSETFROM:+0100
TZOFFSETTO:+0200
TZNAME:CEST
DTSTART:20180325T010000
END:DAYLIGHT
BEGIN:STANDARD
TZOFFSETFROM:+0200
TZOFFSETTO:+0100
TZNAME:CET
DTSTART:20181028T010000
END:STANDARD
END:VTIMEZONE
BEGIN:VEVENT
DTSTART;VALUE=DATE:20180823
DTEND;VALUE=DATE:20180827
DTSTAMP:20260426T034106
CREATED:20180820T065007Z
LAST-MODIFIED:20180820T065007Z
UID:4688-1534982400-1535327999@bemad.cz
SUMMARY:Brigáda: 2 hostesky na D+D REAL Czech Masters 2018 - Albatross Golf Resort Vysoký Újezd
DESCRIPTION:Společnost České modelky s.r.o. hledá 2 komunikativní hostesky pro Volkswagen Financial Services na akci D+D REAL Czech Masters 2018 – Albatross Golf Resort Vysoký Újezd  \nKdy? 23.-26.8.2018 \nČas? 8:00-20:00 \nKde? Albatross Golf Resort Vysoký Újezd\n \nNáplň práce? Informování o možnosti financování nových vozů (práce s iPadem) \nHonorář ? 130 Kč/hod. čistého \n V případě zájmu zašlete svou fotografii a svůj telefon na email  produkce@ceskemodelky.cz a do předmětu uveďte „Hosteska Golf Master“ \n  \n \n 
URL:https://bemad.cz/event/brigada-2-hostesky-na-dd-real-czech-masters-2018-albatross-golf-resort-vysoky-ujezd/
LOCATION:Česká republika
CATEGORIES:Brigády
ATTACH;FMTTYPE=image/jpeg:https://bemad.cz/wp-content/uploads/2018/08/masters2018.jpg
ORGANIZER;CN="%C4%8Cesk%C3%A9 modelky s.r.o.":MAILTO:produkce@ceskemodelky.cz
END:VEVENT
BEGIN:VEVENT
DTSTART;TZID=Europe/Paris:20180622T083000
DTEND;TZID=Europe/Paris:20180622T170000
DTSTAMP:20260426T034106
CREATED:20180620T084018Z
LAST-MODIFIED:20180620T084018Z
UID:4567-1529656200-1529686800@bemad.cz
SUMMARY:Brigáda: VIP hosteska Karlovy Vary - Golfové hřiště
DESCRIPTION:Společnost České modelky s.r.o. nabízí brigádu pro 1 hostesku – Karlovy Vary – Golfové hřiště \nKdy? 22.6.2018\n \nKde? Karlovy Vary – Golfové hřiště \nČas? 8:30-17:00\n\nNáplň práce? Rozdávání letáčků\, balónků\, vyplňování kontaktů do soutěže o auto na víkend – pro AAA Auto \nHonorář? 130 Kč/hod. \nPožadavky? Milé\, krásné a komunikativní slečny\n\nV případě zájmu prosím pošlete svou foto a telefon a na email produkce@ceskemodelky.cz a do předmětu emailu napište „Hosteska AAA Karlovy Vary“ . \n 
URL:https://bemad.cz/event/brigada-vip-hosteska-karlovy-vary-golfove-hriste/
LOCATION:Česká republika
CATEGORIES:Brigády
ATTACH;FMTTYPE=image/jpeg:https://bemad.cz/wp-content/uploads/2018/06/golf.jpg
ORGANIZER;CN="%C4%8Cesk%C3%A9 modelky s.r.o.":MAILTO:produkce@ceskemodelky.cz
END:VEVENT
BEGIN:VEVENT
DTSTART;TZID=Europe/Paris:20180504T090000
DTEND;TZID=Europe/Paris:20180504T190000
DTSTAMP:20260426T034106
CREATED:20180426T080015Z
LAST-MODIFIED:20180426T080041Z
UID:4410-1525424400-1525460400@bemad.cz
SUMMARY:Brigáda: TOP hosteska k luxusním vozům na golfový turnaj - BRNO
DESCRIPTION:Společnost České modelky s.r.o. nabízí brigádu pro hostesky na golfový turnaj pro Mototechnu \nKde? Golf resort Kaskáda BRNO\n\n \nKdy? 4.5.2018 \nČas? 9:00-19:00 \nNáplň práce?  Pózování u luxusních vozů \nPožadavky? Vzhled modelky ! Nejlépe 175 cm +\, konfekce 36 \nOdměna? 150\,- Kč /hod.\nV případě zájmu prosím pošlete svou foto (obličej + celá postava) a telefon a na email produkce@ceskemodelky.cz a do předmětu emailu napište „Hosteska VIP Brno„. \nFotografie přihlášených budeme posílat klientovi na výběr! \n  \n 
URL:https://bemad.cz/event/brigada-top-hosteska-k-luxusnim-vozum-na-golfovy-turnaj-brno/
LOCATION:Česká republika
CATEGORIES:Brigády
ATTACH;FMTTYPE=image/jpeg:https://bemad.cz/wp-content/uploads/2018/04/dark-lamborghini-in-the-nat.jpg
ORGANIZER;CN="%C4%8Cesk%C3%A9 modelky s.r.o.":MAILTO:produkce@ceskemodelky.cz
END:VEVENT
END:VCALENDAR