BEGIN:VCALENDAR
VERSION:2.0
PRODID:-//Be MAD! Magazín pro hostesky &amp; modelky - ECPv6.6.0.2//NONSGML v1.0//EN
CALSCALE:GREGORIAN
METHOD:PUBLISH
X-ORIGINAL-URL:https://bemad.cz
X-WR-CALDESC:Akce na Be MAD! Magazín pro hostesky &amp; modelky
REFRESH-INTERVAL;VALUE=DURATION:PT1H
X-Robots-Tag:noindex
X-PUBLISHED-TTL:PT1H
BEGIN:VTIMEZONE
TZID:Europe/Paris
BEGIN:DAYLIGHT
TZOFFSETFROM:+0100
TZOFFSETTO:+0200
TZNAME:CEST
DTSTART:20180325T010000
END:DAYLIGHT
BEGIN:STANDARD
TZOFFSETFROM:+0200
TZOFFSETTO:+0100
TZNAME:CET
DTSTART:20181028T010000
END:STANDARD
END:VTIMEZONE
BEGIN:VEVENT
DTSTART;TZID=Europe/Paris:20180429T113000
DTEND;TZID=Europe/Paris:20180429T143000
DTSTAMP:20260426T034157
CREATED:20180406T111730Z
LAST-MODIFIED:20180406T112140Z
UID:4318-1525001400-1525012200@bemad.cz
SUMMARY:Brigáda: VIP hosteska na hokejový zápas TipSport Aréna Praha
DESCRIPTION:Společnost České modelky s.r.o. nabízí brigádu pro REPREZENTATIVNÍ hostesku na hokejový zápas   \nKdy? 29.4.2018 \nČas? 11:30-14:30 \nKde? TipSport Aréna Praha \nCo? Rozdávání letáčků BurgerKing \nOdměna? 150 Kč/hod. \nV případě zájmu prosím pošlete svou foto a telefon a na email produkce@ceskemodelky.cz a do předmětu emailu napište „Hosteska BK – TipSport Aréna“ \n \n 
URL:https://bemad.cz/event/brigada-vip-hosteska-na-hokejovy-zapas-tipsport-arena-praha/
LOCATION:Česká republika
CATEGORIES:Brigády
ATTACH;FMTTYPE=image/jpeg:https://bemad.cz/wp-content/uploads/2018/04/BK-TIP.jpg
ORGANIZER;CN="%C4%8Cesk%C3%A9 modelky s.r.o.":MAILTO:produkce@ceskemodelky.cz
END:VEVENT
BEGIN:VEVENT
DTSTART;TZID=Europe/Paris:20180404T140000
DTEND;TZID=Europe/Paris:20180404T190000
DTSTAMP:20260426T034157
CREATED:20180403T140323Z
LAST-MODIFIED:20180406T111935Z
UID:4293-1522850400-1522868400@bemad.cz
SUMMARY:Brigáda: 2 hostesky na hokejové utkání české reprezentace - Příbram
DESCRIPTION:Společnost České modelky s.r.o. hledá 2 komunikativní hostesky pro Volkswagen Financial Services na hokejové utkání české reprezentace – Příbram  \nKdy? 4.4.2018 \nČas? 14:00-19:00 \nKde? Příbram – zimní stadion \nNáplň práce? Informování o možnosti financování nových vozů (práce s iPadem) \nDress code? Džíny\, tričko\, tenisky \nHonorář ? 110 Kč/hod. čistého \n V případě zájmu zašlete svou fotografii a svůj telefon na email  produkce@ceskemodelky.cz a do předmětu uveďte „Hosteska VW Příbram “ \nDopravu ani ubytování nezajišťujeme!  \n \n 
URL:https://bemad.cz/event/brigada-2-hostesky-na-hokejove-utkani-ceske-reprezentace-pribram/
LOCATION:Česká republika
CATEGORIES:Brigády
ATTACH;FMTTYPE=image/jpeg:https://bemad.cz/wp-content/uploads/2018/04/fb-profil-cze-sui-851x314px.jpg
ORGANIZER;CN="%C4%8Cesk%C3%A9 modelky s.r.o.":MAILTO:produkce@ceskemodelky.cz
END:VEVENT
BEGIN:VEVENT
DTSTART;VALUE=DATE:20180130
DTEND;VALUE=DATE:20180207
DTSTAMP:20260426T034157
CREATED:20180105T130742Z
LAST-MODIFIED:20180105T130742Z
UID:4016-1517270400-1517961599@bemad.cz
SUMMARY:Hosteska: Ostrava HC Vítkovice - rozdávání letáčků
DESCRIPTION:Společnost České modelky s.r.o. nabízí brigádu pro hostesku Ostrava – HC Vítkovice\nKdy? 30.1.2018 & 6.2.2018\nČas? vždy 3 hodiny před zápasem – bude upřesněno den předem\nKde? Ostrava HC Vítkovice\nNáplň práce? Rozdávání letáčků AAA Auto\, vyplňování kontaktů\, ankety\nHonorář? 110 Kč/hod.\nV případě zájmu prosím pošlete svou foto a telefon a na email produkce@ceskemodelky.cz a do předmětu emailu napište „Hosteska AAA HC Vítkovice“ – uveďte i termín\, který se Vám hodí.
URL:https://bemad.cz/event/hosteska-ostrava-hc-vitkovice-rozdavani-letacku/
LOCATION:Česká republika
CATEGORIES:Brigády
ATTACH;FMTTYPE=image/jpeg:https://bemad.cz/wp-content/uploads/2017/09/hokej.jpg
ORGANIZER;CN="%C4%8Cesk%C3%A9 modelky s.r.o.":MAILTO:produkce@ceskemodelky.cz
END:VEVENT
END:VCALENDAR