BEGIN:VCALENDAR
VERSION:2.0
PRODID:-//Be MAD! Magazín pro hostesky &amp; modelky - ECPv6.6.0.2//NONSGML v1.0//EN
CALSCALE:GREGORIAN
METHOD:PUBLISH
X-WR-CALNAME:Be MAD! Magazín pro hostesky &amp; modelky
X-ORIGINAL-URL:https://bemad.cz
X-WR-CALDESC:Akce na Be MAD! Magazín pro hostesky &amp; modelky
REFRESH-INTERVAL;VALUE=DURATION:PT1H
X-Robots-Tag:noindex
X-PUBLISHED-TTL:PT1H
BEGIN:VTIMEZONE
TZID:Europe/Paris
BEGIN:DAYLIGHT
TZOFFSETFROM:+0100
TZOFFSETTO:+0200
TZNAME:CEST
DTSTART:20170326T010000
END:DAYLIGHT
BEGIN:STANDARD
TZOFFSETFROM:+0200
TZOFFSETTO:+0100
TZNAME:CET
DTSTART:20171029T010000
END:STANDARD
END:VTIMEZONE
BEGIN:VEVENT
DTSTART;TZID=Europe/Paris:20171020T140000
DTEND;TZID=Europe/Paris:20171020T170000
DTSTAMP:20260426T013634
CREATED:20171011T104938Z
LAST-MODIFIED:20171011T104938Z
UID:3631-1508508000-1508518800@bemad.cz
SUMMARY:Brigáda: Hostesky SK - ochutnávky pečiva - BA\, ZA\, NR\, LC\, PO
DESCRIPTION:Společnost České modelky s.r.o. nabízí brigádu hostesek či promotérů na OCHUTNÁVKU pečiva ku příležitosti Světového dne chleba – Bratislava\, Nitra\, Žilina\, Lučenec\, Prešov \nKdy? 20.10.2017\nČas? 14:00 – 17:00\nKde? Prodejny BILLA ve městech: Bratislava\, Nitra\, Žilina\, Lučenec\, Prešov\nCo? Nabízení ochutnávky pečiva\nOdměna? 4\,5€/hod. čistého\nPožadavky? Sympatické\, milé\, komunikativní hostesky či promotéři s POTRAVINÁŘSKÝM PRŮKAZEM \nV případě zájmu prosím pošlete svou foto a telefon a na email produkce@ceskemodelky.cz a do předmětu emailu napište „Hosteska/promotér + město“ \n  \n  \n \n  \n  \n 
URL:https://bemad.cz/event/brigada-hostesky-sk-ochutnavky-peciva-ba-za-nr-lc-po/
LOCATION:Česká republika
CATEGORIES:Brigády
ATTACH;FMTTYPE=image/jpeg:https://bemad.cz/wp-content/uploads/2017/10/svetovydenchleba.jpg
ORGANIZER;CN="%C4%8Cesk%C3%A9 modelky s.r.o.":MAILTO:produkce@ceskemodelky.cz
END:VEVENT
BEGIN:VEVENT
DTSTART;TZID=Europe/Paris:20171019T160000
DTEND;TZID=Europe/Paris:20171019T200000
DTSTAMP:20260426T013634
CREATED:20171018T085644Z
LAST-MODIFIED:20171018T085644Z
UID:3709-1508428800-1508443200@bemad.cz
SUMMARY:Brigáda: Hosteska na rozdávání letáčků Praha
DESCRIPTION:Společnost České modelky s.r.o. nabízí brigádu pro hostesku v PRAZE – OC HARFA pro BURGER KING  \nKdy? 19.10.2017 16:00-20:00 \nKde? OC Harfa Praha \nCo? Rozdávání letáčků \nOdměna? 120 Kč/hod. \nV případě zájmu prosím pošlete svou foto a telefon a na email produkce@ceskemodelky.cz a do předmětu emailu napište „Hosteska BK – Harfa“. \n 
URL:https://bemad.cz/event/brigada-hosteska-na-rozdavani-letacku-praha-2/
LOCATION:Česká republika
CATEGORIES:Brigády
ATTACH;FMTTYPE=image/jpeg:https://bemad.cz/wp-content/uploads/2017/10/bk.jpg
ORGANIZER;CN="%C4%8Cesk%C3%A9 modelky s.r.o.":MAILTO:produkce@ceskemodelky.cz
END:VEVENT
BEGIN:VEVENT
DTSTART;TZID=Europe/Paris:20171015T130000
DTEND;TZID=Europe/Paris:20171015T200000
DTSTAMP:20260426T013634
CREATED:20171010T110724Z
LAST-MODIFIED:20171010T110724Z
UID:3613-1508072400-1508097600@bemad.cz
SUMMARY:Brigáda: Hosteska/promotér s autem PRAHA
DESCRIPTION:Kdy? 15.10.2017 13:00-cca 20:00 \nKde? Divadlo U Hasičů – slavnostní vyhlášení titulu Mistr zábavního umění za rok 2017 \nCo? Nabízení ochutnávky pečiva \nOdměna? 120 Kč/hod. + 500\,- příspěvek na dopravu! \nPožadavky? Sympatické\, milé\, komunikativní hostesky s POTRAVINÁŘSKÝM PRŮKAZEM \nPROMO MATERIÁL je nutné si vyzvednou (i vrátit) v pekárně v HERINK – Zelená louka. \nV případě zájmu prosím pošlete svou foto a telefon a na email produkce@ceskemodelky.cz a do předmětu emailu napište „Hosteska Praha Divadlo“. \nAdresa akce:\n \nAdresa pekárny:
URL:https://bemad.cz/event/brigada-hosteskapromoter-s-autem-praha/
LOCATION:Česká republika
CATEGORIES:Brigády
ATTACH;FMTTYPE=image/jpeg:https://bemad.cz/wp-content/uploads/2017/10/uhasicu.jpg
ORGANIZER;CN="%C4%8Cesk%C3%A9 modelky s.r.o.":MAILTO:produkce@ceskemodelky.cz
END:VEVENT
BEGIN:VEVENT
DTSTART;TZID=Europe/Paris:20171013T180000
DTEND;TZID=Europe/Paris:20171013T180000
DTSTAMP:20260426T013634
CREATED:20171010T133322Z
LAST-MODIFIED:20171010T134151Z
UID:3617-1507917600-1507917600@bemad.cz
SUMMARY:Brigáda: Hostesky na fotbal PRAHA
DESCRIPTION:Společnost České modelky s.r.o. nabízí brigádu pro 2 +2 hostesky   \nKde? Fotbalový stadion Bohemians 1905 a AC SPARTA Praha \nKdy? 13.10. & 15.10.2017 \nČas?  \n\n2 hostesky – 13.10.2017 – 18:00-21:00 – Stadion Bohemians\n2 hostesky -15.10.2017 – 16:00-18:00 – Stadion AC Sparta Praha\n\nNáplň práce? Rozdávání letáčků a promo dárečků\, vyplňování kontaktů do soutěže o auto na víkend \nOdměna? 130\,- Kč /hod. \nV případě zájmu prosím pošlete svou foto a telefon a na email produkce@ceskemodelky.cz a do předmětu emailu napište „Hosteska Fotbal Bohemians nebo Sparta“  \nPráce je na dohodu\, výplata do 10 dnů na účet. \n  \n \n  \n  \nStadion Bohemians 13.10.2017 – 18:00-21:00\n\n \n  \nStadion AC Sparta PRAHA 15.10.2017 – 16:00-18:00
URL:https://bemad.cz/event/brigada-hostesky-na-fotbal-praha/
LOCATION:Česká republika
CATEGORIES:Brigády
ATTACH;FMTTYPE=image/jpeg:https://bemad.cz/wp-content/uploads/2017/10/sparta-bohemka.jpg
ORGANIZER;CN="%C4%8Cesk%C3%A9 modelky s.r.o.":MAILTO:produkce@ceskemodelky.cz
END:VEVENT
BEGIN:VEVENT
DTSTART;TZID=Europe/Paris:20171013T173000
DTEND;TZID=Europe/Paris:20171013T213000
DTSTAMP:20260426T013634
CREATED:20171012T135524Z
LAST-MODIFIED:20171018T085442Z
UID:3659-1507915800-1507930200@bemad.cz
SUMMARY:Brigáda: Hosteska na rozdávání letáčků Praha
DESCRIPTION:Společnost České modelky s.r.o. nabízí brigádu pro hostesku v PRAZE – OC HARFA pro BURGER KING  \nKdy? 13.10.2017 17:30-21:30 \nKde? OC Harfa Praha \nCo? Rozdávání letáčků \nOdměna? 120 Kč/hod. \nV případě zájmu prosím pošlete svou foto a telefon a na email produkce@ceskemodelky.cz a do předmětu emailu napište „Hosteska BK – Harfa“.
URL:https://bemad.cz/event/brigada-hosteska-na-rozdavani-letacku-praha/
LOCATION:Česká republika
CATEGORIES:Brigády
ATTACH;FMTTYPE=image/jpeg:https://bemad.cz/wp-content/uploads/2017/09/5344d6e76e85d333becb0600.jpg
ORGANIZER;CN="%C4%8Cesk%C3%A9 modelky s.r.o.":MAILTO:produkce@ceskemodelky.cz
END:VEVENT
BEGIN:VEVENT
DTSTART;TZID=Europe/Paris:20171011T080000
DTEND;TZID=Europe/Paris:20171011T180000
DTSTAMP:20260426T013634
CREATED:20171005T101317Z
LAST-MODIFIED:20171005T102251Z
UID:3569-1507708800-1507744800@bemad.cz
SUMMARY:Brigáda: 2 plussize hostesky - PRAHA
DESCRIPTION:Společnost České modelky s.r.o. nabízí\, jako již 3. rokem\,  brigádu pro 2 PLUS SIZE hostesky v Praze \n \nKde? Atrium Flora Praha \nKdy? 11.10.2017 8:00-18:00 \nCo? jedná se o akci u příležitosti Světového dne obezity\, konat se bude v Atriu Flora. Na místě budeme mít několik stanovišť – poradna lékaře\, výživový poradce\, trenér\, slečny potřebujeme k stánkům\, aby byly tak nějak k ruce\, nic složitého 🙂 \nOdměna? 120 Kč/hod. \nPožadavky? Sympatické komunikativní slečny – Konfekční velikost 44 + \nV případě zájmu prosím pošlete svou foto a telefon a na email produkce@ceskemodelky.cz a do předmětu emailu napište „Hosteska PLUSSIZE PRAHA“ \n \n 
URL:https://bemad.cz/event/brigada-2-plussize-hostesky-praha/
LOCATION:Česká republika
CATEGORIES:Brigády
ATTACH;FMTTYPE=image/jpeg:https://bemad.cz/wp-content/uploads/2017/10/pkussize.jpg
ORGANIZER;CN="%C4%8Cesk%C3%A9 modelky s.r.o.":MAILTO:produkce@ceskemodelky.cz
END:VEVENT
BEGIN:VEVENT
DTSTART;TZID=Europe/Paris:20171009T070000
DTEND;TZID=Europe/Paris:20171018T180000
DTSTAMP:20260426T013634
CREATED:20171006T120920Z
LAST-MODIFIED:20171006T122135Z
UID:3583-1507532400-1508349600@bemad.cz
SUMMARY:Brigáda: 2 hostesky na rozdávání perníčků Most & Chomutov & Ústí nad Labem & Teplice & Děčín
DESCRIPTION:Společnost České modelky s.r.o. nabízí brigádu pro 2 hostesky (nebo hostesku a promotéra)  v Mostě & Chomutově & Ústí nad Labem & Teplicích & Děčíně\n \nKde? veřejná prostranství výše uvedených měst \nKdy? 9.10-18.10. 2017 – čas 2 hodiny ráno + 2-3 hodiny odpoledne – čas se dá přizpůsobit Vašim možnostem. Hledáme ale flexibilní a schopné hostesky. Perníčky budou zaslány na Vaši adresu – tudíž si to nelze v polovině promo akce rozmyslet. \nCo? Rozdávání perníčků a letáčků na podporu politické strany \nOdměna? 130 Kč/hod. \nV případě zájmu prosím pošlete svou foto a telefon a na email produkce@ceskemodelky.cz a do předmětu emailu napište „Hosteska Perníčky + město“ \n  \n 
URL:https://bemad.cz/event/brigada-2-hostesky-na-rozdavani-pernicku-most-chomutov-usti-nad-labem-teplice-decin/
LOCATION:Česká republika
CATEGORIES:Brigády
ATTACH;FMTTYPE=image/jpeg:https://bemad.cz/wp-content/uploads/2017/10/pernicky.jpg
ORGANIZER;CN="%C4%8Cesk%C3%A9 modelky s.r.o.":MAILTO:produkce@ceskemodelky.cz
END:VEVENT
BEGIN:VEVENT
DTSTART;TZID=Europe/Paris:20171007T093000
DTEND;TZID=Europe/Paris:20171007T183000
DTSTAMP:20260426T013634
CREATED:20171004T111203Z
LAST-MODIFIED:20171004T131057Z
UID:3538-1507368600-1507401000@bemad.cz
SUMMARY:Brigáda: Hosteska na ochutnávku - Chotěboř
DESCRIPTION:Společnost České modelky s.r.o. nabízí brigádu hostesky na OCHUTNÁVKU v Chotěboři \nKdy? sobota 7.10.2017\nČas? 9:30 – 18:30\nKde? Areál pivovaru Chotěboř\nCo? Nabízení ochutnávky pečiva\nOdměna? 110 Kč/hod. čistého\nPožadavky? Sympatické\, milé\, komunikativní hostesky či promotéři s POTRAVINÁŘSKÝM PRŮKAZEM \n\nV případě zájmu prosím pošlete svou foto a telefon a na email produkce@ceskemodelky.cz a do předmětu emailu napište „Hosteska/promotér Chotěboř“ \nPivovar Chotěboř:
URL:https://bemad.cz/event/brigada-hosteska-na-ochutnavku-chotebor/
LOCATION:Pivovar Chotěboř\, Chotěboř\, Česká republika
CATEGORIES:Brigády
ATTACH;FMTTYPE=image/jpeg:https://bemad.cz/wp-content/uploads/2017/10/chotebor.jpg
ORGANIZER;CN="%C4%8Cesk%C3%A9 modelky s.r.o.":MAILTO:produkce@ceskemodelky.cz
END:VEVENT
END:VCALENDAR