BEGIN:VCALENDAR
VERSION:2.0
PRODID:-//Be MAD! Magazín pro hostesky &amp; modelky - ECPv6.6.0.2//NONSGML v1.0//EN
CALSCALE:GREGORIAN
METHOD:PUBLISH
X-ORIGINAL-URL:https://bemad.cz
X-WR-CALDESC:Akce na Be MAD! Magazín pro hostesky &amp; modelky
REFRESH-INTERVAL;VALUE=DURATION:PT1H
X-Robots-Tag:noindex
X-PUBLISHED-TTL:PT1H
BEGIN:VTIMEZONE
TZID:Europe/Paris
BEGIN:DAYLIGHT
TZOFFSETFROM:+0100
TZOFFSETTO:+0200
TZNAME:CEST
DTSTART:20170326T010000
END:DAYLIGHT
BEGIN:STANDARD
TZOFFSETFROM:+0200
TZOFFSETTO:+0100
TZNAME:CET
DTSTART:20171029T010000
END:STANDARD
END:VTIMEZONE
BEGIN:VEVENT
DTSTART;VALUE=DATE:20171001
DTEND;VALUE=DATE:20171002
DTSTAMP:20260426T034106
CREATED:20170918T092918Z
LAST-MODIFIED:20170918T093130Z
UID:3345-1506816000-1506902399@bemad.cz
SUMMARY:HPP: Dodo for life hledá ASISTENTKU PRODEJE Praha
DESCRIPTION:Dodo for life hledá do svého týmu vhodného kandidáta na pozici ASISTENTKA PRODEJE – Odborný  prodejce. \nPožadujeme: \n– Praxe z prodeje dveří\, nábytku\, kuchyní\, interiérů…. – Výhodou\n– Uživatelská znalost PC\n– Výborné komunikativní schopnosti\n– Proklientský přístup a umění poradit\n– Cit pro estetiku a design\n– Samostatnost\, pečlivost\, důslednost\n– Středoškolské vzdělání\n– Preferujeme ženu \nNáplň práce: \n– samostatný prodej na showroomu\n– zodpovědnost za plnění prodejních cílů\n– komunikace s klienty\n– prezentace zboží\n– sestavování nabídek\n– vytváření kalkulací\, smluv a faktur\n– zodpovědnost za chod prodejny\n– kompetentní poradenství zákazníkům \nNabízíme: \n– práci na HPP\n– dobré finanční ohodnocení\n– odborné zaškolení\n– práce v kolektivu\n– místo výkonu práce Praha\n– nástup IHNED\, případně dohodou \nZaujala Vás naše nabídka? \nZašlete nám strukturovaný životopis s fotografií na email: info@nemovitosti-chorvatsko.com \n  \nSdíleno: http://dodo-dvere.cz/cz/Aktuality/Hledame-do-sveho-tymu-ASISTENTKU-PRODEJE-!!!!!!.aspx
URL:https://bemad.cz/event/hpp-dodo-for-life-hleda-asistentku-prodeje-praha/
LOCATION:Česká republika
ATTACH;FMTTYPE=image/jpeg:https://bemad.cz/wp-content/uploads/2017/09/DODO.jpg
ORGANIZER;CN="Dodo for Life":MAILTO:info@nemovitosti-chorvatsko.com
END:VEVENT
BEGIN:VEVENT
DTSTART;TZID=Europe/Paris:20170920T151100
DTEND;TZID=Europe/Paris:20170920T151100
DTSTAMP:20260426T034106
CREATED:20170912T143831Z
LAST-MODIFIED:20170918T093224Z
UID:3295-1505920260-1505920260@bemad.cz
SUMMARY:Práce/brigáda: Recepční PRAHA
DESCRIPTION:Malgen Services s.r.o. přijme na volné pozice do Prahy a okolí muže i ženy na pozici recepční v administrativní budově nebo bytovém komplexu. \nNáplň práce: \n\nevidence vstupu osob\nevidence vjezdu/výjezdu vozidel\nposkytování služeb recepce\ndrobné kancelářské práce\nvyřizování a třídění pošty a telefonických hovorů\n\nPožadujeme: \n\nvěk od 18let\nmin. dokončené SŠ vzdělání\ntrestní bezúhonnost\nčasovou flexibilitu\nznalost práce na PC\nznalost AJ na komunikativní úrovni\nreprezentativní vzhled\n\nVýhodou: \n\npředchozí zkušenosti na obdobné pozici\nznalost obsluhy kamerových systémů\nznalost dalšího světového jazyka\n\nNabízíme: \n\nplat od 90 Kč/hod do 130 Kč/hod\npráce na HPP\, DPČ a DPP\nsměnný provoz\, možnost plánovat si směny a volna\nvýkonnostní odměny a bonusy\nmožnost zajištění ubytování na firemní ubytovně a dotace na ubytování\nnáborový příspěvek 3000\,-\nfiremní i mzdový růst\nzálohy a zaměstnanecké půjčky\nbonus za přivedení nového zaměstnance\n\nRegistrační formulář: zde.
URL:https://bemad.cz/event/pracebrigada-recepcni-praha/
LOCATION:Praha 4\, Česká republika
CATEGORIES:Brigády
ATTACH;FMTTYPE=image/jpeg:https://bemad.cz/wp-content/uploads/2017/09/18011185_1516590338383569_2043407280035010386_n.jpg
END:VEVENT
END:VCALENDAR