BEGIN:VCALENDAR
VERSION:2.0
PRODID:-//Be MAD! Magazín pro hostesky &amp; modelky - ECPv6.6.0.2//NONSGML v1.0//EN
CALSCALE:GREGORIAN
METHOD:PUBLISH
X-WR-CALNAME:Be MAD! Magazín pro hostesky &amp; modelky
X-ORIGINAL-URL:https://bemad.cz
X-WR-CALDESC:Akce na Be MAD! Magazín pro hostesky &amp; modelky
REFRESH-INTERVAL;VALUE=DURATION:PT1H
X-Robots-Tag:noindex
X-PUBLISHED-TTL:PT1H
BEGIN:VTIMEZONE
TZID:Europe/Paris
BEGIN:DAYLIGHT
TZOFFSETFROM:+0100
TZOFFSETTO:+0200
TZNAME:CEST
DTSTART:20180325T010000
END:DAYLIGHT
BEGIN:STANDARD
TZOFFSETFROM:+0200
TZOFFSETTO:+0100
TZNAME:CET
DTSTART:20181028T010000
END:STANDARD
END:VTIMEZONE
BEGIN:VEVENT
DTSTART;VALUE=DATE:20181108
DTEND;VALUE=DATE:20181110
DTSTAMP:20260426T034658
CREATED:20181025T103212Z
LAST-MODIFIED:20181025T103212Z
UID:4833-1541635200-1541807999@bemad.cz
SUMMARY:Brigáda: Hosteska Plzeň - lékařský kongres
DESCRIPTION:Společnost České modelky s.r.o. nabízí brigádu pro hostesku v PLZNI na lékařském kongresu \nKdy?\n8.11.2018 – 11.30 – 18.00 hod.\n9.11.2018 – 8.30 – 18.00 hod.   \nKde? Parkhotel Plzeň Congress Center\, U Borského parku 31\, 301 00 Plzeň  (výstavní expozice Sandoz ) \nCo? Jedná se o lékařský kongres a slečna bude zajišťovat běžný chod expozice společnosti Sandoz  s.r.o.\, tzn. udržování pořádku na expozici\, příprava kávy\, převzetí občerstvení od dodavatelů\, podávání občerstvení\, doplňování letáků apod. \nDress code? tmavá sukně či kalhoty / bílá halenka / tmavé lodičky či balerínky \nOdměna? 120 Kč/hod. \nV případě zájmu prosím pošlete svou foto a telefon a na email produkce@ceskemodelky.cz  a do předmětu emailu napište „Hosteska LK – Plzeň” + termín\, o který máte zájem! \n  \n 
URL:https://bemad.cz/event/brigada-hosteska-plzen-lekarsky-kongres/
LOCATION:Česká republika
CATEGORIES:Brigády
ATTACH;FMTTYPE=image/jpeg:https://bemad.cz/wp-content/uploads/2018/10/plzen.jpg
ORGANIZER;CN="%C4%8Cesk%C3%A9 modelky s.r.o.":MAILTO:produkce@ceskemodelky.cz
END:VEVENT
BEGIN:VEVENT
DTSTART;TZID=Europe/Paris:20180608T090000
DTEND;TZID=Europe/Paris:20180609T170000
DTSTAMP:20260426T034658
CREATED:20180530T130436Z
LAST-MODIFIED:20180530T130436Z
UID:4531-1528448400-1528563600@bemad.cz
SUMMARY:Brigáda: Hosteska na lékařský kongres BVV Brno
DESCRIPTION:Společnost České modelky s.r.o. hledá komunikativní hostesku: \nKdy? 8.-9.6.2018 \nČas? 9:00-17:00 \nKde? BVV Brno \nNáplň práce? Zvaní lékařů na stánek a rozdávání rekl. materiálů a dárků. \nHonorář ? 120 Kč/hod. čistého \nPožadavky? Komunikativní\, nejlépe se zrzavými vlasy a vyšší postavy \n V případě zájmu zašlete svou fotografii a svůj telefon na email  produkce@ceskemodelky.cz a do předmětu uveďte „Hosteska BVV kongres“ \n  \n \n 
URL:https://bemad.cz/event/brigada-hosteska-na-lekarsky-kongres-bvv-brno/
LOCATION:Česká republika
CATEGORIES:Brigády
ATTACH;FMTTYPE=image/jpeg:https://bemad.cz/wp-content/uploads/2018/05/Untitled-1.jpg
ORGANIZER;CN="%C4%8Cesk%C3%A9 modelky s.r.o.":MAILTO:produkce@ceskemodelky.cz
END:VEVENT
BEGIN:VEVENT
DTSTART;TZID=Europe/Paris:20180426T090000
DTEND;TZID=Europe/Paris:20180427T180000
DTSTAMP:20260426T034658
CREATED:20180322T090900Z
LAST-MODIFIED:20180406T111850Z
UID:4255-1524733200-1524852000@bemad.cz
SUMMARY:Brigáda: Hosteska na lékařský kongres - Luhačovice
DESCRIPTION:Společnost České modelky s.r.o. nabízí brigádu pro hostesky na lékařský kongres v Luhačovicích \nKde? Kulturní dům Elektra – Lékařský kongres – Luhačovice \nKdy? 26.-27.4.2018 \nČas? 9:00-18:00 \nNáplň práce? Rozdávání letáčků a registrace odběratelů odborného lékařského online časopisu \nOdměna? 110\,- Kč /hod. \n\nV případě zájmu prosím pošlete svou foto a telefon a na email produkce@ceskemodelky.cz a do předmětu emailu napište „Hosteska Luhačovice“. \n  \n 
URL:https://bemad.cz/event/brigada-hosteska-na-lekarsky-kongres-luhacovice/
LOCATION:Česká republika
CATEGORIES:Brigády
ATTACH;FMTTYPE=image/jpeg:https://bemad.cz/wp-content/uploads/2018/03/serviciossalud_facebook-1.jpg
ORGANIZER;CN="%C4%8Cesk%C3%A9 modelky s.r.o.":MAILTO:produkce@ceskemodelky.cz
END:VEVENT
END:VCALENDAR