BEGIN:VCALENDAR
VERSION:2.0
PRODID:-//Be MAD! Magazín pro hostesky &amp; modelky - ECPv6.6.0.2//NONSGML v1.0//EN
CALSCALE:GREGORIAN
METHOD:PUBLISH
X-WR-CALNAME:Be MAD! Magazín pro hostesky &amp; modelky
X-ORIGINAL-URL:https://bemad.cz
X-WR-CALDESC:Akce na Be MAD! Magazín pro hostesky &amp; modelky
REFRESH-INTERVAL;VALUE=DURATION:PT1H
X-Robots-Tag:noindex
X-PUBLISHED-TTL:PT1H
BEGIN:VTIMEZONE
TZID:Europe/Paris
BEGIN:DAYLIGHT
TZOFFSETFROM:+0100
TZOFFSETTO:+0200
TZNAME:CEST
DTSTART:20170326T010000
END:DAYLIGHT
BEGIN:STANDARD
TZOFFSETFROM:+0200
TZOFFSETTO:+0100
TZNAME:CET
DTSTART:20171029T010000
END:STANDARD
BEGIN:DAYLIGHT
TZOFFSETFROM:+0100
TZOFFSETTO:+0200
TZNAME:CEST
DTSTART:20180325T010000
END:DAYLIGHT
BEGIN:STANDARD
TZOFFSETFROM:+0200
TZOFFSETTO:+0100
TZNAME:CET
DTSTART:20181028T010000
END:STANDARD
END:VTIMEZONE
BEGIN:VEVENT
DTSTART;VALUE=DATE:20180727
DTEND;VALUE=DATE:20180916
DTSTAMP:20260426T045016
CREATED:20180627T192110Z
LAST-MODIFIED:20180627T192110Z
UID:4589-1532649600-1537055999@bemad.cz
SUMMARY:Brigáda: Hostesky na akce "Pijte s mírou"
DESCRIPTION:Společnost České modelky s.r.o. nabízí brigádu pro 2 hostesky na akce „Pijte s mírou“  \n\n\nBenátská noc (Liberec) pátek 27.7.\nVizovické Trnkobraní (Vizovice) 17.-18.8 (bude patrně sobota)\nDOD Starobrno (Brno) sobota 8.9.\nSlavnosti piva Krušovice (Krušovice) sobota 15.9.\n\n\nNáplň práce? Projekt pijte s mírou (letáčky\, rozdávání dárků\, měření alkoholtesterem) \nHonorář? 110 Kč/hod. \nPožadavky? Milé\, komunikativní slečny\n\nV případě zájmu prosím pošlete svou foto a telefon a na email produkce@ceskemodelky.cz a do předmětu emailu napište „Hosteska Pijte s mírou + město“ . \n 
URL:https://bemad.cz/event/brigada-hostesky-na-akce-pijte-s-mirou/
LOCATION:Česká republika
CATEGORIES:Brigády
ATTACH;FMTTYPE=image/jpeg:https://bemad.cz/wp-content/uploads/2018/06/pijte-s-mirou.jpg
ORGANIZER;CN="%C4%8Cesk%C3%A9 modelky s.r.o.":MAILTO:produkce@ceskemodelky.cz
END:VEVENT
BEGIN:VEVENT
DTSTART;TZID=Europe/Paris:20180519T140000
DTEND;TZID=Europe/Paris:20180519T160000
DTSTAMP:20260426T045016
CREATED:20180514T100008Z
LAST-MODIFIED:20180514T100213Z
UID:4483-1526738400-1526745600@bemad.cz
SUMMARY:Brigáda: 3 hostesky FC Slovan Liberec
DESCRIPTION:Společnost České modelky s.r.o. nabízí brigádu pro 3 hostesky: \nTermín? 19.5.2018  \nČas? 14:00-16:00 \nMísto? Stadion Slovanu Liberec – Na Hradbách 1300/17\, Liberec  \nNáplň práce? Rozdávání letáčků a promo dárečků\, vyplňování kontaktů do soutěže o auto na víkend – akce se konají venku \n\nOdměna? 130\,- Kč /hod. \nV případě zájmu prosím pošlete svou foto a telefon a na email produkce@ceskemodelky.cz a do předmětu emailu napište „Hosteska Slovan Liberec“ . \nPráce je na dohodu\, výplata do 10 dnů na účet.
URL:https://bemad.cz/event/brigada-3-hostesky-fc-slovan-liberec/
LOCATION:Česká republika
CATEGORIES:Brigády
ATTACH;FMTTYPE=image/jpeg:https://bemad.cz/wp-content/uploads/2018/04/e5c166ab069426bd102aec46df4-e1568720747313.jpg
ORGANIZER;CN="%C4%8Cesk%C3%A9 modelky s.r.o.":MAILTO:produkce@ceskemodelky.cz
END:VEVENT
BEGIN:VEVENT
DTSTART;TZID=Europe/Paris:20180422T160000
DTEND;TZID=Europe/Paris:20180422T180000
DTSTAMP:20260426T045016
CREATED:20180412T113842Z
LAST-MODIFIED:20180412T113842Z
UID:4348-1524412800-1524420000@bemad.cz
SUMMARY:Brigáda: 4 hostesky Slovan Liberec
DESCRIPTION:Společnost České modelky s.r.o. nabízí brigádu pro 4 hostesky: \nTermín? 22.4.2018  \nČas? 16:00-18:00 \nMísto? Stadion Slovanu Liberec  \nNáplň práce? Rozdávání letáčků a promo dárečků\, vyplňování kontaktů do soutěže o auto na víkend – akce se konají venku \n\nOdměna? 130\,- Kč /hod. \nV případě zájmu prosím pošlete svou foto a telefon a na email produkce@ceskemodelky.cz a do předmětu emailu napište „Hosteska Slovan Liberec“ . \nPráce je na dohodu\, výplata do 10 dnů na účet.
URL:https://bemad.cz/event/brigada-4-hostesky-slovan-liberec/
LOCATION:Česká republika
CATEGORIES:Brigády
ATTACH;FMTTYPE=image/jpeg:https://bemad.cz/wp-content/uploads/2018/04/e5c166ab069426bd102aec46df4-e1568720747313.jpg
ORGANIZER;CN="%C4%8Cesk%C3%A9 modelky s.r.o.":MAILTO:produkce@ceskemodelky.cz
END:VEVENT
BEGIN:VEVENT
DTSTART;TZID=Europe/Paris:20180327T073000
DTEND;TZID=Europe/Paris:20180327T093000
DTSTAMP:20260426T045016
CREATED:20180313T104917Z
LAST-MODIFIED:20180406T111959Z
UID:4234-1522135800-1522143000@bemad.cz
SUMMARY:Brigáda: Hosteska na stadion Slovanu Liberec
DESCRIPTION:Společnost České modelky s.r.o. nabízí brigádu pro 1 hostesku: \nTermín? 27.3.2018  \nČas? 7:30-9:30 \nMísto? Stadion Slovanu Liberec  \nNáplň práce? Rozdávání letáčků a promo dárečků \n\nOdměna? 130\,- Kč /hod. \nV případě zájmu prosím pošlete svou foto a telefon a na email produkce@ceskemodelky.cz a do předmětu emailu napište „Hosteska Slovan Liberec“ . \nPráce je na dohodu\, výplata do 10 dnů na účet.
URL:https://bemad.cz/event/brigada-hosteska-na-stadion-slovanu-liberec/
LOCATION:Česká republika
CATEGORIES:Brigády
ATTACH;FMTTYPE=image/jpeg:https://bemad.cz/wp-content/uploads/2018/03/slovan-liberec-e1569398567843.jpg
ORGANIZER;CN="%C4%8Cesk%C3%A9 modelky s.r.o.":MAILTO:produkce@ceskemodelky.cz
END:VEVENT
BEGIN:VEVENT
DTSTART;VALUE=DATE:20180211
DTEND;VALUE=DATE:20180212
DTSTAMP:20260426T045016
CREATED:20180201T095554Z
LAST-MODIFIED:20180201T095554Z
UID:4071-1518307200-1518393599@bemad.cz
SUMMARY:Brigáda: Hosteska & promotér na Zamilované neděli - OC Forum Liberec
DESCRIPTION:Společnost České modelky s.r.o. nabízí brigádu pro hostesky & promotéra na Zamilovanou neděli v OC Fórum Liberec \nKde? OC Fórum Liberec \nKdy? 11.2.2018 9:00-17:00 \n \nCo? obsluha fotokoutku \nPožadavky: komunikativní příjemná k dětem\, příjemný vzhled i vystupování\, velikost S-M\, výška min.168 cm \nOdměna? 110 Kč/hod. \nV případě zájmu prosím pošlete svou foto a životopis\, výšku a konfekční velikost a na email produkce@ceskemodelky.cz a do předmětu emailu napište „Hosteska/promotér Valentýn Liberec“ \n  \n  \n 
URL:https://bemad.cz/event/brigada-hosteska-promoter-na-zamilovane-nedeli-oc-forum-liberec/
LOCATION:Česká republika
CATEGORIES:Brigády
ATTACH;FMTTYPE=image/jpeg:https://bemad.cz/wp-content/uploads/2018/02/forum-liberec.jpg
ORGANIZER;CN="%C4%8Cesk%C3%A9 modelky s.r.o.":MAILTO:produkce@ceskemodelky.cz
END:VEVENT
BEGIN:VEVENT
DTSTART;TZID=Europe/Paris:20171118T140000
DTEND;TZID=Europe/Paris:20171118T170000
DTSTAMP:20260426T045016
CREATED:20171113T100646Z
LAST-MODIFIED:20171113T100646Z
UID:3888-1511013600-1511024400@bemad.cz
SUMMARY:Brigáda: 3 hostesky na stadion Slovanu Liberec
DESCRIPTION:Společnost České modelky s.r.o. nabízí brigádu pro 3 hostesky \nKde? Stadion Slovanu Liberec – Na Hradbách 1300\, 460 01 Liberec 1 \nKdy? 18.11.2017 \n\nČas? 3 hostesky 14:00-17:00 \nNáplň práce? Rozdávání letáčků a promo dárečků\, vyplňování kontaktů do soutěže o auto na víkend \nOdměna? 130\,- Kč /hod. \nV případě zájmu prosím pošlete svou foto a telefon a na email produkce@ceskemodelky.cz a do předmětu emailu napište „Hosteska Fotbal Liberec“ \nPráce je na dohodu\, výplata do 10 dnů na účet.
URL:https://bemad.cz/event/brigada-3-hostesky-na-stadion-slovanu-liberec/
LOCATION:Česká republika
CATEGORIES:Brigády
ATTACH;FMTTYPE=image/jpeg:https://bemad.cz/wp-content/uploads/2017/10/Untitled-1.jpg
ORGANIZER;CN="%C4%8Cesk%C3%A9 modelky s.r.o.":MAILTO:produkce@ceskemodelky.cz
END:VEVENT
BEGIN:VEVENT
DTSTART;TZID=Europe/Paris:20171104T110000
DTEND;TZID=Europe/Paris:20171104T170000
DTSTAMP:20260426T045016
CREATED:20171031T104210Z
LAST-MODIFIED:20171031T104210Z
UID:3790-1509793200-1509814800@bemad.cz
SUMMARY:Brigáda: Hosteska na Dýňobraní Liberec
DESCRIPTION:Společnost České modelky s.r.o. nabízí brigádu pro hostesky na Dýňobraní v Liberci\n \nKde? OC Nisa Liberec \nKdy? 4.11.2017  11.00-17.00 \nCo? obsluha workshopu dlabaní dýní\, obsluha dýňového baru a podobně \nPožadavky: komunikativní příjemná k dětem\, příjemný vzhled i vystupování\, velikost S-M\, výška min.168 cm\n \nOdměna? 100 Kč/hod. \nV případě zájmu prosím pošlete svou foto a životopis (nebo alespoň telefon) a na email produkce@ceskemodelky.cz a do předmětu emailu napište „Hosteska Dýňobraní Liberec“ \n 
URL:https://bemad.cz/event/brigada-hosteska-na-dynobrani-liberec/
LOCATION:Česká republika
CATEGORIES:Brigády
ATTACH;FMTTYPE=image/jpeg:https://bemad.cz/wp-content/uploads/2017/10/dynobrani-Liberec.jpg
ORGANIZER;CN="%C4%8Cesk%C3%A9 modelky s.r.o.":MAILTO:produkce@ceskemodelky.cz
END:VEVENT
BEGIN:VEVENT
DTSTART;TZID=Europe/Paris:20171028T150000
DTEND;TZID=Europe/Paris:20171028T170000
DTSTAMP:20260426T045016
CREATED:20171025T133655Z
LAST-MODIFIED:20171025T133933Z
UID:3764-1509202800-1509210000@bemad.cz
SUMMARY:Brigáda: 4 hostesky na fotbal Liberec
DESCRIPTION:Společnost České modelky s.r.o. nabízí brigádu pro 4 hostesky \nUtkání: FC Slovan Liberec x FK Jablonec \nKde? Stadion Slovanu Liberec – Na Hradbách 1300\, 460 01 Liberec 1 \nKdy? 28.10.2017 \n\nČas? 2 hostesky 15:00-17:00\, 2 hostesky 15:00-18:00 \nNáplň práce? Rozdávání letáčků a promo dárečků\, vyplňování kontaktů do soutěže o auto na víkend \nOdměna? 130\,- Kč /hod. \nV případě zájmu prosím pošlete svou foto a telefon a na email produkce@ceskemodelky.cz a do předmětu emailu napište „Hosteska Fotbal Liberec“ \nPráce je na dohodu\, výplata do 10 dnů na účet.
URL:https://bemad.cz/event/brigada-4-hostesky-na-fotbal-liberec/
LOCATION:Česká republika
CATEGORIES:Brigády
ATTACH;FMTTYPE=image/jpeg:https://bemad.cz/wp-content/uploads/2017/10/Untitled-1.jpg
ORGANIZER;CN="%C4%8Cesk%C3%A9 modelky s.r.o.":MAILTO:produkce@ceskemodelky.cz
END:VEVENT
BEGIN:VEVENT
DTSTART;TZID=Europe/Paris:20170909T140000
DTEND;TZID=Europe/Paris:20170909T160000
DTSTAMP:20260426T045016
CREATED:20170906T190134Z
LAST-MODIFIED:20170911T190540Z
UID:3223-1504965600-1504972800@bemad.cz
SUMMARY:Brigáda: Hosteska Fotbal Liberec
DESCRIPTION:Společnost České modelky s.r.o. hledá 4 hostesky rozdávání letáčků před fotbalovým zápasem – LIBEREC\nKdy? 9.9.2017\n? Čas? 14:00 – 16:00\n? Kde? Fotbalový stadion Liberec\nNáplň práce? Rozdávání letáčků a reklamních předmětů\n?Honorář ? 130 Kč/hod. čistého\n✒ V případě zájmu zašlete svou fotografii a svůj telefon na email ?produkce@ceskemodelky.cz a do předmětu uveďte „Hosteska Fotbal LIBEREC“
URL:https://bemad.cz/event/brigada-hosteska-fotbal-liberec/
LOCATION:Stadion u Nisy\, Stadion u Nisy\, Liberec\, Liberecký\, Česká republika
CATEGORIES:Brigády
ATTACH;FMTTYPE=image/jpeg:https://bemad.cz/wp-content/uploads/2017/09/6360685806525024012257589.jpg
ORGANIZER;CN="%C4%8Cesk%C3%A9 modelky s.r.o.":MAILTO:produkce@ceskemodelky.cz
END:VEVENT
END:VCALENDAR