BEGIN:VCALENDAR
VERSION:2.0
PRODID:-//Be MAD! Magazín pro hostesky &amp; modelky - ECPv6.6.0.2//NONSGML v1.0//EN
CALSCALE:GREGORIAN
METHOD:PUBLISH
X-ORIGINAL-URL:https://bemad.cz
X-WR-CALDESC:Akce na Be MAD! Magazín pro hostesky &amp; modelky
REFRESH-INTERVAL;VALUE=DURATION:PT1H
X-Robots-Tag:noindex
X-PUBLISHED-TTL:PT1H
BEGIN:VTIMEZONE
TZID:Europe/Paris
BEGIN:DAYLIGHT
TZOFFSETFROM:+0100
TZOFFSETTO:+0200
TZNAME:CEST
DTSTART:20170326T010000
END:DAYLIGHT
BEGIN:STANDARD
TZOFFSETFROM:+0200
TZOFFSETTO:+0100
TZNAME:CET
DTSTART:20171029T010000
END:STANDARD
END:VTIMEZONE
BEGIN:VEVENT
DTSTART;TZID=Europe/Paris:20171124T120000
DTEND;TZID=Europe/Paris:20171127T180000
DTSTAMP:20260426T034125
CREATED:20171030T175256Z
LAST-MODIFIED:20171030T175423Z
UID:3778-1511524800-1511805600@bemad.cz
SUMMARY:Brigáda: Hosteska OC Tulip
DESCRIPTION:Společnost České modelky s.r.o. (slovakiamodels.sk) nabízí brigádu pro hostesku z Martina \nKdy? 24.-26.11.2017 12:00-18:00 \nKde? OC Tulip Martin* \n*uvnitř OC \nCo? Rozdávání letáčků pro AAA Auto\, vyplňování kontaktů do soutěže o auto na víkend\, informování o pobočce v Martině \nOdměna? 4 € /hod.\n \nV případě zájmu prosím pošlete svou foto a telefon a na email produkce@ceskemodelky.cz a do předmětu emailu napište „Hosteska Martin„ \nProsím\, pouze slečny z Martina\, nezajišťujeme ani ubytování\, ani dopravu – ani jej neproplácíme. Děkujeme za pochopení.  \n  \n \n 
URL:https://bemad.cz/event/3778/
LOCATION:Česká republika
CATEGORIES:Brigády
ATTACH;FMTTYPE=image/jpeg:https://bemad.cz/wp-content/uploads/2017/10/martin.jpg
ORGANIZER;CN="%C4%8Cesk%C3%A9 modelky s.r.o.":MAILTO:produkce@ceskemodelky.cz
END:VEVENT
END:VCALENDAR