BEGIN:VCALENDAR
VERSION:2.0
PRODID:-//Be MAD! Magazín pro hostesky &amp; modelky - ECPv6.6.0.2//NONSGML v1.0//EN
CALSCALE:GREGORIAN
METHOD:PUBLISH
X-WR-CALNAME:Be MAD! Magazín pro hostesky &amp; modelky
X-ORIGINAL-URL:https://bemad.cz
X-WR-CALDESC:Akce na Be MAD! Magazín pro hostesky &amp; modelky
REFRESH-INTERVAL;VALUE=DURATION:PT1H
X-Robots-Tag:noindex
X-PUBLISHED-TTL:PT1H
BEGIN:VTIMEZONE
TZID:Europe/Paris
BEGIN:DAYLIGHT
TZOFFSETFROM:+0100
TZOFFSETTO:+0200
TZNAME:CEST
DTSTART:20180325T010000
END:DAYLIGHT
BEGIN:STANDARD
TZOFFSETFROM:+0200
TZOFFSETTO:+0100
TZNAME:CET
DTSTART:20181028T010000
END:STANDARD
END:VTIMEZONE
BEGIN:VEVENT
DTSTART;TZID=Europe/Paris:20180317T100000
DTEND;TZID=Europe/Paris:20180317T150000
DTSTAMP:20260426T052116
CREATED:20180305T182153Z
LAST-MODIFIED:20180305T200120Z
UID:4189-1521280800-1521298800@bemad.cz
SUMMARY:Hledáme 6 modelek na módní přehlídku
DESCRIPTION:Hledáme modelky na módní přehlídku 17.3.2018 společenských a svatebních šatů – www.satyprotebe.cz \nSpolečnost České modelky s.r.o. pořádá dne 17.3.2018 módní přehlídku na mezinárodním veletrhu World of beauty and spa 2018. \nKdy? 17.3.2018 \nČas? cca 10:00-15:00 (přehlídka 20 min. zbytek realizace) \nKde? PVA Letňany – PRAHA \nPožadavky? Výška 170cm+\, konfekce 36-38 \nHonorář? 500 Kč + dárkový balíček + květina \nSvé foto\, míry\, konfekční velikost\, výšku a telefon zasílejte na produkce@ceskemodelky.cz a do předmětu uveďte „Modelka EXPO“ \n  \n \n 
URL:https://bemad.cz/event/hledame-6-modelek-na-modni-prehlidku/
LOCATION:Česká republika
CATEGORIES:Brigády
ATTACH;FMTTYPE=image/jpeg:https://bemad.cz/wp-content/uploads/2018/03/195.jpg
ORGANIZER;CN="%C4%8Cesk%C3%A9 modelky s.r.o.":MAILTO:produkce@ceskemodelky.cz
END:VEVENT
END:VCALENDAR