BEGIN:VCALENDAR
VERSION:2.0
PRODID:-//Be MAD! Magazín pro hostesky &amp; modelky - ECPv6.6.0.2//NONSGML v1.0//EN
CALSCALE:GREGORIAN
METHOD:PUBLISH
X-WR-CALNAME:Be MAD! Magazín pro hostesky &amp; modelky
X-ORIGINAL-URL:https://bemad.cz
X-WR-CALDESC:Akce na Be MAD! Magazín pro hostesky &amp; modelky
REFRESH-INTERVAL;VALUE=DURATION:PT1H
X-Robots-Tag:noindex
X-PUBLISHED-TTL:PT1H
BEGIN:VTIMEZONE
TZID:Europe/Paris
BEGIN:DAYLIGHT
TZOFFSETFROM:+0100
TZOFFSETTO:+0200
TZNAME:CEST
DTSTART:20170326T010000
END:DAYLIGHT
BEGIN:STANDARD
TZOFFSETFROM:+0200
TZOFFSETTO:+0100
TZNAME:CET
DTSTART:20171029T010000
END:STANDARD
BEGIN:DAYLIGHT
TZOFFSETFROM:+0100
TZOFFSETTO:+0200
TZNAME:CEST
DTSTART:20180325T010000
END:DAYLIGHT
BEGIN:STANDARD
TZOFFSETFROM:+0200
TZOFFSETTO:+0100
TZNAME:CET
DTSTART:20181028T010000
END:STANDARD
BEGIN:DAYLIGHT
TZOFFSETFROM:+0100
TZOFFSETTO:+0200
TZNAME:CEST
DTSTART:20190331T010000
END:DAYLIGHT
BEGIN:STANDARD
TZOFFSETFROM:+0200
TZOFFSETTO:+0100
TZNAME:CET
DTSTART:20191027T010000
END:STANDARD
BEGIN:DAYLIGHT
TZOFFSETFROM:+0100
TZOFFSETTO:+0200
TZNAME:CEST
DTSTART:20200329T010000
END:DAYLIGHT
BEGIN:STANDARD
TZOFFSETFROM:+0200
TZOFFSETTO:+0100
TZNAME:CET
DTSTART:20201025T010000
END:STANDARD
BEGIN:DAYLIGHT
TZOFFSETFROM:+0100
TZOFFSETTO:+0200
TZNAME:CEST
DTSTART:20210328T010000
END:DAYLIGHT
BEGIN:STANDARD
TZOFFSETFROM:+0200
TZOFFSETTO:+0100
TZNAME:CET
DTSTART:20211031T010000
END:STANDARD
END:VTIMEZONE
BEGIN:VEVENT
DTSTART;TZID=Europe/Paris:20210408T090000
DTEND;TZID=Europe/Paris:20210408T170000
DTSTAMP:20260426T033339
CREATED:20210315T093723Z
LAST-MODIFIED:20210315T093723Z
UID:5295-1617872400-1617901200@bemad.cz
SUMMARY:Brigáda: 2 hostesky OKAY MOST - 120 Kč/hod.
DESCRIPTION:Společnost České modelky s.r.o. nabízí brigádu pro 2 hostesky na akci otevření prodejny OKAY elektro a nábytek v TESCO  \nKdy? 8.4.2021 09:00-17:00 \nKde? Okay elektro a nábytek – Tesco Rudolická 1706/4\, MOST (práce uvnitř i venku) \nNáplň práce? Rozdávání letáčků\, zvaní kolemjdoucích do prodejny \nHonorář? 120 Kč/hod. \nPožadavky? Milé\, komunikativní slečny\n\nV případě zájmu prosím pošlete svou foto a telefon a na email produkce@ceskemodelky.cz a do předmětu emailu napište „Hosteska OKAY Most“ . \n\n 
URL:https://bemad.cz/event/brigada-2-hostesky-okay-most-120-kc-hod/
LOCATION:Česká republika
CATEGORIES:Brigády
ATTACH;FMTTYPE=image/jpeg:https://bemad.cz/wp-content/uploads/2021/01/vector-pop-art-illustration-two-young-glamorous-enthusiastic-girls-show-shopping-bags-their-purchases-poster-93593169.jpg
ORGANIZER;CN="%C4%8Cesk%C3%A9 modelky s.r.o.":MAILTO:produkce@ceskemodelky.cz
END:VEVENT
BEGIN:VEVENT
DTSTART;TZID=Europe/Paris:20171024T110000
DTEND;TZID=Europe/Paris:20171024T160000
DTSTAMP:20260426T033339
CREATED:20171011T141758Z
LAST-MODIFIED:20171011T143114Z
UID:3649-1508842800-1508860800@bemad.cz
SUMMARY:Brígáda: 5 TOP reprezentativních hostesek z Mostu
DESCRIPTION:Společnost České modelky s.r.o. nabízí brigádu pro 5 reprezentativních hostesek z MOSTU na prezentační akci automobilky vyrábějící nákladní auta\n \nKde? Lom ČSA Most \nKdy? 24.10.2017 11:00-16:00 (příchod už na 10:00) \nCo? Výpomoc na prezentační akci – vítání hostů\, rozdávání dárkových tašek\, navigace hostů atd. \nDress code? Modré šaty (od klienta) + vlastní černé lodičky \nOdměna? 180 Kč/hod. čistého – výplata na účet do 10 dnů! \nPožadavky? Milé\, sympatické slečny\, reprezentativní vystupování. Konfekce 36-38 (kvůli šatům)\, výška min. 170cm!  \nV případě zájmu prosím pošlete svou foto\, konfekční velikost\, výšku a telefon a na email produkce@ceskemodelky.cz a do předmětu emailu napište „Hosteska ČSA Most“ \n  \n 
URL:https://bemad.cz/event/brigada-5-top-reprezentativnich-hostesek-z-mostu/
LOCATION:Česká republika
CATEGORIES:Brigády
ATTACH;FMTTYPE=image/jpeg:https://bemad.cz/wp-content/uploads/2017/10/topky-z-mostu.jpg
ORGANIZER;CN="%C4%8Cesk%C3%A9 modelky s.r.o.":MAILTO:produkce@ceskemodelky.cz
END:VEVENT
BEGIN:VEVENT
DTSTART;TZID=Europe/Paris:20171009T070000
DTEND;TZID=Europe/Paris:20171018T180000
DTSTAMP:20260426T033339
CREATED:20171006T120920Z
LAST-MODIFIED:20171006T122135Z
UID:3583-1507532400-1508349600@bemad.cz
SUMMARY:Brigáda: 2 hostesky na rozdávání perníčků Most & Chomutov & Ústí nad Labem & Teplice & Děčín
DESCRIPTION:Společnost České modelky s.r.o. nabízí brigádu pro 2 hostesky (nebo hostesku a promotéra)  v Mostě & Chomutově & Ústí nad Labem & Teplicích & Děčíně\n \nKde? veřejná prostranství výše uvedených měst \nKdy? 9.10-18.10. 2017 – čas 2 hodiny ráno + 2-3 hodiny odpoledne – čas se dá přizpůsobit Vašim možnostem. Hledáme ale flexibilní a schopné hostesky. Perníčky budou zaslány na Vaši adresu – tudíž si to nelze v polovině promo akce rozmyslet. \nCo? Rozdávání perníčků a letáčků na podporu politické strany \nOdměna? 130 Kč/hod. \nV případě zájmu prosím pošlete svou foto a telefon a na email produkce@ceskemodelky.cz a do předmětu emailu napište „Hosteska Perníčky + město“ \n  \n 
URL:https://bemad.cz/event/brigada-2-hostesky-na-rozdavani-pernicku-most-chomutov-usti-nad-labem-teplice-decin/
LOCATION:Česká republika
CATEGORIES:Brigády
ATTACH;FMTTYPE=image/jpeg:https://bemad.cz/wp-content/uploads/2017/10/pernicky.jpg
ORGANIZER;CN="%C4%8Cesk%C3%A9 modelky s.r.o.":MAILTO:produkce@ceskemodelky.cz
END:VEVENT
END:VCALENDAR