BEGIN:VCALENDAR
VERSION:2.0
PRODID:-//Be MAD! Magazín pro hostesky &amp; modelky - ECPv6.6.0.2//NONSGML v1.0//EN
CALSCALE:GREGORIAN
METHOD:PUBLISH
X-WR-CALNAME:Be MAD! Magazín pro hostesky &amp; modelky
X-ORIGINAL-URL:https://bemad.cz
X-WR-CALDESC:Akce na Be MAD! Magazín pro hostesky &amp; modelky
REFRESH-INTERVAL;VALUE=DURATION:PT1H
X-Robots-Tag:noindex
X-PUBLISHED-TTL:PT1H
BEGIN:VTIMEZONE
TZID:Europe/Paris
BEGIN:DAYLIGHT
TZOFFSETFROM:+0100
TZOFFSETTO:+0200
TZNAME:CEST
DTSTART:20170326T010000
END:DAYLIGHT
BEGIN:STANDARD
TZOFFSETFROM:+0200
TZOFFSETTO:+0100
TZNAME:CET
DTSTART:20171029T010000
END:STANDARD
BEGIN:DAYLIGHT
TZOFFSETFROM:+0100
TZOFFSETTO:+0200
TZNAME:CEST
DTSTART:20180325T010000
END:DAYLIGHT
BEGIN:STANDARD
TZOFFSETFROM:+0200
TZOFFSETTO:+0100
TZNAME:CET
DTSTART:20181028T010000
END:STANDARD
BEGIN:DAYLIGHT
TZOFFSETFROM:+0100
TZOFFSETTO:+0200
TZNAME:CEST
DTSTART:20190331T010000
END:DAYLIGHT
BEGIN:STANDARD
TZOFFSETFROM:+0200
TZOFFSETTO:+0100
TZNAME:CET
DTSTART:20191027T010000
END:STANDARD
BEGIN:DAYLIGHT
TZOFFSETFROM:+0100
TZOFFSETTO:+0200
TZNAME:CEST
DTSTART:20200329T010000
END:DAYLIGHT
BEGIN:STANDARD
TZOFFSETFROM:+0200
TZOFFSETTO:+0100
TZNAME:CET
DTSTART:20201025T010000
END:STANDARD
BEGIN:DAYLIGHT
TZOFFSETFROM:+0100
TZOFFSETTO:+0200
TZNAME:CEST
DTSTART:20210328T010000
END:DAYLIGHT
BEGIN:STANDARD
TZOFFSETFROM:+0200
TZOFFSETTO:+0100
TZNAME:CET
DTSTART:20211031T010000
END:STANDARD
END:VTIMEZONE
BEGIN:VEVENT
DTSTART;VALUE=DATE:20210930
DTEND;VALUE=DATE:20211026
DTSTAMP:20260426T051905
CREATED:20210923T130044Z
LAST-MODIFIED:20210923T130044Z
UID:5420-1632960000-1635206399@bemad.cz
SUMMARY:Hosteska NaturHouse Ostrava/Třinec/Hranice
DESCRIPTION:Společnost České modelky s.r.o. nabízí brigádu pro hostesky na promoakci pro NATURHOUSE\n\n\nKdy? & Kde?\nNaturhouse (OC LASO) – Ostrava – 30.9. 11-15hod\, 11.10. 12-16hod\nNaturhouse Hranice – 11.10. 11-15hod\, 25.10 13-17hod\nNaturhouse Třinec – 12.10 10-14hod.\, 19.10 13-17hod\nOC Karolína Ostrava – 30.9. 13-19hod.\, 5.10. 13-19hod.\n\n\nNáplň práce? Oslovování kolemjdoucích\, rozdávání letáčků\, navádění na prodejnu\nHonorář? 140 Kč/hod.\nPožadavky? Milé\, komunikativní slečny\nV případě zájmu prosím pošlete svou foto a telefon a na email produkce@ceskemodelky.cz a do předmětu emailu napište “Hosteska NaturHouse Ostrava/Třinec/Hranice” + uveďte termín\, který by Vám vyhovoval.
URL:https://bemad.cz/event/hosteska-naturhouse-ostrava-trinec-hranice/
LOCATION:Ostrava\, Česká republika
CATEGORIES:Brigády
ATTACH;FMTTYPE=image/jpeg:https://bemad.cz/wp-content/uploads/2021/09/naturhouse-hodonin.jpg
ORGANIZER;CN="%C4%8Cesk%C3%A9 modelky s.r.o.":MAILTO:produkce@ceskemodelky.cz
END:VEVENT
BEGIN:VEVENT
DTSTART;TZID=Europe/Paris:20210311T090000
DTEND;TZID=Europe/Paris:20210311T170000
DTSTAMP:20260426T051905
CREATED:20210216T093552Z
LAST-MODIFIED:20210216T093552Z
UID:5277-1615453200-1615482000@bemad.cz
SUMMARY:Brigáda: 2 HOSTESKY OSTRAVA 11.3.2021 125\,- Kč/hod.
DESCRIPTION:Společnost České modelky s.r.o. nabízí brigádu pro 2 hostesky na akci otevření prodejny OKAY elektro a nábytek v TESCO Ostrava \nKdy? 11.3.2021 09:00-17:00 \nKde? Okay elektro a nábytek – Tesco Ostrava(práce uvnitř i venku) \nNáplň práce? Rozdávání letáčků\, zvaní kolemjdoucích do prodejny \nHonorář? 125 Kč/hod. \nPožadavky? Milé\, komunikativní slečny\n\nV případě zájmu prosím pošlete svou foto a telefon a na email produkce@ceskemodelky.cz a do předmětu emailu napište „Hosteska OKAY Ostrava“ . \n\n 
URL:https://bemad.cz/event/brigada-2-hostesky-ostrava-11-3-2021-125-kc-hod/
LOCATION:Česká republika
CATEGORIES:Brigády
ATTACH;FMTTYPE=image/jpeg:https://bemad.cz/wp-content/uploads/2018/06/Untitled-12-e1528198560335.jpg
ORGANIZER;CN="%C4%8Cesk%C3%A9 modelky s.r.o.":MAILTO:produkce@ceskemodelky.cz
END:VEVENT
BEGIN:VEVENT
DTSTART;VALUE=DATE:20181012
DTEND;VALUE=DATE:20181022
DTSTAMP:20260426T051905
CREATED:20181004T174925Z
LAST-MODIFIED:20181004T175312Z
UID:4804-1539302400-1540166399@bemad.cz
SUMMARY:Brigáda: Hosteska Ostrava - rozdávání letáčků - říjen 2018
DESCRIPTION:Společnost České modelky s.r.o. nabízí brigádu pro hostesku v OSTRAVĚ pro BURGER KING  \nKdy? \n\n\n\n12.\, 13.\, 14. 10.\, 19.\, 20.\, 21. 10. 2018 \n\n\n\nČas? 12:00-19:00 \nKde? OC Nová Karolína Ostrava \nCo? Rozdávání letáčků \nOdměna? 110 Kč/hod. \nV případě zájmu prosím pošlete svou foto a telefon a na email produkce@ceskemodelky.cz a do předmětu emailu napište „Hosteska BK – OVA“ + termín\, o který máte zájem! \n  \n \n 
URL:https://bemad.cz/event/brigada-hosteska-ostrava-rozdavani-letacku-rijen-2018/
LOCATION:Česká republika
CATEGORIES:Brigády
ATTACH;FMTTYPE=image/jpeg:https://bemad.cz/wp-content/uploads/2018/01/pop-bk.jpg
ORGANIZER;CN="%C4%8Cesk%C3%A9 modelky s.r.o.":MAILTO:produkce@ceskemodelky.cz
END:VEVENT
BEGIN:VEVENT
DTSTART;VALUE=DATE:20180915
DTEND;VALUE=DATE:20180917
DTSTAMP:20260426T051905
CREATED:20180910T182600Z
LAST-MODIFIED:20180910T182600Z
UID:4751-1536969600-1537142399@bemad.cz
SUMMARY:Brigáda: 2 Hostesky na DNY NATO Ostrava
DESCRIPTION:Společnost České modelky s.r.o. hledá 2 komunikativní hostesky pro Volkswagen Financial Services na akci v Ostravě na Dnech NATO 2018 \nKdy? 15.-16.9.2018 \nČas? 8:00-18:00 \nKde? Ostrava \nNáplň práce? Informování o možnosti financování nových vozů (práce s iPadem) \nHonorář ? 110 Kč/hod. čistého \n V případě zájmu zašlete svou fotografii a svůj telefon na email  produkce@ceskemodelky.cz a do předmětu uveďte „Hosteska NATO Ostrava“ \n  \n \n 
URL:https://bemad.cz/event/brigada-2-hostesky-na-dny-nato-ostrava/
LOCATION:Česká republika
CATEGORIES:Brigády
ATTACH;FMTTYPE=image/jpeg:https://bemad.cz/wp-content/uploads/2018/09/MBB6e0164_nato_online.jpg
ORGANIZER;CN="%C4%8Cesk%C3%A9 modelky s.r.o.":MAILTO:produkce@ceskemodelky.cz
END:VEVENT
BEGIN:VEVENT
DTSTART;VALUE=DATE:20180818
DTEND;VALUE=DATE:20180901
DTSTAMP:20260426T051905
CREATED:20180806T140159Z
LAST-MODIFIED:20180806T140159Z
UID:4684-1534550400-1535759999@bemad.cz
SUMMARY:Brigáda: Hostesky na rozdávání letáčků - celá ČR
DESCRIPTION:Společnost České modelky s.r.o. nabízí brigádu pro hostesku v níže uvedených městech pro BURGER KING  \nKdy? 17.8.2018 & 31.8.2018 \nČas? 10:00-20:00 \nKde? \nOC Harfa Praha –  1 hosteska \nOC Palladium Praha – 2 hostesky \nOC Galerie Teplice – 1 hosteska \nOC Letňany Praha – 2 hostesky \nOC Metropole Zličín Praha – 2 hostesky \nCentral Kladno – 1 hosteska \nPlzeň Plaza – 2 hostesky \nOC Fórum Nová Karolína – 2 hostesky \nOlomouc Galerie Šantovka – 2 hostesky \nFreeport Hatě – 2 hostesky \nOC Olympia Brno  – 1 hosteska – pouze 17.8.2018 \nCo? Rozdávání letáčků \nOdměna? 110 Kč/hod. \nV případě zájmu prosím pošlete svou foto a telefon a na email produkce@ceskemodelky.cz a do předmětu emailu napište „Hosteska BK + město + termín“ \n  \n \n 
URL:https://bemad.cz/event/brigada-hostesky-na-rozdavani-letacku-cela-cr-3/
LOCATION:Česká republika
CATEGORIES:Brigády
ATTACH;FMTTYPE=image/jpeg:https://bemad.cz/wp-content/uploads/2018/06/bk-čr.jpg
ORGANIZER;CN="%C4%8Cesk%C3%A9 modelky s.r.o.":MAILTO:produkce@ceskemodelky.cz
END:VEVENT
BEGIN:VEVENT
DTSTART;TZID=Europe/Paris:20180727T103000
DTEND;TZID=Europe/Paris:20180727T200000
DTSTAMP:20260426T051905
CREATED:20180722T124444Z
LAST-MODIFIED:20180722T124444Z
UID:4638-1532687400-1532721600@bemad.cz
SUMMARY:Brigáda: Hostesky na rozdávání letáčků - celá ČR
DESCRIPTION:Společnost České modelky s.r.o. nabízí brigádu pro hostesku v níže uvedených městech pro BURGER KING  \nKdy? 27.7.2018 \nČas? 10:30-20:00 \nKde? \nOC Palladium Praha – 2 hostesky \nOC Galerie Teplice – 2 hostesky \nOC Harfa Praha – 2 hostesky \nOC Letňany Praha – 2 hostesky \nOC Metropole Zličín Praha – 2 hostesky \nCentral Kladno – 1 hosteska \nPlzeň Plaza – 2 hostesky \nOC Fórum Nová Karolína – 2 hostesky \nOlomouc Galerie Šantovka – 2 hostesky \nFreeport Hatě – 2 hostesky \nOC Olympia Brno  – 1 hosteska \nCo? Rozdávání letáčků \nOdměna? 110 Kč/hod. \nV případě zájmu prosím pošlete svou foto a telefon a na email produkce@ceskemodelky.cz a do předmětu emailu napište „Hosteska BK + město“ \n  \n \n 
URL:https://bemad.cz/event/brigada-hostesky-na-rozdavani-letacku-cela-cr-2/
LOCATION:Česká republika
CATEGORIES:Brigády
ATTACH;FMTTYPE=image/jpeg:https://bemad.cz/wp-content/uploads/2018/06/bk-čr.jpg
ORGANIZER;CN="%C4%8Cesk%C3%A9 modelky s.r.o.":MAILTO:produkce@ceskemodelky.cz
END:VEVENT
BEGIN:VEVENT
DTSTART;TZID=Europe/Paris:20180710T103000
DTEND;TZID=Europe/Paris:20180710T200000
DTSTAMP:20260426T051905
CREATED:20180627T200102Z
LAST-MODIFIED:20180628T111148Z
UID:4596-1531218600-1531252800@bemad.cz
SUMMARY:Brigáda: Hostesky na rozdávání letáčků - celá ČR
DESCRIPTION:Společnost České modelky s.r.o. nabízí brigádu pro hostesku v níže uvedených městech pro BURGER KING  \nKdy? 10.7.2018 \nČas? 10:30-20:00 \nKde? \n          OC Palladium Praha – 2 hostesky \n  \nOC Galerie Teplice – 2 hostesky \n  \nOC Harfa Praha – 2 hostesky \n  \nOC Letňany Praha – 2 hostesky \n  \nOC Metropole Zličín Praha – 2 hostesky \n  \nCentral Kladno – 1 hosteska \n  \nPlzeň Plaza – 2 hostesky \n  \nOC Fórum Nová Karolína – 2 hostesky \n  \nOlomouc Galerie Šantovka – 2 hostesky \nFreeport Hatě – 2 hostesky \nCo? Rozdávání letáčků \nOdměna? 110 Kč/hod. \nV případě zájmu prosím pošlete svou foto a telefon a na email produkce@ceskemodelky.cz a do předmětu emailu napište „Hosteska BK + město“ \n  \n \n 
URL:https://bemad.cz/event/brigada-hostesky-na-rozdavani-letacku-cela-cr/
LOCATION:Česká republika
CATEGORIES:Brigády
ATTACH;FMTTYPE=image/jpeg:https://bemad.cz/wp-content/uploads/2018/06/bk-čr.jpg
ORGANIZER;CN="%C4%8Cesk%C3%A9 modelky s.r.o.":MAILTO:produkce@ceskemodelky.cz
END:VEVENT
BEGIN:VEVENT
DTSTART;TZID=Europe/Paris:20180704T120000
DTEND;TZID=Europe/Paris:20180721T200000
DTSTAMP:20260426T051905
CREATED:20180620T163033Z
LAST-MODIFIED:20180620T163033Z
UID:4571-1530705600-1532203200@bemad.cz
SUMMARY:Brigáda: Hosteska BurgerKing Ostrava červenec
DESCRIPTION:Společnost České modelky s.r.o. nabízí brigádu pro hostesku v OSTRAVĚ pro BURGER KING  \nKdy? 4.-7.7.2018 & 18.-21.7.2018 \nČas? 12:00-20:00 \nKde? OC Nová Karolína Ostrava \nCo? Rozdávání letáčků \nOdměna? 100 Kč/hod. \nV případě zájmu prosím pošlete svou foto a telefon a na email produkce@ceskemodelky.cz a do předmětu emailu napište „Hosteska BK – OVA“ + termín\, o který máte zájem! \n  \n \n 
URL:https://bemad.cz/event/brigada-hosteska-burgerking-ostrava-cervenec/
LOCATION:Česká republika
CATEGORIES:Brigády
ATTACH;FMTTYPE=image/jpeg:https://bemad.cz/wp-content/uploads/2018/01/pop-bk.jpg
ORGANIZER;CN="%C4%8Cesk%C3%A9 modelky s.r.o.":MAILTO:produkce@ceskemodelky.cz
END:VEVENT
BEGIN:VEVENT
DTSTART;VALUE=DATE:20180511
DTEND;VALUE=DATE:20180527
DTSTAMP:20260426T051905
CREATED:20180426T093729Z
LAST-MODIFIED:20180426T093729Z
UID:4422-1525996800-1527379199@bemad.cz
SUMMARY:Brigáda: Rozdávání letáčků BurgerKing OSTRAVA
DESCRIPTION:Společnost České modelky s.r.o. nabízí brigádu pro hostesku v OSTRAVĚ pro BURGER KING  \nKdy? 11.-13.5.2018 & 18.5.2018 & 26.5.2018 \nČas? 12:00-19:00 \nKde? OC Nová Karolína Ostrava \nCo? Rozdávání letáčků \nOdměna? 100 Kč/hod. \nV případě zájmu prosím pošlete svou foto a telefon a na email produkce@ceskemodelky.cz a do předmětu emailu napište „Hosteska BK – OVA“ + termín\, o který máte zájem! \n  \n \n 
URL:https://bemad.cz/event/brigada-rozdavani-letacku-burgerking-ostrava-3/
LOCATION:Česká republika
CATEGORIES:Brigády
ATTACH;FMTTYPE=image/jpeg:https://bemad.cz/wp-content/uploads/2018/01/pop-bk.jpg
ORGANIZER;CN="%C4%8Cesk%C3%A9 modelky s.r.o.":MAILTO:produkce@ceskemodelky.cz
END:VEVENT
BEGIN:VEVENT
DTSTART;VALUE=DATE:20180409
DTEND;VALUE=DATE:20180425
DTSTAMP:20260426T051905
CREATED:20180321T150352Z
LAST-MODIFIED:20180406T111920Z
UID:4248-1523232000-1524614399@bemad.cz
SUMMARY:Brigáda: Rozdávání letáčků BurgerKing OSTRAVA
DESCRIPTION:Společnost České modelky s.r.o. nabízí brigádu pro hostesku v OSTRAVĚ pro BURGER KING  \nKdy? 13.-14.4.2018 & 20.-21.4.2018 – volno už jen 13.4.2018 \nČas? 12:00-19:00 \nKde? OC Nová Karolína Ostrava \nCo? Rozdávání letáčků \nOdměna? 100 Kč/hod. \nV případě zájmu prosím pošlete svou foto a telefon a na email produkce@ceskemodelky.cz a do předmětu emailu napište „Hosteska BK – OVA“ \n 
URL:https://bemad.cz/event/brigada-rozdavani-letacku-burgerking-ostrava-2/
LOCATION:OC Nová Karolína Ostrava\, Ostrava\, Česká republika
CATEGORIES:Brigády
ATTACH;FMTTYPE=image/jpeg:https://bemad.cz/wp-content/uploads/2018/01/pop-bk.jpg
ORGANIZER;CN="%C4%8Cesk%C3%A9 modelky s.r.o.":MAILTO:produkce@ceskemodelky.cz
END:VEVENT
BEGIN:VEVENT
DTSTART;VALUE=DATE:20180323
DTEND;VALUE=DATE:20180325
DTSTAMP:20260426T051905
CREATED:20180322T084945Z
LAST-MODIFIED:20180406T112029Z
UID:4251-1521763200-1521935999@bemad.cz
SUMMARY:Brigáda: Hostesky na Velikonoční akci - OSTRAVA Futurum
DESCRIPTION:Společnost České modelky s.r.o. hledá na Velikonoční akci pro děti hostesky na obsluhu dětských stanovišť \nKdy? 23.3.-24.3.2018 \nČas? 13:00-17:00 \nKde? OC Futurum Ostrava \nNáplň práce? Workshopy s dětmi – malování vajíček\, pletení pomlázek \nPožadavky? Komunikativní\, samostatná\, spolehlivá\, kladný vztah k dětem (práce s dětmi)\, organizačně schopná \nHonorář ? 110 Kč/hod. čistého \n V případě zájmu zašlete životopis s fotografií na email  produkce@ceskemodelky.cz a do předmětu uveďte „Hosteska OVA Velikonoce“ \n \n 
URL:https://bemad.cz/event/brigada-hostesky-na-velikonocni-akci-ostrava-futurum/
LOCATION:Česká republika
CATEGORIES:Brigády
ATTACH;FMTTYPE=image/jpeg:https://bemad.cz/wp-content/uploads/2018/03/49_1.jpg
ORGANIZER;CN="%C4%8Cesk%C3%A9 modelky s.r.o.":MAILTO:produkce@ceskemodelky.cz
END:VEVENT
BEGIN:VEVENT
DTSTART;TZID=Europe/Paris:20180227T073000
DTEND;TZID=Europe/Paris:20180227T103000
DTSTAMP:20260426T051905
CREATED:20180217T193230Z
LAST-MODIFIED:20180217T193335Z
UID:4164-1519716600-1519727400@bemad.cz
SUMMARY:Brigáda: Hosteska / výpomoc meeting Ostrava
DESCRIPTION:Společnost České modelky s.r.o. nabízí brigádu pro hostesku \nKdy? 27.2.2018 7:30-10:30 \nKde?  městský stadion Vítkovice v Ostravě – http://www.restaurace-stadion.cz/ \n\nNáplň práce? hosteska bude na snídaňovém meetingu AAA partnerů k dispozici na navigací hostů\, rozdávání dárku\, úklid po snídani \nDress code? Sukně a halenky či bílé košile \nOdměna? 130\,- Kč /hod. \nV případě zájmu prosím pošlete svou foto a telefon a na email produkce@ceskemodelky.cz a do předmětu emailu napište „Hosteska Meeting OVA“ \nPráce je na dohodu\, výplata do 10 dnů na účet. \n\n  \n  \n 
URL:https://bemad.cz/event/brigada-hosteska-vypomoc-meeting-ostrava/
LOCATION:Česká republika
CATEGORIES:Brigády
ATTACH;FMTTYPE=image/jpeg:https://bemad.cz/wp-content/uploads/2018/02/vector-pop-art-illustration-of-a-man-and-a-woman-sitting-at-a-negotiation-table-top-view_1441-596.jpg
ORGANIZER;CN="%C4%8Cesk%C3%A9 modelky s.r.o.":MAILTO:produkce@ceskemodelky.cz
END:VEVENT
BEGIN:VEVENT
DTSTART;VALUE=DATE:20180112
DTEND;VALUE=DATE:20180201
DTSTAMP:20260426T051905
CREATED:20180105T131514Z
LAST-MODIFIED:20180105T131514Z
UID:4019-1515715200-1517443199@bemad.cz
SUMMARY:Brigáda: Rozdávání letáčků BurgerKing OSTRAVA
DESCRIPTION:Společnost České modelky s.r.o. nabízí brigádu pro hostesku v OSTRAVĚ pro BURGER KING  \nKdy? 12.1.2018\, 19.1.2018\, 21.1.2018\, 26.1.2018\, 28.1.2018\, 30.1.2018 \nČas? 12:00-19:00 \nKde? OC Nová Karolína Ostrava \nCo? Rozdávání letáčků \nOdměna? 100 Kč/hod. \nV případě zájmu prosím pošlete svou foto a telefon a na email produkce@ceskemodelky.cz a do předmětu emailu napište „Hosteska BK – OVA“
URL:https://bemad.cz/event/brigada-rozdavani-letacku-burgerking-ostrava/
LOCATION:Česká republika
CATEGORIES:Brigády
ATTACH;FMTTYPE=image/jpeg:https://bemad.cz/wp-content/uploads/2018/01/5344d6e76e85d333becb0600.jpg
ORGANIZER;CN="%C4%8Cesk%C3%A9 modelky s.r.o.":MAILTO:produkce@ceskemodelky.cz
END:VEVENT
BEGIN:VEVENT
DTSTART;TZID=Europe/Paris:20171204T100000
DTEND;TZID=Europe/Paris:20171204T180000
DTSTAMP:20260426T051905
CREATED:20171101T095137Z
LAST-MODIFIED:20171102T190214Z
UID:3801-1512381600-1512410400@bemad.cz
SUMMARY:Brigáda: Anděl & Čert & Mikuláš na pobočky AAA Auto Praha & Brno & Ostrava
DESCRIPTION:Společnost České modelky s.r.o. nabízí brigádu pro hostesky Anděl & Čert & Mikuláš na pobočky AAA Auto Praha & Brno & Ostrava\n \nKde? pobočky AAA Auto Praha & Brno & Ostrava \nKdy? 4.12.2017  10.00-18.00 \nCo? rozdávání sladkostí \nPožadavky: komunikativní příjemná k dětem\, příjemný vzhled i vystupování\, velikost S-M\, výška min.168 cm\n \nOdměna? 110 Kč/hod. \nV případě zájmu prosím pošlete svou foto a životopis (nebo alespoň telefon) a na email produkce@ceskemodelky.cz a do předmětu emailu napište „Hosteska AAA  Anděl/Čert/Mikuláš+ město“ \nPokud máte vlastní kostým\, zašlete nám jeho fotografii\, můžeme Vám nabídnout i proplacení půjčovného.  \n \n 
URL:https://bemad.cz/event/brigada-andel-cert-mikulas-na-pobocky-aaa-auto-praha-brno-ostrava/
LOCATION:Česká republika
CATEGORIES:Brigády
ATTACH;FMTTYPE=image/jpeg:https://bemad.cz/wp-content/uploads/2017/11/aaa-mikulas.jpg
ORGANIZER;CN="%C4%8Cesk%C3%A9 modelky s.r.o.":MAILTO:produkce@ceskemodelky.cz
END:VEVENT
BEGIN:VEVENT
DTSTART;TZID=Europe/Paris:20171028T090000
DTEND;TZID=Europe/Paris:20171028T170000
DTSTAMP:20260426T051905
CREATED:20171017T112046Z
LAST-MODIFIED:20180406T112051Z
UID:3698-1509181200-1509210000@bemad.cz
SUMMARY:Brigáda: Hosteska Praha & Brno & Ostrava & Olomouc & Plzeň Den otevřených dveří  AAA Auto
DESCRIPTION:Společnost České modelky s.r.o. nabízí brigádu pro hostesky Praha & Brno & Ostrava & Olomouc & Plzeň\nKdy? 28.10.2017 \nČas? 9:00-17:00 \nKde? Showroomy AAA AUTO – akce bude probíhat venku\, mezi auty\, ale je zde zázemí v teple showroomu. Od klienta dostanete teplé fleecové bundy. \nNáplň práce? Rozdávání balónků\,  vyplňování kontaktů do soutěže o auto\, rozdávání letáčků atd. \nHonorář? 100 Kč/hod. čistého – práce na dohodu\, honorář zasíláme na účet \nV případě zájmu prosím pošlete svou foto a telefon a na email produkce@ceskemodelky.cz a do předmětu emailu napište „Hosteska AAA + město“ . \nPraha \n \nBrno\n \nOstrava\n \nPlzeň\n \nOlomouc
URL:https://bemad.cz/event/brigada-hosteska-praha-brno-ostrava-olomouc-plzen-den-otevrenych-dveri-aaa-auto/
LOCATION:Česká republika
CATEGORIES:Brigády
ATTACH;FMTTYPE=image/jpeg:https://bemad.cz/wp-content/uploads/2017/10/aaa-dod.jpg
ORGANIZER;CN="%C4%8Cesk%C3%A9 modelky s.r.o.":MAILTO:produkce@ceskemodelky.cz
END:VEVENT
BEGIN:VEVENT
DTSTART;TZID=Europe/Paris:20171006T120000
DTEND;TZID=Europe/Paris:20171006T190000
DTSTAMP:20260426T051905
CREATED:20170927T161416Z
LAST-MODIFIED:20170927T161529Z
UID:3497-1507291200-1507316400@bemad.cz
SUMMARY:Brigáda: Hosteska BurgerKing Ostrava
DESCRIPTION:Společnost České modelky s.r.o. nabízí brigádu pro hostesku v OSTRAVĚ pro BURGER KING  \nKdy? 6.10.2017 12:00-19:00 a 14.10.2017 16:00-19:00 \nKde? OC Nová Karolína Ostrava \nCo? Rozdávání letáčků \nOdměna? 100 Kč/hod. \nV případě zájmu prosím pošlete svou foto a telefon a na email produkce@ceskemodelky.cz a do předmětu emailu napište „Hosteska BK – OVA“.
URL:https://bemad.cz/event/brigada-hosteska-burgerking-ostrava/
LOCATION:OC Nová Karolína Ostrava\, Ostrava\, Česká republika
CATEGORIES:Brigády
ATTACH;FMTTYPE=image/jpeg:https://bemad.cz/wp-content/uploads/2017/09/5344d6e76e85d333becb0600.jpg
ORGANIZER;CN="%C4%8Cesk%C3%A9 modelky s.r.o.":MAILTO:produkce@ceskemodelky.cz
END:VEVENT
BEGIN:VEVENT
DTSTART;TZID=Europe/Paris:20170928T090000
DTEND;TZID=Europe/Paris:20170928T190000
DTSTAMP:20260426T051905
CREATED:20170920T194931Z
LAST-MODIFIED:20170920T194931Z
UID:3426-1506589200-1506625200@bemad.cz
SUMMARY:Brigáda: Hosteska Praha & Brno & Ostrava Den otevřených dveří  AAA Auto
DESCRIPTION:Společnost České modelky s.r.o. nabízí brigádu pro hostesky Praha & Brno & Ostrava\nKdy? 28.9.2017 \nČas? 9:00-19:00 \nKde? Showroomy AAA AUTO – akce bude probíhat venku\, mezi auty\, ale je zde zázemí v teple showroomu. Od klienta dostanete teplé fleecové bundy. \nNáplň práce? Rozdávání balónků\,  vyplňování kontaktů do soutěže o auto\, rozdávání letáčků atd. \nHonorář? 100 Kč/hod. čistého – práce na dohodu\, honorář zasíláme na účet \nV případě zájmu prosím pošlete svou foto a telefon a na email produkce@ceskemodelky.cz a do předmětu emailu napište „Hosteska AAA Praha\, Brno nebo Ostrava“ . \nPraha \n \nBrno\n \nOstrava
URL:https://bemad.cz/event/brigada-hosteska-praha-brno-ostrava-den-otevrenych-dveri-aaa-auto/
CATEGORIES:Brigády
ATTACH;FMTTYPE=image/jpeg:https://bemad.cz/wp-content/uploads/2017/09/aaa-showroom.jpg
ORGANIZER;CN="%C4%8Cesk%C3%A9 modelky s.r.o.":MAILTO:produkce@ceskemodelky.cz
END:VEVENT
END:VCALENDAR