BEGIN:VCALENDAR
VERSION:2.0
PRODID:-//Be MAD! Magazín pro hostesky &amp; modelky - ECPv6.6.0.2//NONSGML v1.0//EN
CALSCALE:GREGORIAN
METHOD:PUBLISH
X-WR-CALNAME:Be MAD! Magazín pro hostesky &amp; modelky
X-ORIGINAL-URL:https://bemad.cz
X-WR-CALDESC:Akce na Be MAD! Magazín pro hostesky &amp; modelky
REFRESH-INTERVAL;VALUE=DURATION:PT1H
X-Robots-Tag:noindex
X-PUBLISHED-TTL:PT1H
BEGIN:VTIMEZONE
TZID:Europe/Paris
BEGIN:DAYLIGHT
TZOFFSETFROM:+0100
TZOFFSETTO:+0200
TZNAME:CEST
DTSTART:20180325T010000
END:DAYLIGHT
BEGIN:STANDARD
TZOFFSETFROM:+0200
TZOFFSETTO:+0100
TZNAME:CET
DTSTART:20181028T010000
END:STANDARD
END:VTIMEZONE
BEGIN:VEVENT
DTSTART;TZID=Europe/Paris:20180323T130000
DTEND;TZID=Europe/Paris:20180325T190000
DTSTAMP:20260426T032354
CREATED:20180310T113332Z
LAST-MODIFIED:20180310T113332Z
UID:4225-1521810000-1522004400@bemad.cz
SUMMARY:Brigáda: Hosteska OC MAX Poprad
DESCRIPTION:Společnost České modelky s.r.o. (slovakiamodels .sk) nabízí brigádu pro hostesku z Popradu \nKdy? 23.-25. 3. 2018 13:00-19:00 \nKde? OC MAX Poprad \nCo? Rozdávání letáčků pro AAA Auto\, vyplňování kontaktů do soutěže o auto na víkend\, informování o pobočce \nOdměna? 3\,5 € /hod. \nV případě zájmu prosím pošlete svou foto a telefon a na email produkce@ceskemodelky.cz a do předmětu emailu napište „Hosteska Poprad“ \nProsím\, pouze slečny z Popradu\, nezajišťujeme ani ubytování\, ani dopravu – ani jej neproplácíme. Děkujeme za pochopení.
URL:https://bemad.cz/event/brigada-hosteska-oc-max-poprad/
LOCATION:Česká republika
CATEGORIES:Brigády
ATTACH;FMTTYPE=image/jpeg:https://bemad.cz/wp-content/uploads/2018/01/IMG_20161218_125815.jpg
ORGANIZER;CN="%C4%8Cesk%C3%A9 modelky s.r.o.":MAILTO:produkce@ceskemodelky.cz
END:VEVENT
END:VCALENDAR