BEGIN:VCALENDAR
VERSION:2.0
PRODID:-//Be MAD! Magazín pro hostesky &amp; modelky - ECPv6.6.0.2//NONSGML v1.0//EN
CALSCALE:GREGORIAN
METHOD:PUBLISH
X-WR-CALNAME:Be MAD! Magazín pro hostesky &amp; modelky
X-ORIGINAL-URL:https://bemad.cz
X-WR-CALDESC:Akce na Be MAD! Magazín pro hostesky &amp; modelky
REFRESH-INTERVAL;VALUE=DURATION:PT1H
X-Robots-Tag:noindex
X-PUBLISHED-TTL:PT1H
BEGIN:VTIMEZONE
TZID:Europe/Paris
BEGIN:DAYLIGHT
TZOFFSETFROM:+0100
TZOFFSETTO:+0200
TZNAME:CEST
DTSTART:20170326T010000
END:DAYLIGHT
BEGIN:STANDARD
TZOFFSETFROM:+0200
TZOFFSETTO:+0100
TZNAME:CET
DTSTART:20171029T010000
END:STANDARD
END:VTIMEZONE
BEGIN:VEVENT
DTSTART;VALUE=DATE:20171116
DTEND;VALUE=DATE:20171120
DTSTAMP:20260426T020410
CREATED:20171109T122456Z
LAST-MODIFIED:20171109T122456Z
UID:3884-1510790400-1511135999@bemad.cz
SUMMARY:Brigáda: Hosteska OC Optima Košice
DESCRIPTION:Společnost České modelky s.r.o. (slovakiamodels.sk) nabízí brigádu pro hostesku z Košic \nKdy? 16. a 18.-19.11.2017 13:00-19:00 \nKde? OC Optima Košice \nCo? Rozdávání letáčků pro AAA Auto\, vyplňování kontaktů do soutěže o auto na víkend\, informování o pobočce \nOdměna? 4 € /hod. = celkem 72 € \nV případě zájmu prosím pošlete svou foto a telefon a na email produkce@ceskemodelky.cz a do předmětu emailu napište „Hosteska Košice“ \nProsím\, pouze slečny ze daného města\, nezajišťujeme ani ubytování\, ani dopravu – ani jej neproplácíme. Děkujeme za pochopení.
URL:https://bemad.cz/event/brigada-hosteska-oc-optima-kosice/
LOCATION:Česká republika
CATEGORIES:Brigády
ATTACH;FMTTYPE=image/jpeg:https://bemad.cz/wp-content/uploads/2017/09/aaa-showroom.jpg
ORGANIZER;CN="%C4%8Cesk%C3%A9 modelky s.r.o.":MAILTO:produkce@ceskemodelky.cz
END:VEVENT
BEGIN:VEVENT
DTSTART;TZID=Europe/Paris:20171114T160000
DTEND;TZID=Europe/Paris:20171114T200000
DTSTAMP:20260426T020410
CREATED:20171106T141915Z
LAST-MODIFIED:20171106T141915Z
UID:3836-1510675200-1510689600@bemad.cz
SUMMARY:Brigáda: Hosteska BurgerKing Praha
DESCRIPTION:Společnost České modelky s.r.o. nabízí brigádu pro hostesku v Praze pro BURGER KING  \nKdy? 14.11.2017 16:00-20:00 & 16.11.2017 16:00-20:00 \nKde? OC Harfa Praha \nCo? Rozdávání letáčků \nOdměna? 110 Kč/hod. \nV případě zájmu prosím pošlete svou foto a telefon a na email produkce@ceskemodelky.cz a do předmětu emailu napište „Hosteska BK – Harfa“.
URL:https://bemad.cz/event/brigada-hosteska-burgerking-praha/
LOCATION:Česká republika
CATEGORIES:Brigády
ATTACH;FMTTYPE=image/jpeg:https://bemad.cz/wp-content/uploads/2017/10/bk.jpg
ORGANIZER;CN="%C4%8Cesk%C3%A9 modelky s.r.o.":MAILTO:produkce@ceskemodelky.cz
END:VEVENT
BEGIN:VEVENT
DTSTART;TZID=Europe/Paris:20171105T160000
DTEND;TZID=Europe/Paris:20171105T180000
DTSTAMP:20260426T020410
CREATED:20171031T163717Z
LAST-MODIFIED:20171031T163717Z
UID:3796-1509897600-1509904800@bemad.cz
SUMMARY:Brigáda: Hosteska na fotbal Viktoria Plzeň
DESCRIPTION:Společnost České modelky s.r.o. nabízí brigádu pro 2 hostesky \nKde? Stadion Viktoria Plzeň \nKdy? 5.11.2017 \n\nČas? 2 hostesky 16:00-18:00 \nNáplň práce? Rozdávání letáčků a promo dárečků\, vyplňování kontaktů do soutěže o auto na víkend \nOdměna? 130\,- Kč /hod. \nV případě zájmu prosím pošlete svou foto a telefon a na email produkce@ceskemodelky.cz a do předmětu emailu napište „Hosteska Fotbal Plzeň“ \nPráce je na dohodu\, výplata do 10 dnů na účet.
URL:https://bemad.cz/event/brigada-hosteska-na-fotbal-viktoria-plzen/
LOCATION:Česká republika
CATEGORIES:Brigády
ATTACH;FMTTYPE=image/jpeg:https://bemad.cz/wp-content/uploads/2017/10/Untitled-1.jpg
ORGANIZER;CN="%C4%8Cesk%C3%A9 modelky s.r.o.":MAILTO:produkce@ceskemodelky.cz
END:VEVENT
BEGIN:VEVENT
DTSTART;TZID=Europe/Paris:20171103T150000
DTEND;TZID=Europe/Paris:20171103T180000
DTSTAMP:20260426T020410
CREATED:20171020T174735Z
LAST-MODIFIED:20171020T174735Z
UID:3740-1509721200-1509732000@bemad.cz
SUMMARY:Brigáda: Olomouc - krásné hostesky na otevření BurgerKing
DESCRIPTION:Společnost České modelky s.r.o. hledá 2 hostesky na otevíračku Burger King \n Kdy? 3.11.2017 \n Čas? 15:00-19:00 \n Kde? OC Galerie Šantovka \n Náplň práce? Vítání hostů\, welcome drinky\, sampling burgerů\n \n Honorář ? 130 Kč/hod. čistého\n \n Dress code? Černé legíny a lodičky ?\n \n V případě zájmu zašlete svou fotografii a svůj telefon na email produkce@ceskemodelky.cz a do předmětu uveďte „Hosteska BK Olomouc“ \nKlientovi budeme posílat hostesky k výběru. Vybraným hosteskám se ozveme. 
URL:https://bemad.cz/event/brigada-olomouc-krasne-hostesky-na-otevreni-burgerking/
LOCATION:Česká republika
CATEGORIES:Brigády
ATTACH;FMTTYPE=image/jpeg:https://bemad.cz/wp-content/uploads/2017/10/bk.jpg
ORGANIZER;CN="%C4%8Cesk%C3%A9 modelky s.r.o.":MAILTO:produkce@ceskemodelky.cz
END:VEVENT
BEGIN:VEVENT
DTSTART;TZID=Europe/Paris:20171028T150000
DTEND;TZID=Europe/Paris:20171028T170000
DTSTAMP:20260426T020410
CREATED:20171025T133655Z
LAST-MODIFIED:20171025T133933Z
UID:3764-1509202800-1509210000@bemad.cz
SUMMARY:Brigáda: 4 hostesky na fotbal Liberec
DESCRIPTION:Společnost České modelky s.r.o. nabízí brigádu pro 4 hostesky \nUtkání: FC Slovan Liberec x FK Jablonec \nKde? Stadion Slovanu Liberec – Na Hradbách 1300\, 460 01 Liberec 1 \nKdy? 28.10.2017 \n\nČas? 2 hostesky 15:00-17:00\, 2 hostesky 15:00-18:00 \nNáplň práce? Rozdávání letáčků a promo dárečků\, vyplňování kontaktů do soutěže o auto na víkend \nOdměna? 130\,- Kč /hod. \nV případě zájmu prosím pošlete svou foto a telefon a na email produkce@ceskemodelky.cz a do předmětu emailu napište „Hosteska Fotbal Liberec“ \nPráce je na dohodu\, výplata do 10 dnů na účet.
URL:https://bemad.cz/event/brigada-4-hostesky-na-fotbal-liberec/
LOCATION:Česká republika
CATEGORIES:Brigády
ATTACH;FMTTYPE=image/jpeg:https://bemad.cz/wp-content/uploads/2017/10/Untitled-1.jpg
ORGANIZER;CN="%C4%8Cesk%C3%A9 modelky s.r.o.":MAILTO:produkce@ceskemodelky.cz
END:VEVENT
BEGIN:VEVENT
DTSTART;TZID=Europe/Paris:20171027T160000
DTEND;TZID=Europe/Paris:20171027T200000
DTSTAMP:20260426T020410
CREATED:20171012T131153Z
LAST-MODIFIED:20171012T135219Z
UID:3655-1509120000-1509134400@bemad.cz
SUMMARY:Brigáda: Teplice - krásné hostesky na otevření BurgerKing
DESCRIPTION:Společnost České modelky s.r.o. hledá 2 hostesky na otevíračku Burger King – OC Galerie Teplice \n Kdy? 27.10.2017 \n Čas? 16:00-20:00 \n Kde? OC Galerie Teplice \n Náplň práce? Vítání hostů\, welcome drinky\, sampling pizzy\n \n Honorář ? 130 Kč/hod. čistého\n \n Dress code? Černé legíny a lodičky ?\n \n V případě zájmu zašlete svou fotografii a svůj telefon na email produkce@ceskemodelky.cz a do předmětu uveďte „Hosteska BK Teplice“ \nKlientovi budeme posílat hostesky k výběru. Vybraným hosteskám se ozveme. 
URL:https://bemad.cz/event/brigada-teplice-krasne-hostesky-na-otevreni-burgerking/
LOCATION:Česká republika
CATEGORIES:Brigády
ATTACH;FMTTYPE=image/jpeg:https://bemad.cz/wp-content/uploads/2017/10/bk.jpg
ORGANIZER;CN="%C4%8Cesk%C3%A9 modelky s.r.o.":MAILTO:produkce@ceskemodelky.cz
END:VEVENT
BEGIN:VEVENT
DTSTART;TZID=Europe/Paris:20171021T163000
DTEND;TZID=Europe/Paris:20171021T183000
DTSTAMP:20260426T020410
CREATED:20171019T091318Z
LAST-MODIFIED:20171019T091455Z
UID:3717-1508603400-1508610600@bemad.cz
SUMMARY:Brigáda: 3 hostesky Jablonec nad Nisou
DESCRIPTION:Společnost České modelky s.r.o. nabízí brigádu pro 3 hostesky \nKde? utkání Jablonec – Sparta\, místo konání: Stadion Střelnice\, Jablonec nad Nisou \nKdy? 21.10.2017 \n\nČas? 16:30-18:30 \nNáplň práce? Rozdávání letáčků a promo dárečků\, vyplňování kontaktů do soutěže o auto na víkend \nOdměna? 130\,- Kč /hod. \nV případě zájmu prosím pošlete svou foto a telefon a na email produkce@ceskemodelky.cz a do předmětu emailu napište „Hosteska Fotbal Jablonec nad Nisou“ \nPráce je na dohodu\, výplata do 10 dnů na účet.
URL:https://bemad.cz/event/brigada-3-hostesky-jablonec-nad-nisou/
LOCATION:Česká republika
CATEGORIES:Brigády
ATTACH;FMTTYPE=image/jpeg:https://bemad.cz/wp-content/uploads/2017/10/Untitled-1.jpg
ORGANIZER;CN="%C4%8Cesk%C3%A9 modelky s.r.o.":MAILTO:produkce@ceskemodelky.cz
END:VEVENT
BEGIN:VEVENT
DTSTART;TZID=Europe/Paris:20171020T130000
DTEND;TZID=Europe/Paris:20171029T190000
DTSTAMP:20260426T020410
CREATED:20171011T122308Z
LAST-MODIFIED:20171011T122308Z
UID:3637-1508504400-1509303600@bemad.cz
SUMMARY:Brigáda: Hosteska Košice
DESCRIPTION:Společnost České modelky s.r.o. (slovakiamodels.sk) nabízí brigádu pro hostesku z Košic \nKdy? 20.-22.10.2017\, 27.-29.10.2017 13:00-19:00 \nKde? Aupark Košice \nCo? Rozdávání letáčků pro AAA Auto\, vyplňování kontaktů do soutěže o auto na víkend\, informování o pobočce v Košicích \nOdměna? 4 € /hod.\n \nV případě zájmu prosím pošlete svou foto a telefon a na email produkce@ceskemodelky.cz a do předmětu emailu napište „Hosteska Košice„ \nProsím\, pouze slečny z Košic\, nezajišťujeme ani ubytování\, ani dopravu – ani jej neproplácíme. Děkujeme za pochopení.  \n  \n \n 
URL:https://bemad.cz/event/brigada-hosteska-kosice/
LOCATION:Česká republika
CATEGORIES:Brigády
ATTACH;FMTTYPE=image/jpeg:https://bemad.cz/wp-content/uploads/2017/10/aaa-aupark-košice.jpg
ORGANIZER;CN="%C4%8Cesk%C3%A9 modelky s.r.o.":MAILTO:produkce@ceskemodelky.cz
END:VEVENT
BEGIN:VEVENT
DTSTART;TZID=Europe/Paris:20171019T160000
DTEND;TZID=Europe/Paris:20171019T200000
DTSTAMP:20260426T020410
CREATED:20171018T085644Z
LAST-MODIFIED:20171018T085644Z
UID:3709-1508428800-1508443200@bemad.cz
SUMMARY:Brigáda: Hosteska na rozdávání letáčků Praha
DESCRIPTION:Společnost České modelky s.r.o. nabízí brigádu pro hostesku v PRAZE – OC HARFA pro BURGER KING  \nKdy? 19.10.2017 16:00-20:00 \nKde? OC Harfa Praha \nCo? Rozdávání letáčků \nOdměna? 120 Kč/hod. \nV případě zájmu prosím pošlete svou foto a telefon a na email produkce@ceskemodelky.cz a do předmětu emailu napište „Hosteska BK – Harfa“. \n 
URL:https://bemad.cz/event/brigada-hosteska-na-rozdavani-letacku-praha-2/
LOCATION:Česká republika
CATEGORIES:Brigády
ATTACH;FMTTYPE=image/jpeg:https://bemad.cz/wp-content/uploads/2017/10/bk.jpg
ORGANIZER;CN="%C4%8Cesk%C3%A9 modelky s.r.o.":MAILTO:produkce@ceskemodelky.cz
END:VEVENT
BEGIN:VEVENT
DTSTART;TZID=Europe/Paris:20171013T180000
DTEND;TZID=Europe/Paris:20171013T180000
DTSTAMP:20260426T020410
CREATED:20171010T133322Z
LAST-MODIFIED:20171010T134151Z
UID:3617-1507917600-1507917600@bemad.cz
SUMMARY:Brigáda: Hostesky na fotbal PRAHA
DESCRIPTION:Společnost České modelky s.r.o. nabízí brigádu pro 2 +2 hostesky   \nKde? Fotbalový stadion Bohemians 1905 a AC SPARTA Praha \nKdy? 13.10. & 15.10.2017 \nČas?  \n\n2 hostesky – 13.10.2017 – 18:00-21:00 – Stadion Bohemians\n2 hostesky -15.10.2017 – 16:00-18:00 – Stadion AC Sparta Praha\n\nNáplň práce? Rozdávání letáčků a promo dárečků\, vyplňování kontaktů do soutěže o auto na víkend \nOdměna? 130\,- Kč /hod. \nV případě zájmu prosím pošlete svou foto a telefon a na email produkce@ceskemodelky.cz a do předmětu emailu napište „Hosteska Fotbal Bohemians nebo Sparta“  \nPráce je na dohodu\, výplata do 10 dnů na účet. \n  \n \n  \n  \nStadion Bohemians 13.10.2017 – 18:00-21:00\n\n \n  \nStadion AC Sparta PRAHA 15.10.2017 – 16:00-18:00
URL:https://bemad.cz/event/brigada-hostesky-na-fotbal-praha/
LOCATION:Česká republika
CATEGORIES:Brigády
ATTACH;FMTTYPE=image/jpeg:https://bemad.cz/wp-content/uploads/2017/10/sparta-bohemka.jpg
ORGANIZER;CN="%C4%8Cesk%C3%A9 modelky s.r.o.":MAILTO:produkce@ceskemodelky.cz
END:VEVENT
BEGIN:VEVENT
DTSTART;TZID=Europe/Paris:20171013T173000
DTEND;TZID=Europe/Paris:20171013T213000
DTSTAMP:20260426T020410
CREATED:20171012T135524Z
LAST-MODIFIED:20171018T085442Z
UID:3659-1507915800-1507930200@bemad.cz
SUMMARY:Brigáda: Hosteska na rozdávání letáčků Praha
DESCRIPTION:Společnost České modelky s.r.o. nabízí brigádu pro hostesku v PRAZE – OC HARFA pro BURGER KING  \nKdy? 13.10.2017 17:30-21:30 \nKde? OC Harfa Praha \nCo? Rozdávání letáčků \nOdměna? 120 Kč/hod. \nV případě zájmu prosím pošlete svou foto a telefon a na email produkce@ceskemodelky.cz a do předmětu emailu napište „Hosteska BK – Harfa“.
URL:https://bemad.cz/event/brigada-hosteska-na-rozdavani-letacku-praha/
LOCATION:Česká republika
CATEGORIES:Brigády
ATTACH;FMTTYPE=image/jpeg:https://bemad.cz/wp-content/uploads/2017/09/5344d6e76e85d333becb0600.jpg
ORGANIZER;CN="%C4%8Cesk%C3%A9 modelky s.r.o.":MAILTO:produkce@ceskemodelky.cz
END:VEVENT
BEGIN:VEVENT
DTSTART;TZID=Europe/Paris:20171009T070000
DTEND;TZID=Europe/Paris:20171018T180000
DTSTAMP:20260426T020410
CREATED:20171006T120920Z
LAST-MODIFIED:20171006T122135Z
UID:3583-1507532400-1508349600@bemad.cz
SUMMARY:Brigáda: 2 hostesky na rozdávání perníčků Most & Chomutov & Ústí nad Labem & Teplice & Děčín
DESCRIPTION:Společnost České modelky s.r.o. nabízí brigádu pro 2 hostesky (nebo hostesku a promotéra)  v Mostě & Chomutově & Ústí nad Labem & Teplicích & Děčíně\n \nKde? veřejná prostranství výše uvedených měst \nKdy? 9.10-18.10. 2017 – čas 2 hodiny ráno + 2-3 hodiny odpoledne – čas se dá přizpůsobit Vašim možnostem. Hledáme ale flexibilní a schopné hostesky. Perníčky budou zaslány na Vaši adresu – tudíž si to nelze v polovině promo akce rozmyslet. \nCo? Rozdávání perníčků a letáčků na podporu politické strany \nOdměna? 130 Kč/hod. \nV případě zájmu prosím pošlete svou foto a telefon a na email produkce@ceskemodelky.cz a do předmětu emailu napište „Hosteska Perníčky + město“ \n  \n 
URL:https://bemad.cz/event/brigada-2-hostesky-na-rozdavani-pernicku-most-chomutov-usti-nad-labem-teplice-decin/
LOCATION:Česká republika
CATEGORIES:Brigády
ATTACH;FMTTYPE=image/jpeg:https://bemad.cz/wp-content/uploads/2017/10/pernicky.jpg
ORGANIZER;CN="%C4%8Cesk%C3%A9 modelky s.r.o.":MAILTO:produkce@ceskemodelky.cz
END:VEVENT
BEGIN:VEVENT
DTSTART;TZID=Europe/Paris:20171006T120000
DTEND;TZID=Europe/Paris:20171006T190000
DTSTAMP:20260426T020410
CREATED:20170927T161416Z
LAST-MODIFIED:20170927T161529Z
UID:3497-1507291200-1507316400@bemad.cz
SUMMARY:Brigáda: Hosteska BurgerKing Ostrava
DESCRIPTION:Společnost České modelky s.r.o. nabízí brigádu pro hostesku v OSTRAVĚ pro BURGER KING  \nKdy? 6.10.2017 12:00-19:00 a 14.10.2017 16:00-19:00 \nKde? OC Nová Karolína Ostrava \nCo? Rozdávání letáčků \nOdměna? 100 Kč/hod. \nV případě zájmu prosím pošlete svou foto a telefon a na email produkce@ceskemodelky.cz a do předmětu emailu napište „Hosteska BK – OVA“.
URL:https://bemad.cz/event/brigada-hosteska-burgerking-ostrava/
LOCATION:OC Nová Karolína Ostrava\, Ostrava\, Česká republika
CATEGORIES:Brigády
ATTACH;FMTTYPE=image/jpeg:https://bemad.cz/wp-content/uploads/2017/09/5344d6e76e85d333becb0600.jpg
ORGANIZER;CN="%C4%8Cesk%C3%A9 modelky s.r.o.":MAILTO:produkce@ceskemodelky.cz
END:VEVENT
BEGIN:VEVENT
DTSTART;TZID=Europe/Paris:20171005T100000
DTEND;TZID=Europe/Paris:20171108T180000
DTSTAMP:20260426T020410
CREATED:20170923T204931Z
LAST-MODIFIED:20170923T205031Z
UID:3456-1507197600-1510164000@bemad.cz
SUMMARY:Brigáda: Hosteska Nitra - Autosalón
DESCRIPTION:Společnost České modelky s.r.o. (slovakiamodels.sk) nabízí brigádu pro hostesku na Autosalóně v Nitře \nKdy? 5.-8.10.2017 10:00-18:00 – preferujeme jednu slečnu na všechny dny \nKde? Autosalón Nitra \nCo? Rozdávání letáčků pro AAA Auto\, vyplňování kontaktů do soutěže o auto na víkend\, informování o pobočce v Nitře \nOdměna? 4\,5 € /hod.\n \nV případě zájmu prosím pošlete svou foto a telefon a na email produkce@ceskemodelky.cz a do předmětu emailu napište „Hosteska Nitra„ \nProsím\, pouze slečny z Nitry\, nezajišťujeme ani ubytování\, ani dopravu – ani jej neproplácíme. Děkujeme za pochopení.  \n \n \n 
URL:https://bemad.cz/event/brigada-hosteska-nitra-autosalon/
LOCATION:Agrokomplex Nitra\, Nitra\, Slovensko
CATEGORIES:Brigády
ATTACH;FMTTYPE=image/jpeg:https://bemad.cz/wp-content/uploads/2017/09/nitra.jpg
ORGANIZER;CN="%C4%8Cesk%C3%A9 modelky s.r.o.":MAILTO:produkce@ceskemodelky.cz
END:VEVENT
BEGIN:VEVENT
DTSTART;TZID=Europe/Paris:20171005T100000
DTEND;TZID=Europe/Paris:20171008T180000
DTSTAMP:20260426T020410
CREATED:20171002T092747Z
LAST-MODIFIED:20171002T093410Z
UID:3531-1507197600-1507485600@bemad.cz
SUMMARY:Brigáda: 2 hostesky na Autoshow - PRAHA
DESCRIPTION:Společnost České modelky s.r.o. nabízí brigádu pro hostesku na Autoshow v Praze \nKdy? 5.-8.10.2017 10:00-18:00 – preferujeme jednu slečnu na všechny dny \nKde? Autoshow PRAHA – Výstaviště Holešovice – akce probíhá venku ! \nCo? Rozdávání letáčků pro AAA Auto\, vyplňování kontaktů do soutěže o auto na víkend\, rozdávání balónků a jiných promodárečků \nOdměna? 110\,- Kč /hod.\n \nV případě zájmu prosím pošlete svou foto a telefon a na email produkce@ceskemodelky.cz a do předmětu emailu napište „Hosteska Autoshow Praha“ \nProsím\, pouze slečny z Prahy\, nezajišťujeme ani ubytování\, ani dopravu – ani jej neproplácíme. Děkujeme za pochopení.  \n \n \nO akci?  \nVýstava Autoshow Praha otevře své brány od 5. do 8. října na Výstavišti v nové\, výraznější a modernější podobě. \nCo návštěvníky čeká? \n\nprezentace více než čtyřech desítek značek oficiálně zastoupených na českém trhu\,\nněkolik desítek testovacích vozů\,\nbohatý doprovodný program\,\nprezentaci užitkových vozů\,\ntestovací jízdy\, včetně offroadového parkuru.\n\nPrůmyslový palác bude věnován výhradně osobním automobilům\, které představí multidealeři za podpory dovozců. Venkovní plocha bude určena na prezentaci užitkových vozů a k testovacím jízdám včetně offroadového parkuru. Spodní část areálu bude věnována 2. ročníku srazu upravených vozů Escape6 & Autoshow Praha 2017 Meet\, který bude tradičně probíhat v rámci výstavy Autoshow Praha 2017 na Bruselské cestě. Sraz se uskuteční v sobotu 7.října od 8.00 a bude probíhat do pozdních odpoledních hodin.
URL:https://bemad.cz/event/brigada-2-hostesky-na-autoshow-praha/
LOCATION:Výstaviště Holešovice\, Praha\, Česká republika
CATEGORIES:Brigády
ATTACH;FMTTYPE=image/jpeg:https://bemad.cz/wp-content/uploads/2017/10/autoshowpraha.jpg
ORGANIZER;CN="%C4%8Cesk%C3%A9 modelky s.r.o.":MAILTO:produkce@ceskemodelky.cz
END:VEVENT
BEGIN:VEVENT
DTSTART;TZID=Europe/Paris:20171001T093000
DTEND;TZID=Europe/Paris:20171001T173000
DTSTAMP:20260426T020410
CREATED:20170926T091919Z
LAST-MODIFIED:20170926T091919Z
UID:3484-1506850200-1506879000@bemad.cz
SUMMARY:Brigáda: Hosteska Pardubice Zlatá přilba
DESCRIPTION:Společnost České modelky s.r.o. nabízí brigádu pro 2 hostesky Pardubice \nKdy? 1.10.2017 \nČas? 9:30-17:30 \nKde? Zlatá přilba Pardubice – akce bude probíhat venku. Od klienta dostanete teplé fleecové bundy. \nNáplň práce? Rozdávání balónků\,  vyplňování kontaktů do soutěže o auto\, rozdávání letáčků pro AAA Auto \nHonorář? 100 Kč/hod. čistého – práce na dohodu\, honorář zasíláme na účet \nV případě zájmu prosím pošlete svou foto a telefon a na email produkce@ceskemodelky.cz a do předmětu emailu napište „Hosteska AAA Pardubice“ .
URL:https://bemad.cz/event/brigada-hosteska-pardubice-zlata-prilba/
LOCATION:Zlatá Přilba Pardubice\, ul. Motoristů 300\, Pardubice\, 53006\, Česká republika
CATEGORIES:Brigády
ATTACH;FMTTYPE=image/jpeg:https://bemad.cz/wp-content/uploads/2017/09/prilba.jpg
ORGANIZER;CN="%C4%8Cesk%C3%A9 modelky s.r.o.":MAILTO:produkce@ceskemodelky.cz
END:VEVENT
BEGIN:VEVENT
DTSTART;TZID=Europe/Paris:20170928T090000
DTEND;TZID=Europe/Paris:20170930T190000
DTSTAMP:20260426T020410
CREATED:20170925T095111Z
LAST-MODIFIED:20170925T095111Z
UID:3470-1506589200-1506798000@bemad.cz
SUMMARY:Brigáda: Hosteska Znojmo - Festival dračích lodí
DESCRIPTION:Společnost České modelky s.r.o. nabízí brigádu pro hostesku Znojmo\nKdy? 28.9.2017 & 30.9.2017 \nČas? oba dny 9:00-19:00 \nKde? Festival dračích lodí Znojmo – akce bude probíhat venku. Od klienta dostanete teplé fleecové bundy. \nNáplň práce? Rozdávání balónků\,  vyplňování kontaktů do soutěže o auto\, rozdávání letáčků pro AAA Auto \nHonorář? 100 Kč/hod. čistého – práce na dohodu\, honorář zasíláme na účet \nV případě zájmu prosím pošlete svou foto a telefon a na email produkce@ceskemodelky.cz a do předmětu emailu napište „Hosteska AAA Znojmo“ . \n 
URL:https://bemad.cz/event/brigada-hosteska-znojmo-festival-dracich-lodi/
LOCATION:TJ Znojmo\, Znojmo\, Česká republika
CATEGORIES:Brigády
ATTACH;FMTTYPE=image/jpeg:https://bemad.cz/wp-content/uploads/2017/09/dracilode.jpg
ORGANIZER;CN="%C4%8Cesk%C3%A9 modelky s.r.o.":MAILTO:produkce@ceskemodelky.cz
END:VEVENT
BEGIN:VEVENT
DTSTART;TZID=Europe/Paris:20170928T090000
DTEND;TZID=Europe/Paris:20170928T190000
DTSTAMP:20260426T020410
CREATED:20170920T194931Z
LAST-MODIFIED:20170920T194931Z
UID:3426-1506589200-1506625200@bemad.cz
SUMMARY:Brigáda: Hosteska Praha & Brno & Ostrava Den otevřených dveří  AAA Auto
DESCRIPTION:Společnost České modelky s.r.o. nabízí brigádu pro hostesky Praha & Brno & Ostrava\nKdy? 28.9.2017 \nČas? 9:00-19:00 \nKde? Showroomy AAA AUTO – akce bude probíhat venku\, mezi auty\, ale je zde zázemí v teple showroomu. Od klienta dostanete teplé fleecové bundy. \nNáplň práce? Rozdávání balónků\,  vyplňování kontaktů do soutěže o auto\, rozdávání letáčků atd. \nHonorář? 100 Kč/hod. čistého – práce na dohodu\, honorář zasíláme na účet \nV případě zájmu prosím pošlete svou foto a telefon a na email produkce@ceskemodelky.cz a do předmětu emailu napište „Hosteska AAA Praha\, Brno nebo Ostrava“ . \nPraha \n \nBrno\n \nOstrava
URL:https://bemad.cz/event/brigada-hosteska-praha-brno-ostrava-den-otevrenych-dveri-aaa-auto/
CATEGORIES:Brigády
ATTACH;FMTTYPE=image/jpeg:https://bemad.cz/wp-content/uploads/2017/09/aaa-showroom.jpg
ORGANIZER;CN="%C4%8Cesk%C3%A9 modelky s.r.o.":MAILTO:produkce@ceskemodelky.cz
END:VEVENT
BEGIN:VEVENT
DTSTART;TZID=Europe/Paris:20170923T150000
DTEND;TZID=Europe/Paris:20170923T170000
DTSTAMP:20260426T020410
CREATED:20170919T141233Z
LAST-MODIFIED:20170920T162459Z
UID:3390-1506178800-1506186000@bemad.cz
SUMMARY:Brigáda: Hosteska na fotbalový stadion - Zlín
DESCRIPTION:Společnost České modelky s.r.o. hledá 3 hostesky rozdávání letáčků před fotbalovým zápasem – ZLÍN\nKdy? sobota 23.9.2017\n Čas? 15:00 – 17:00\n Kde? Fotbalový stadion Zlín\nNáplň práce? Rozdávání letáčků a reklamních předmětů\nHonorář ? 130 Kč/hod. čistého\n V případě zájmu zašlete svou fotografii a svůj telefon na email  produkce@ceskemodelky.cz a do předmětu uveďte „Hosteska Fotbal Zlín“
URL:https://bemad.cz/event/brigada-hosteska-na-fotbalovy-stadion-zlin/
LOCATION:Fotbalový Stadion Zlín\, Zlín\, Česká republika
CATEGORIES:Brigády
ATTACH;FMTTYPE=image/jpeg:https://bemad.cz/wp-content/uploads/2017/09/fotbal.jpg
ORGANIZER;CN="%C4%8Cesk%C3%A9 modelky s.r.o.":MAILTO:produkce@ceskemodelky.cz
END:VEVENT
BEGIN:VEVENT
DTSTART;TZID=Europe/Paris:20170923T100000
DTEND;TZID=Europe/Paris:20170924T180000
DTSTAMP:20260426T020410
CREATED:20170918T124230Z
LAST-MODIFIED:20170920T162604Z
UID:3352-1506160800-1506276000@bemad.cz
SUMMARY:Brigáda: Hosteska SK SKALICA
DESCRIPTION:Společnost České modelky s.r.o. nabízí brigádu pro hostesku – Skalica\nKdy? 23.-24.9.2017\nKde? Skalické dny – jarmark\nČas? 10:00-18:00\nNáplň práce? Rozdávání letáčků AAA Auto\, informování zákazníků o pobočce\nHonorář? 4 EUR/hod. – celkem 64 EUR\nV případě zájmu prosím pošlete svou foto a telefon a na email produkce@ceskemodelky.cz a do předmětu emailu napište „Hosteska Skalica“ \n  \n  \n 
URL:https://bemad.cz/event/brigada-hosteska-sk-skalica/
LOCATION:Skalice\, Slovensko
CATEGORIES:Brigády
ATTACH;FMTTYPE=image/jpeg:https://bemad.cz/wp-content/uploads/2017/09/SKALICKÉ-DNY.jpg
ORGANIZER;CN="%C4%8Cesk%C3%A9 modelky s.r.o.":MAILTO:produkce@ceskemodelky.cz
END:VEVENT
BEGIN:VEVENT
DTSTART;TZID=Europe/Paris:20170918T160000
DTEND;TZID=Europe/Paris:20170918T190000
DTSTAMP:20260426T020410
CREATED:20170913T114851Z
LAST-MODIFIED:20170913T175511Z
UID:3311-1505750400-1505761200@bemad.cz
SUMMARY:Brigáda: Hostesky na autogramiádu Kabátů - Plzeň
DESCRIPTION:Společnost České modelky s.r.o. nabízí brigádu pro krásné hostesky \nKde? Plzeň – OC Plaza \nCo? Hosteska pro Burger King –  roznášení letáčků a občerstvení \nKdy? 18.9.2017 16:00-19:00 \nPožadavky? Krásná a spolehlivá slečna – perfektní vystupování a vzhled \n\nOdměna? 130 Kč/hod. \n\nV případě zájmu prosím pošlete svou foto\, výšku a telefon a na email produkce@ceskemodelky.cz a do předmětu emailu napište „Hosteska – BK – Kabát“
URL:https://bemad.cz/event/brigada-hostesky-na-autogramiadu-kabatu-plzen/
LOCATION:OC Plaza Plzeň\, Radčická 2\, Plzeň 3\, Plzeňský\, 30100\, Česká republika
CATEGORIES:Brigády
ATTACH;FMTTYPE=image/jpeg:https://bemad.cz/wp-content/uploads/2017/09/kabat-plzen.jpg
ORGANIZER;CN="%C4%8Cesk%C3%A9 modelky s.r.o.":MAILTO:produkce@ceskemodelky.cz
END:VEVENT
BEGIN:VEVENT
DTSTART;TZID=Europe/Paris:20170917T160000
DTEND;TZID=Europe/Paris:20170917T190000
DTSTAMP:20260426T020410
CREATED:20170912T124929Z
LAST-MODIFIED:20170912T124929Z
UID:3286-1505664000-1505674800@bemad.cz
SUMMARY:Brigáda: 4 hostesky + 1 maskot - fotbal PRAHA
DESCRIPTION:Společnost České modelky s.r.o. nabízí brigádu pro 4 hostesky a 1 maskota  \nKde? Fotbalový stadion Slavia Praha \nKdy? 17.9.2017 \nČas?  \n2 hostesky – uvnitř 16:00-18:00 – dress code – černá minisukně \, černé lodičky a bílá košile či halenka \n2 hostesky venku 16:00-19:00 – dress code – celá v černém (cokoli teplého) \n1 maskot 16:00-19:00 – časté pauzy samozřejmostí \nNáplň práce?  \nHostesky – rozdávání letáčků a promo dárečků \nMaskot – fotografování se s lidmi \nOdměna? 130\,- Kč /hod.\nV případě zájmu prosím pošlete svou foto a telefon a na email produkce@ceskemodelky.cz a do předmětu emailu napište „Hosteska/Maskot Slavia Fotbal“ – napište i o jakou variantu máte zájem.  \nPráce je na dohodu\, výplata do 10 dnů na účet.
URL:https://bemad.cz/event/brigada-4-hostesky-1-maskot-fotbal-praha/
LOCATION:Stadion SK Slavia\, U Slavie 1540/2a\, Praha\, Praha\, 10000\, Česká republika
CATEGORIES:Brigády
ATTACH;FMTTYPE=image/jpeg:https://bemad.cz/wp-content/uploads/2017/09/slavia.jpg
ORGANIZER;CN="%C4%8Cesk%C3%A9 modelky s.r.o.":MAILTO:produkce@ceskemodelky.cz
END:VEVENT
BEGIN:VEVENT
DTSTART;TZID=Europe/Paris:20170916T100000
DTEND;TZID=Europe/Paris:20170916T200000
DTSTAMP:20260426T020410
CREATED:20170909T190736Z
LAST-MODIFIED:20170911T190901Z
UID:3232-1505556000-1505592000@bemad.cz
SUMMARY:Hosteska Burger King - Praha Zličín
DESCRIPTION:Společnost České modelky s.r.o. nabízí brigádu pro hostesku v PRAZE pro BURGER KING\nKdy? 16.9.2017 10:00-20:00\nKde? OC Zličín Praha\nCo? Rozdávání letáčků\nOdměna? 100 Kč/hod. – 1000\,- /den\nV případě zájmu prosím pošlete svou foto a telefon a na email produkce@ceskemodelky.cz a do předmětu emailu napište „Hosteska BK – Zličín.“
URL:https://bemad.cz/event/hosteska-burger-king-praha-zlicin/
LOCATION:OC Metropole Zličín\, Praha\, Česká republika
CATEGORIES:Brigády
ATTACH;FMTTYPE=image/jpeg:https://bemad.cz/wp-content/uploads/2017/09/burger2.jpg
ORGANIZER;CN="%C4%8Cesk%C3%A9 modelky s.r.o.":MAILTO:produkce@ceskemodelky.cz
END:VEVENT
BEGIN:VEVENT
DTSTART;TZID=Europe/Paris:20170909T080000
DTEND;TZID=Europe/Paris:20170910T170000
DTSTAMP:20260426T020410
CREATED:20170905T190317Z
LAST-MODIFIED:20170911T190530Z
UID:3226-1504944000-1505062800@bemad.cz
SUMMARY:Hosteska Burgerfest PRAHA
DESCRIPTION:Společnost České modelky s.r.o. nabízí brigádu pro 1 hostesku PRAHA – BURGER FEST\nKdy? 9.-10.9.2017\nČas? dle programu – 8hod./denně\nKde? VÝSTAVIŠTĚ HOLEŠOVICE PRAHA\nNáplň práce? Rozdávání letáčků a reklamních předmětů AAA Auto\, vyplňování kontaktů (účast v soutěži o auto na víkend)\nHonorář? 100 Kč/hod.\nV případě zájmu prosím pošlete svou foto a telefon a na email produkce@ceskemodelky.cz a do předmětu emailu napište „Hosteska AAA BurgerFest“ .
URL:https://bemad.cz/event/hosteska-burgerfest-praha/
LOCATION:Výstaviště Holešovice\, Praha\, Česká republika
CATEGORIES:Brigády
ATTACH;FMTTYPE=image/jpeg:https://bemad.cz/wp-content/uploads/2017/09/burger.jpg
ORGANIZER;CN="%C4%8Cesk%C3%A9 modelky s.r.o.":MAILTO:produkce@ceskemodelky.cz
END:VEVENT
BEGIN:VEVENT
DTSTART;TZID=Europe/Paris:20170901T180000
DTEND;TZID=Europe/Paris:20170901T210000
DTSTAMP:20260426T020410
CREATED:20170811T191238Z
LAST-MODIFIED:20170911T191250Z
UID:3238-1504288800-1504299600@bemad.cz
SUMMARY:Brigáda: Maskot TRNAVA
DESCRIPTION:Společnost České modelky s.r.o. nabízí brigádu pro 1 MUŽE/PÁNA MASKOTA\nKde? Fotbalový stadion CITY ARENA TRNAVA\nKdy? 1.9.2017 18:00- 21:00 (časté pauzy samozřejmostí\, čistý pracovní čas max.1\,5 hod.)\nCo? fotografování se s lidmi v kostýmu maskota AAA Auto – s Vámi tam budou 4 hostesky\, které budou rozdávat dárečky\, letáčky atd.\nOdměna? 4\,5 EUR /hod.\nV případě zájmu prosím pošlete svou foto a telefon a na email produkce@ceskemodelky.cz a do předmětu emailu napište „Maskot Trnava Fotbal“ .\nPráce je na dohodu\, výplata do 10 dnů na účet.
URL:https://bemad.cz/event/brigada-maskot-trnava/
LOCATION:Trnava City Arena\, Trnava\, Slovensko
CATEGORIES:Brigády
ATTACH;FMTTYPE=image/jpeg:https://bemad.cz/wp-content/uploads/2017/09/21457733_10210041610213633_4990299494801801000_o.jpg
ORGANIZER;CN="%C4%8Cesk%C3%A9 modelky s.r.o.":MAILTO:produkce@ceskemodelky.cz
END:VEVENT
END:VCALENDAR