BEGIN:VCALENDAR
VERSION:2.0
PRODID:-//Be MAD! Magazín pro hostesky &amp; modelky - ECPv6.6.0.2//NONSGML v1.0//EN
CALSCALE:GREGORIAN
METHOD:PUBLISH
X-WR-CALNAME:Be MAD! Magazín pro hostesky &amp; modelky
X-ORIGINAL-URL:https://bemad.cz
X-WR-CALDESC:Akce na Be MAD! Magazín pro hostesky &amp; modelky
REFRESH-INTERVAL;VALUE=DURATION:PT1H
X-Robots-Tag:noindex
X-PUBLISHED-TTL:PT1H
BEGIN:VTIMEZONE
TZID:Europe/Paris
BEGIN:DAYLIGHT
TZOFFSETFROM:+0100
TZOFFSETTO:+0200
TZNAME:CEST
DTSTART:20170326T010000
END:DAYLIGHT
BEGIN:STANDARD
TZOFFSETFROM:+0200
TZOFFSETTO:+0100
TZNAME:CET
DTSTART:20171029T010000
END:STANDARD
END:VTIMEZONE
BEGIN:VEVENT
DTSTART;TZID=Europe/Paris:20171109T160000
DTEND;TZID=Europe/Paris:20171109T235900
DTSTAMP:20260426T045317
CREATED:20171109T101505Z
LAST-MODIFIED:20171109T101519Z
UID:3861-1510243200-1510271940@bemad.cz
SUMMARY:Brigáda: Hosteska na firemní večírek Praha
DESCRIPTION:Společnost České modelky s.r.o. nabízí brigádu pro 1 hostesku na oslavu 20. VÝROČÍ SKANSKA \nKde? Křižíkova Praha 8\nKdy? 9.11.2017 16:00 – 24:00\nNáplň práce? welcome drinky\, rozdávání dárečků při odchodu…\nVýška min. 170 cm\, 36 konfekce\, plynulá AJ\nDress code? Koktejlky a sako od klienta\, vlastní lodičky\nOdměna? 130 Kč/hod.\nV případě zájmu prosím pošlete váš kontaktní telefon a foto na email produkce@ceskemodelky.cz a do předmětu emailu napište „Hosteska – SKANSKA“
URL:https://bemad.cz/event/brigada-hosteska-na-firemni-vecirek-praha/
LOCATION:Česká republika
CATEGORIES:Brigády
ATTACH;FMTTYPE=image/jpeg:https://bemad.cz/wp-content/uploads/2017/09/Untitled-2.jpg
ORGANIZER;CN="%C4%8Cesk%C3%A9 modelky s.r.o.":MAILTO:produkce@ceskemodelky.cz
END:VEVENT
END:VCALENDAR