BEGIN:VCALENDAR
VERSION:2.0
PRODID:-//Be MAD! Magazín pro hostesky &amp; modelky - ECPv6.6.0.2//NONSGML v1.0//EN
CALSCALE:GREGORIAN
METHOD:PUBLISH
X-WR-CALNAME:Be MAD! Magazín pro hostesky &amp; modelky
X-ORIGINAL-URL:https://bemad.cz
X-WR-CALDESC:Akce na Be MAD! Magazín pro hostesky &amp; modelky
REFRESH-INTERVAL;VALUE=DURATION:PT1H
X-Robots-Tag:noindex
X-PUBLISHED-TTL:PT1H
BEGIN:VTIMEZONE
TZID:Europe/Paris
BEGIN:DAYLIGHT
TZOFFSETFROM:+0100
TZOFFSETTO:+0200
TZNAME:CEST
DTSTART:20210328T010000
END:DAYLIGHT
BEGIN:STANDARD
TZOFFSETFROM:+0200
TZOFFSETTO:+0100
TZNAME:CET
DTSTART:20211031T010000
END:STANDARD
END:VTIMEZONE
BEGIN:VEVENT
DTSTART;TZID=Europe/Paris:20210902T160000
DTEND;TZID=Europe/Paris:20210902T190000
DTSTAMP:20260426T032838
CREATED:20210830T203149Z
LAST-MODIFIED:20210830T204206Z
UID:5344-1630598400-1630609200@bemad.cz
SUMMARY:Brigáda: hosteska teambuilding Praha
DESCRIPTION:Společnost České modelky s.r.o. nabízí brigádu pro hostesky na teambuildingovou akci  – PRAHA\nKdy? 2.9.2021 – 16:00-19:00\nKde?  Praha  – Žluté lázně\nNáplň práce? obsluhu jedné z jednoduchých disciplín teambuildingu\nHonorář? 180 Kč/hod.\nPožadavky? Milé\, komunikativní slečny\nV případě zájmu prosím pošlete svou foto a telefon a na email produkce@ceskemodelky.cz a do předmětu emailu napište „Hosteska Praha Žluté lázně“ .
URL:https://bemad.cz/event/brigada-hosteska-teambuilding-praha/
LOCATION:Praha\, Česká republika
CATEGORIES:Brigády
ATTACH;FMTTYPE=image/png:https://bemad.cz/wp-content/uploads/2021/08/images.png
ORGANIZER;CN="%C4%8Cesk%C3%A9 modelky s.r.o.":MAILTO:produkce@ceskemodelky.cz
END:VEVENT
END:VCALENDAR