BEGIN:VCALENDAR
VERSION:2.0
PRODID:-//Be MAD! Magazín pro hostesky &amp; modelky - ECPv6.6.0.2//NONSGML v1.0//EN
CALSCALE:GREGORIAN
METHOD:PUBLISH
X-ORIGINAL-URL:https://bemad.cz
X-WR-CALDESC:Akce na Be MAD! Magazín pro hostesky &amp; modelky
REFRESH-INTERVAL;VALUE=DURATION:PT1H
X-Robots-Tag:noindex
X-PUBLISHED-TTL:PT1H
BEGIN:VTIMEZONE
TZID:Europe/Paris
BEGIN:DAYLIGHT
TZOFFSETFROM:+0100
TZOFFSETTO:+0200
TZNAME:CEST
DTSTART:20180325T010000
END:DAYLIGHT
BEGIN:STANDARD
TZOFFSETFROM:+0200
TZOFFSETTO:+0100
TZNAME:CET
DTSTART:20181028T010000
END:STANDARD
END:VTIMEZONE
BEGIN:VEVENT
DTSTART;TZID=Europe/Paris:20180526T080000
DTEND;TZID=Europe/Paris:20180526T160000
DTSTAMP:20260426T031451
CREATED:20180418T081722Z
LAST-MODIFIED:20180418T081854Z
UID:4369-1527321600-1527350400@bemad.cz
SUMMARY:Brigáda: Hosteska - Tenisový Areál LTC - Hradec Králové
DESCRIPTION:Společnost České modelky s.r.o. hledá komunikativní hostesku pro AAA Auto a.s. \nKdy? 26.5.2018 \nČas? 8:00-16:00 \nKde? Tenisový Areál LTC – Hradec Králové \nNáplň práce?  Rozdávání letáčků\, vyplňování kontaktů do soutěže o auto na víkend \nHonorář ? 110 Kč/hod. čistého \n V případě zájmu zašlete svou fotografii a svůj telefon na email  produkce@ceskemodelky.cz a do předmětu uveďte „Hosteska AAA Tenis“ \n \n 
URL:https://bemad.cz/event/brigada-hosteska-tenisovy-areal-ltc-hradec-kralove/
LOCATION:Česká republika
CATEGORIES:Brigády
ATTACH;FMTTYPE=image/jpeg:https://bemad.cz/wp-content/uploads/2018/04/tenis1.jpg
ORGANIZER;CN="%C4%8Cesk%C3%A9 modelky s.r.o.":MAILTO:produkce@ceskemodelky.cz
END:VEVENT
END:VCALENDAR