BEGIN:VCALENDAR
VERSION:2.0
PRODID:-//Be MAD! Magazín pro hostesky &amp; modelky - ECPv6.6.0.2//NONSGML v1.0//EN
CALSCALE:GREGORIAN
METHOD:PUBLISH
X-WR-CALNAME:Be MAD! Magazín pro hostesky &amp; modelky
X-ORIGINAL-URL:https://bemad.cz
X-WR-CALDESC:Akce na Be MAD! Magazín pro hostesky &amp; modelky
REFRESH-INTERVAL;VALUE=DURATION:PT1H
X-Robots-Tag:noindex
X-PUBLISHED-TTL:PT1H
BEGIN:VTIMEZONE
TZID:Europe/Paris
BEGIN:DAYLIGHT
TZOFFSETFROM:+0100
TZOFFSETTO:+0200
TZNAME:CEST
DTSTART:20170326T010000
END:DAYLIGHT
BEGIN:STANDARD
TZOFFSETFROM:+0200
TZOFFSETTO:+0100
TZNAME:CET
DTSTART:20171029T010000
END:STANDARD
BEGIN:DAYLIGHT
TZOFFSETFROM:+0100
TZOFFSETTO:+0200
TZNAME:CEST
DTSTART:20180325T010000
END:DAYLIGHT
BEGIN:STANDARD
TZOFFSETFROM:+0200
TZOFFSETTO:+0100
TZNAME:CET
DTSTART:20181028T010000
END:STANDARD
END:VTIMEZONE
BEGIN:VEVENT
DTSTART;TZID=Europe/Paris:20180512T100000
DTEND;TZID=Europe/Paris:20180512T180000
DTSTAMP:20260426T045217
CREATED:20180502T173217Z
LAST-MODIFIED:20180502T173217Z
UID:4445-1526119200-1526148000@bemad.cz
SUMMARY:Brigáda: Hosteska na VIII. Ústecký pivní jarmark
DESCRIPTION:Společnost České modelky s.r.o. hledá komunikativní hostesku pro AAA Auto a.s. \nKdy? 12.5.2018 \nČas? 10:00-18:00 \nKde? Kostelní nám. (u OC FORUM) Ústí nad Labem \nNáplň práce?  Rozdávání letáčků\, vyplňování kontaktů do soutěže o auto na víkend \nHonorář ? 110 Kč/hod. čistého \n V případě zájmu zašlete svou fotografii a svůj telefon na email  produkce@ceskemodelky.cz a do předmětu uveďte „Hosteska AAA Pivní Jarmark“
URL:https://bemad.cz/event/brigada-hosteska-na-viii-ustecky-pivni-jarmark/
LOCATION:Česká republika
CATEGORIES:Brigády
ATTACH;FMTTYPE=image/jpeg:https://bemad.cz/wp-content/uploads/2018/05/pivo.jpg
ORGANIZER;CN="%C4%8Cesk%C3%A9 modelky s.r.o.":MAILTO:produkce@ceskemodelky.cz
END:VEVENT
BEGIN:VEVENT
DTSTART;VALUE=DATE:20171117
DTEND;VALUE=DATE:20171120
DTSTAMP:20260426T045217
CREATED:20171109T113012Z
LAST-MODIFIED:20171109T113012Z
UID:3874-1510876800-1511135999@bemad.cz
SUMMARY:Brigáda: Hosteska OC Forum Ústí nad Labem
DESCRIPTION:Společnost České modelky s.r.o.  nabízí brigádu pro hostesku z Ústí nad Labem \nKdy? 17.-19.11.2017 cca 10:00-18:00 (bude upřesněno) \nKde? OC Forum Ústí nad Labem*\n*uvnitř OC \nCo? Rozdávání letáčků pro AAA Auto\, vyplňování kontaktů do soutěže o auto na víkend\, informování o pobočce \nOdměna? 100 Kč/hod. \nV případě zájmu prosím pošlete svou foto a telefon a na email produkce@ceskemodelky.cz a do předmětu emailu napište „Hosteska AAA Ústí nad Labem“ \nProsím\, pouze slečny z daného města\, nezajišťujeme ani ubytování\, ani dopravu – ani jej neproplácíme. Děkujeme za pochopení.
URL:https://bemad.cz/event/brigada-hosteska-oc-forum-usti-nad-labem/
LOCATION:Česká republika
CATEGORIES:Brigády
ATTACH;FMTTYPE=image/jpeg:https://bemad.cz/wp-content/uploads/2017/11/forum-usti.jpg
ORGANIZER;CN="%C4%8Cesk%C3%A9 modelky s.r.o.":MAILTO:produkce@ceskemodelky.cz
END:VEVENT
BEGIN:VEVENT
DTSTART;TZID=Europe/Paris:20171009T070000
DTEND;TZID=Europe/Paris:20171018T180000
DTSTAMP:20260426T045217
CREATED:20171006T120920Z
LAST-MODIFIED:20171006T122135Z
UID:3583-1507532400-1508349600@bemad.cz
SUMMARY:Brigáda: 2 hostesky na rozdávání perníčků Most & Chomutov & Ústí nad Labem & Teplice & Děčín
DESCRIPTION:Společnost České modelky s.r.o. nabízí brigádu pro 2 hostesky (nebo hostesku a promotéra)  v Mostě & Chomutově & Ústí nad Labem & Teplicích & Děčíně\n \nKde? veřejná prostranství výše uvedených měst \nKdy? 9.10-18.10. 2017 – čas 2 hodiny ráno + 2-3 hodiny odpoledne – čas se dá přizpůsobit Vašim možnostem. Hledáme ale flexibilní a schopné hostesky. Perníčky budou zaslány na Vaši adresu – tudíž si to nelze v polovině promo akce rozmyslet. \nCo? Rozdávání perníčků a letáčků na podporu politické strany \nOdměna? 130 Kč/hod. \nV případě zájmu prosím pošlete svou foto a telefon a na email produkce@ceskemodelky.cz a do předmětu emailu napište „Hosteska Perníčky + město“ \n  \n 
URL:https://bemad.cz/event/brigada-2-hostesky-na-rozdavani-pernicku-most-chomutov-usti-nad-labem-teplice-decin/
LOCATION:Česká republika
CATEGORIES:Brigády
ATTACH;FMTTYPE=image/jpeg:https://bemad.cz/wp-content/uploads/2017/10/pernicky.jpg
ORGANIZER;CN="%C4%8Cesk%C3%A9 modelky s.r.o.":MAILTO:produkce@ceskemodelky.cz
END:VEVENT
END:VCALENDAR