BEGIN:VCALENDAR
VERSION:2.0
PRODID:-//Be MAD! Magazín pro hostesky &amp; modelky - ECPv6.6.0.2//NONSGML v1.0//EN
CALSCALE:GREGORIAN
METHOD:PUBLISH
X-ORIGINAL-URL:https://bemad.cz
X-WR-CALDESC:Akce na Be MAD! Magazín pro hostesky &amp; modelky
REFRESH-INTERVAL;VALUE=DURATION:PT1H
X-Robots-Tag:noindex
X-PUBLISHED-TTL:PT1H
BEGIN:VTIMEZONE
TZID:Europe/Paris
BEGIN:DAYLIGHT
TZOFFSETFROM:+0100
TZOFFSETTO:+0200
TZNAME:CEST
DTSTART:20180325T010000
END:DAYLIGHT
BEGIN:STANDARD
TZOFFSETFROM:+0200
TZOFFSETTO:+0100
TZNAME:CET
DTSTART:20181028T010000
END:STANDARD
END:VTIMEZONE
BEGIN:VEVENT
DTSTART;VALUE=DATE:20180903
DTEND;VALUE=DATE:20181004
DTSTAMP:20260426T034229
CREATED:20180820T105133Z
LAST-MODIFIED:20180820T105515Z
UID:4702-1535932800-1538611199@bemad.cz
SUMMARY:Brigáda: Září 2018 hostesky & promotéři PRAHA - Volební kampaň
DESCRIPTION:Obsazujeme jednu z našich největších letošních akcí. Nenechte si to ujít! \nSpolečnost České modelky s.r.o. nabízí brigádu pro hostesky a promotéry z PRAHY \nKdy? Níže v tabulce\nČas? Níže v tabulce\nKde? Níže v tabulce\nCo? Výpomoc při volebních kampaních – rozdávání letáčků\, balónků\, podávání mikrofonu moderátorovi atd.\nOdměna? 120 Kč/hod. čistého\nPožadavky? Sympatické\, milé\, komunikativní hostesky či promotéři  \n\n\n\nDatum\n14:00-20:00 (čas začátku se může posunout v rozmezí 12:00-17:00\n8:00-11:00\n15:00-18:00\n\n\n4.9.2018\n\nPraha 11\n\n\n\n5.9.2018\n\n\nPraha 13\n\n\n6.9.2018\nPraha 4\n\n\n\n\n7.9.2018\n\nPraha 11\n\n\n\n9.9.2018\nModřany\n\n\n\n\n10.9.2018\n\n\nPraha 8\n\n\n11.9.2018\nLádví\n\n\n\n\n12.9.2018\nŘepy\n\n\n\n\n13.9.2018\n\n\nPraha 14\n\n\n14.9.2018\nPraha 4\n\n\n\n\n15.9.2018\nLetňany\n\n\n\n\n16.9.2018\nHáje\n\n\n\n\n17.9.2018\n\nPraha 18\n\n\n\n18.9.2018\nBarrandov\n\n\n\n\n19.9.2018\n\nPraha 13\n\n\n\n20.9.2018\n\n\nPraha 17\n\n\n21.9.2018\nProsek\n\n\n\n\n22.9.2018\nČerný most\n\n\n\n\n23.9.2018\nBohnice\n\n\n\n\n24.9.2018\n\nPraha 9\n\n\n\n25.9.2018\nHostivař\n\n\n\n\n26.9.2018\nPraha 13\n\n\n\n\n27.9.2018\n\n\nPraha 5\n\n\n28.9.2018\n\n\n\n\n\n29.9.2018\n\n\n\n\n\n30.9.2018\nPraha 10 Záběhlice\n\n\n\n\n1.10.2018\n\nPraha 15\n\n\n\n2.10.2018\nHáje\n\n\n\n\n3.10.2018\n\nPraha 12\n\n\n\n\n  \nV případě zájmu prosím pošlete svou foto a telefon a na email produkce@ceskemodelky.cz a do předmětu emailu napište „Hosteska/promotér VOLBY + datum “ \nNa každou lokaci je třeba 2-6 hostesek\, klidně se hlaste i s kamarádkami. \n \n 
URL:https://bemad.cz/event/brigada-zari-2018-hostesky-promoteri-praha-volebni-kampan/
LOCATION:Česká republika
CATEGORIES:Brigády
ATTACH;FMTTYPE=image/jpeg:https://bemad.cz/wp-content/uploads/2018/08/36819-O0ZQDJ.jpg
ORGANIZER;CN="%C4%8Cesk%C3%A9 modelky s.r.o.":MAILTO:produkce@ceskemodelky.cz
END:VEVENT
END:VCALENDAR