BEGIN:VCALENDAR
VERSION:2.0
PRODID:-//Be MAD! Magazín pro hostesky &amp; modelky - ECPv6.6.0.2//NONSGML v1.0//EN
CALSCALE:GREGORIAN
METHOD:PUBLISH
X-WR-CALNAME:Be MAD! Magazín pro hostesky &amp; modelky
X-ORIGINAL-URL:https://bemad.cz
X-WR-CALDESC:Akce na Be MAD! Magazín pro hostesky &amp; modelky
REFRESH-INTERVAL;VALUE=DURATION:PT1H
X-Robots-Tag:noindex
X-PUBLISHED-TTL:PT1H
BEGIN:VTIMEZONE
TZID:Europe/Paris
BEGIN:DAYLIGHT
TZOFFSETFROM:+0100
TZOFFSETTO:+0200
TZNAME:CEST
DTSTART:20170326T010000
END:DAYLIGHT
BEGIN:STANDARD
TZOFFSETFROM:+0200
TZOFFSETTO:+0100
TZNAME:CET
DTSTART:20171029T010000
END:STANDARD
END:VTIMEZONE
BEGIN:VEVENT
DTSTART;VALUE=DATE:20171130
DTEND;VALUE=DATE:20171201
DTSTAMP:20260426T043628
CREATED:20171124T180916Z
LAST-MODIFIED:20171124T185343Z
UID:3967-1512000000-1512086399@bemad.cz
SUMMARY:Brigáda: Hostess Wroclaw PL
DESCRIPTION:The Company České Modelky s.r.o. – www.polandmodels.eu offers a brigade for hostesses from Wroclaw \nWhen? 30.11.2017 7: 00-9: 00 & 15: 30-17: 30 \nWhere? before an IT company – works outdoors in a couple (2 hostesses) \nWhat?What? Handing out recruitment leaflets \nPay? 25 zł / hour \nIn case of interest\, please send your photo and phone by e-mail produkce@ceskemodelky.cz and enter the subject „Hostess IT Wroclaw“ \nPlease\, only ladies from that city\, we do not provide accommodation or transport. Thank you for your understanding. \n \n  \nSpolečnost České modelky s.r.o. – http://www.polandmodels.eu nabízí brigádu pro hostesky z Wroclawi \nKdy? 30.11.2017 7:00-9:00 & 15:30-17:30 \nKde? před IT společností (adresu dodáme) – pracuje se venku ve dvojici \nCo? Rozdávání náborových letáčků \nOdměna? 25 zł /hod. \nV případě zájmu prosím pošlete svou foto a telefon a na email produkce@ceskemodelky.cz a do předmětu emailu napište „Hosteska IT Wroclaw“ \nProsím\, pouze slečny z daného města\, nezajišťujeme ani ubytování\, ani dopravu – ani jej neproplácíme. Děkujeme za pochopení.
URL:https://bemad.cz/event/brigada-hosteska-wroclaw-pl/
LOCATION:Česká republika
CATEGORIES:Brigády
ATTACH;FMTTYPE=image/jpeg:https://bemad.cz/wp-content/uploads/2017/11/vvv.jpg
ORGANIZER;CN="%C4%8Cesk%C3%A9 modelky s.r.o.":MAILTO:produkce@ceskemodelky.cz
END:VEVENT
END:VCALENDAR