BEGIN:VCALENDAR
VERSION:2.0
PRODID:-//Be MAD! Magazín pro hostesky &amp; modelky - ECPv6.6.0.2//NONSGML v1.0//EN
CALSCALE:GREGORIAN
METHOD:PUBLISH
X-WR-CALNAME:Be MAD! Magazín pro hostesky &amp; modelky
X-ORIGINAL-URL:https://bemad.cz
X-WR-CALDESC:Akce na Be MAD! Magazín pro hostesky &amp; modelky
REFRESH-INTERVAL;VALUE=DURATION:PT1H
X-Robots-Tag:noindex
X-PUBLISHED-TTL:PT1H
BEGIN:VTIMEZONE
TZID:Europe/Paris
BEGIN:DAYLIGHT
TZOFFSETFROM:+0100
TZOFFSETTO:+0200
TZNAME:CEST
DTSTART:20180325T010000
END:DAYLIGHT
BEGIN:STANDARD
TZOFFSETFROM:+0200
TZOFFSETTO:+0100
TZNAME:CET
DTSTART:20181028T010000
END:STANDARD
BEGIN:DAYLIGHT
TZOFFSETFROM:+0100
TZOFFSETTO:+0200
TZNAME:CEST
DTSTART:20190331T010000
END:DAYLIGHT
BEGIN:STANDARD
TZOFFSETFROM:+0200
TZOFFSETTO:+0100
TZNAME:CET
DTSTART:20191027T010000
END:STANDARD
BEGIN:DAYLIGHT
TZOFFSETFROM:+0100
TZOFFSETTO:+0200
TZNAME:CEST
DTSTART:20200329T010000
END:DAYLIGHT
BEGIN:STANDARD
TZOFFSETFROM:+0200
TZOFFSETTO:+0100
TZNAME:CET
DTSTART:20201025T010000
END:STANDARD
END:VTIMEZONE
BEGIN:VEVENT
DTSTART;TZID=Europe/Paris:20200912T100000
DTEND;TZID=Europe/Paris:20200912T180000
DTSTAMP:20260426T034631
CREATED:20200902T094800Z
LAST-MODIFIED:20200902T094800Z
UID:5203-1599904800-1599933600@bemad.cz
SUMMARY:Brigáda: 2 hostesky VW Zdice
DESCRIPTION:Společnost České modelky s.r.o. hledá 2 komunikativní hostesky pro Volkswagen Financial Services na akci – Městské slavnosti Zdice \nKdy? 12.9.2020 \nČas? 10:00-18:00 \nKde? Zdice \nNáplň práce? Informování o možnosti financování nových vozů (práce s iPadem) \nHonorář ? 130 Kč/hod. čistého \n V případě zájmu zašlete svou fotografii a svůj telefon na email  produkce@ceskemodelky.cz a do předmětu uveďte „Hosteska VW Zdice“ \nda: \n  \n \n 
URL:https://bemad.cz/event/brigada-2-hostesky-vw-zdice/
LOCATION:Česká republika
CATEGORIES:Brigády
ATTACH;FMTTYPE=image/jpeg:https://bemad.cz/wp-content/uploads/2020/09/mestske-slavnosti-2020-2.jpg
ORGANIZER;CN="%C4%8Cesk%C3%A9 modelky s.r.o.":MAILTO:produkce@ceskemodelky.cz
END:VEVENT
BEGIN:VEVENT
DTSTART;TZID=Europe/Paris:20180609T120000
DTEND;TZID=Europe/Paris:20180609T200000
DTSTAMP:20260426T034631
CREATED:20180602T115641Z
LAST-MODIFIED:20180602T115721Z
UID:4539-1528545600-1528574400@bemad.cz
SUMMARY:Brigáda: 2 hostesky na Městské slavnosti ve Zdicích
DESCRIPTION:Společnost České modelky s.r.o. hledá 2 komunikativní hostesky pro Volkswagen Financial Services na Městské slavnosti ve Zdicích \nKdy? 9.6.2018 \nČas? 12:00-20:00 \nKde? Zdice \nNáplň práce? Informování o možnosti financování nových vozů (práce s iPadem) \nHonorář ? 110 Kč/hod. čistého \n V případě zájmu zašlete svou fotografii a svůj telefon na email  produkce@ceskemodelky.cz a do předmětu uveďte „Hosteska Zdice“ \n  \n \n 
URL:https://bemad.cz/event/brigada-2-hostesky-na-mestske-slavnosti-ve-zdicich/
LOCATION:Česká republika
CATEGORIES:Brigády
ATTACH;FMTTYPE=image/jpeg:https://bemad.cz/wp-content/uploads/2018/06/mestske-slavnosti-2018-v1.jpg
ORGANIZER;CN="%C4%8Cesk%C3%A9 modelky s.r.o.":MAILTO:produkce@ceskemodelky.cz
END:VEVENT
END:VCALENDAR